BEGIN:VCALENDAR
VERSION:2.0
PRODID:-//VisitPivka - ECPv6.15.20//NONSGML v1.0//EN
CALSCALE:GREGORIAN
METHOD:PUBLISH
X-WR-CALNAME:VisitPivka
X-ORIGINAL-URL:https://visitpivka.si/en/
X-WR-CALDESC:Events for VisitPivka
REFRESH-INTERVAL;VALUE=DURATION:PT1H
X-Robots-Tag:noindex
X-PUBLISHED-TTL:PT1H
BEGIN:VTIMEZONE
TZID:UTC
BEGIN:STANDARD
TZOFFSETFROM:+0000
TZOFFSETTO:+0000
TZNAME:UTC
DTSTART:20240101T000000
END:STANDARD
END:VTIMEZONE
BEGIN:VEVENT
DTSTART;TZID=UTC:20250702T180000
DTEND;TZID=UTC:20250702T220000
DTSTAMP:20260425T132021
CREATED:20250701T094559Z
LAST-MODIFIED:20250701T094848Z
UID:25999-1751479200-1751493600@visitpivka.si
SUMMARY:SMUGGLER'S EVENINGS: a summer adventure with Martin Krpan
DESCRIPTION:This summer\, embark on a storytelling experience like no other. Smuggler’s Evenings with Martin Krpan offer a unique blend of cultural heritage\, scenic hiking\, and authentic local cuisine — all wrapped into one unforgettable evening.Join us in the Pivka Basin\, where Slovenia’s legendary rogue and salt smuggler Martin Krpan will lead you along mysterious trails\, share tales of bravery and rebellion\, and bring to life the rich stories of the karst landscape. \nWho is Martin Krpan? He’s not your ordinary hero. Born in a small Slovenian village\, Krpan became a folk legend for his strength\, wit\, and resistance against imperial power. Known for secretly transporting salt across borders\, he was once called upon to save the Emperor himself. With muscle and mind\, he defeated the terrifying giant Brdavs — and earned a place in every Slovenian heart. \nEvening Highlights: \nExplore the Ecomuseum of the Seasonal Lakes of Pivka (1.5 h): Begin your journey with an engaging\, humorous tour through one of Slovenia’s most fascinating natural wonders. Learn about disappearing lakes and the mysteries of the karst world. \nHike to the enchanting Petelinjsko Lake (1.5 h): Step into Krpan’s boots and follow scenic paths to one of the region’s most iconic intermittent lakes. Hear smuggler tales\, secret routes\, and the legend behind the land. \nLocal tasting at Žužek Farm (1 h): Every great story ends with a great meal. Indulge in a tasting of handmade cheeses\, dry-cured meats\, and seasonal farm delights — a true flavour of the Slovenian countryside. \nUseful Information: \n\nBring suitable walking shoes\nTours run in all weather\nLimited capacity – advance booking required\n\nPrice:25\,00€ / person \nPayment method:Tickets for the tour are to be paid on-site at the Ecomuseum before the tour. Both cash and card payments are accepted. \nDuration:~4 hours \nLanguage:English \nMeeting point and time:Ecomuseum of the Seasonal lakes of Pivka at 18.00 \nRegistration and information: https://forms.gle/QmNFhv78ktRZJ7Pn9 \nWhether you’re a curious traveler\, a culture seeker\, or a family looking for a magical evening\, Smuggler’s Evenings will take you deep into Slovenia’s soul — with laughter\, legends\, and a touch of rebellion. Are you ready to join the adventure? \n  \nDisclaimer: Tours will be carried out only if a minimum of 8 participants per tour is reached. In the event of insufficient registrations\, the organizer reserves the right to cancel or reschedule the tour. Participants who have already registered will be notified in advance\, at least an hour before the scheduled tour.
URL:https://visitpivka.si/en/dogodek/smugglers-evenings-a-summer-adventure-with-martin-krpan/
LOCATION:Ekomuzej Pivških presihajočih jezer\, Slovenska vas 10\, Pivka\, 6257\, Slovenia
CATEGORIES:guided tour
ATTACH;FMTTYPE=image/png:https://visitpivka.si/wp-content/uploads/2025/07/Experience-Pivka-events_A3-1920-x-1080-px.png
ORGANIZER;CN="Zavod za turizem Pivka":MAILTO:info@visitpivka.si
END:VEVENT
END:VCALENDAR