BEGIN:VCALENDAR
VERSION:2.0
PRODID:-//VisitPivka - ECPv6.15.20//NONSGML v1.0//EN
CALSCALE:GREGORIAN
METHOD:PUBLISH
X-WR-CALNAME:VisitPivka
X-ORIGINAL-URL:https://visitpivka.si
X-WR-CALDESC:Dogodki za VisitPivka
REFRESH-INTERVAL;VALUE=DURATION:PT1H
X-Robots-Tag:noindex
X-PUBLISHED-TTL:PT1H
BEGIN:VTIMEZONE
TZID:UTC
BEGIN:STANDARD
TZOFFSETFROM:+0000
TZOFFSETTO:+0000
TZNAME:UTC
DTSTART:20230101T000000
END:STANDARD
END:VTIMEZONE
BEGIN:VEVENT
DTSTART;TZID=UTC:20241205T190000
DTEND;TZID=UTC:20241205T203000
DTSTAMP:20260425T124948
CREATED:20241202T092943Z
LAST-MODIFIED:20241202T092943Z
UID:22661-1733425200-1733430600@visitpivka.si
SUMMARY:Nekoč v Posočju (dokumentarni film)
DESCRIPTION:Hipnotično poetičen film o staroverstvu v Posočju\, ki se je iz roda v rod prenašalo samo z ustnim izročilom. Film Eme Kugler temelji na gradivu\, ki ga je dolga leta zbiral Pavel Medvešček in nato izdal v knjigi Iz nevidne strani neba (2015).\nFilm govori o staroverstvu v Posočju\, za katerega pa se ne ve\, kdaj se je pojavilo. Ve se le to\, in to je dokumentirano\, da so leta 1331 iz Čedada prišli prinašalci nove vere – krščanstva. Tako se je v Posočju začelo nasilno pokristjanjevanje starovercev\, ki je trajalo dolgo. Pokristjanjevanje je bilo izjemno nasilno. Rušili so njihova svetišča in staroverce ne samo preganjali\, mnogo so jih tudi pobili. Zaradi tega je staroverstvo\, da bi ga ohranili\, postala skrita vera in staroverci so se zavezali k molku. Ta vera je preživela samo zato\, ker so razvili visoko umetnost prikrivanja\, pretvarjanja in zavajanja. In to je veljalo tako za ljudi kot so bile skrivnost tudi lokacije svetišč\, svetih mest\, še posebno so pa v tajnosti držali obrede. Zaradi vsega tega se je vedenje o stari veri ohranilo izključno v obliki ustnega izročila\, ki se je prenašalo iz roda v rod..\nscenaristka in režiserka Ema Kugler\, avtor glasbe Robert Jiša\, direktorja fotografije Lev Predan Kowarski ZFS\, Dejan Ulaga\, oblikovalec zvoka Boštjan Kačičnik\, montažerka Ema Kugler\, glavni animator risanke Matej Lavrenčič\, nastopajoči Ivan Peternelj\, Aino Aalto\, Matija Vastl\, Blaž Šef\, Klemen Kovačič\, Kristjan Guček Zdravko Duša\, Sebastjan Starič\, Dušan Teropšič\, glasovi Ivan Peternelj\, Romana Šalehar\, Andrej Rozman –Roza\, Janez Škof\, Ivo Barišič\, produkacija ZANK\, distribucija Demiurg
URL:https://visitpivka.si/dogodek/nekoc-v-posocju/
LOCATION:Kino Pivka\, Prečna ulica 1\, Pivka\, Slovenija\, 6257\, Slovenia
CATEGORIES:Kino
ATTACH;FMTTYPE=image/jpeg:https://visitpivka.si/wp-content/uploads/2024/12/Nekoc-v-Posocju-5.12.2024.jpg
ORGANIZER;CN="Kino Pivka":MAILTO:kino.pivka@pivka.si
END:VEVENT
BEGIN:VEVENT
DTSTART;TZID=UTC:20241205T170000
DTEND;TZID=UTC:20241205T190000
DTSTAMP:20260425T124948
CREATED:20241202T091057Z
LAST-MODIFIED:20241202T091219Z
UID:22648-1733418000-1733425200@visitpivka.si
SUMMARY:Delavnica izdelovanja lučk
DESCRIPTION:V četrtek\, 5. decembra 2024 ob 17.00 bo v Krpanovem domu veselo\, saj se bomo zbrali na delavnici za izdelavo lučk iz odpadnih kozarcev za vlaganje. Lučke bomo izdelali zase ali za druge\, da si polepšamo praznike. Na delavnici bo poskrbljeno za ves material\, ki ga boste potrebovali za okras vaše lučke\, prosimo pa\, da s sabo prinesete kakšen odslužen kozarec za vlaganje in nekaj dobre volje. \nObenem vam želimo lepe praznike\, polne lučk – pa naj bodo to lučke lepih spominov\, prihajajočih prazničnih dogodkov ali pa lučke\, ki jih boste prižgali drugim s svojo lepo besedo ali nasmehom. \nLepo vas pozdravljamo\,\nčlani lokalne akcijske skupine Starosti prijazne občine Pivka
URL:https://visitpivka.si/dogodek/delavnica-izdelovanja-luck/
LOCATION:Krpanov dom Pivka – MMC\, Prečna ulica 1\, Pivka\, 6257\, Slovenia
CATEGORIES:Kulturni dogodki
ATTACH;FMTTYPE=image/jpeg:https://visitpivka.si/wp-content/uploads/2024/12/Delavnica-izdelave-luck-5.12.2024.jpg
END:VEVENT
BEGIN:VEVENT
DTSTART;TZID=UTC:20241201T170000
DTEND;TZID=UTC:20241201T173000
DTSTAMP:20260425T124948
CREATED:20241114T093455Z
LAST-MODIFIED:20241114T093455Z
UID:22112-1733072400-1733074200@visitpivka.si
SUMMARY:Prižig lučk 2024
DESCRIPTION:
URL:https://visitpivka.si/dogodek/prizig-luck-2024/
LOCATION:Ploščad Krpanov dom Pivka\, Prečna ulica 1\, Pivka\, Slovenia\, 6257\, Slovenia
CATEGORIES:Kulturni dogodki
ATTACH;FMTTYPE=image/png:https://visitpivka.si/wp-content/uploads/2024/11/Prizig-luck-2024.png
END:VEVENT
BEGIN:VEVENT
DTSTART;TZID=UTC:20241121T190000
DTEND;TZID=UTC:20241121T203000
DTSTAMP:20260425T124948
CREATED:20241120T090436Z
LAST-MODIFIED:20241120T090436Z
UID:22560-1732215600-1732221000@visitpivka.si
SUMMARY:Pod udarom zakona
DESCRIPTION:Jim Jarmusch / ZDA / 1986 / 107 min / angleščina\nNezaposleni DJ Zack in mali zvodnik Jack se znajdeta v louisianskem zaporu z Bobom\, razigranim italijanskim turistom.\nVelika klasika ameriškega indie filma z neponovljivim triom Tom Waits\, John Lurie in Roberto Benigni.\n\nRežija Jim Jarmusch\, scenarij Jim Jarmusch\, fotografija Robby Müller\, montaža Melody London\, glasba John Lurie\, pesmi Tom Waits\, pomočnica režije Claire Denis\, produkcija Alan Kleinberg\, igrajo Tom Waits\, John Lurie\, Roberto Benigni\, Nicoletta Braschi\, Ellen Barkin\, distribucija FIVIA – Vojnik.\n\nFestivali\, nagrade Cannes; Toronto; New York; Torino
URL:https://visitpivka.si/dogodek/pod-udarom-zakona/
LOCATION:Kino Pivka\, Prečna ulica 1\, Pivka\, Slovenija\, 6257\, Slovenia
CATEGORIES:Kino
ATTACH;FMTTYPE=image/jpeg:https://visitpivka.si/wp-content/uploads/2024/11/Kino-Pivka-21.11.2024.jpg
ORGANIZER;CN="Kino Pivka":MAILTO:kino.pivka@pivka.si
END:VEVENT
BEGIN:VEVENT
DTSTART;TZID=UTC:20241121T170000
DTEND;TZID=UTC:20241121T180000
DTSTAMP:20260425T124948
CREATED:20241114T101858Z
LAST-MODIFIED:20241114T101858Z
UID:22125-1732208400-1732212000@visitpivka.si
SUMMARY:Otroška predstava Vidkova srajčica (Abonma Piščanec Peter)
DESCRIPTION:Otrok\, mama\, bratci in sestrice\, postelja\, žlička in skodelica s kaško – varen dom\, kjer jemo\, spimo in se igramo. Svet\, ki ga otrok prepoznava iz lastnega vsakdana. Zunaj hiše: travnik\, potok\, grmovje in živali\, ki jih otrok opazuje. Glej\, pajek na pajčevini\, ptič v zraku\, bela ovca na travniku! Sonce na nebu in oblak! Tudi njih malček že pozna\, nekatere z dvorišča\, druge iz slikanic\, saj ovčke in rake naši otroci prvič vidijo tam.\nPredstava je primerna za otroke od 2. leta dalje in traja 35 minut.\n\nIzvajalec: Gledališče FRU FRU\n\nPredstava je del cikla otroškega abonmaja Piščanec Peter. Na voljo je še nekaj prostih mest\, tako da se nam lahko pridružite tudi gledalci\, ki se za abonma niste odločili. Nakup vstopnic je mogoč 15 minut pred predstavo na recepciji Krpanovega doma.
URL:https://visitpivka.si/dogodek/otroska-predstava-vidkova-srajcica-abonma-piscanec-peter/
LOCATION:Kino Pivka\, Prečna ulica 1\, Pivka\, Slovenija\, 6257\, Slovenia
CATEGORIES:Otroški abonma
ATTACH;FMTTYPE=image/png:https://visitpivka.si/wp-content/uploads/2024/11/Vidkova-srajcica-foto-Lutkovno-gledalisce-Maribor.png
ORGANIZER;CN="Zavod za turizem Pivka":MAILTO:info@visitpivka.si
END:VEVENT
BEGIN:VEVENT
DTSTART;TZID=UTC:20241116T180000
DTEND;TZID=UTC:20241116T210000
DTSTAMP:20260425T124948
CREATED:20241111T124306Z
LAST-MODIFIED:20241111T124800Z
UID:21957-1731780000-1731790800@visitpivka.si
SUMMARY:Koline pri Andrejevih - kulinarični večer
DESCRIPTION:V sklopu Festivala kolin na Zelenem krasu se bodo zvrstili številni gurmanski dogodki\, med njimi so tudi Koline pri Andrejevih. \nČaka vas prvovrstna kulinarična dogodivščina\, v čast kolinam so Pri Andrejevih pripravili posebno večerno doživetje:\n💚Dobrodošlica: Ocvirkovka in čjšpa\n💚Zgodba burje in kleti: Pršut in kozarec vina\n💚Župca: Bučna s pancetko\n💚Vitamini in minerali: Radič\n💚Dobrote na mizo: Svinjska rebrca\, pečenica\, dimljena vratovina\, mlinci in krompir\, zelje\n💚Sladko: Sladica po Martinovo \n👉Cena menija s kozarcem vina 32\,00 €\, v sproščenem vzdušju in s presenečenjem.\n❗️Rezervacije na info@andrejevi.si ali po telefonu 05 753 20 70 ali na 040 573 157 do zapolnitve mest.
URL:https://visitpivka.si/dogodek/koline-pri-andrejevih/
LOCATION:Turistična kmetija pri Andrejevih\, Narin 107\, Pivka\, 6257\, Slovenia
ATTACH;FMTTYPE=image/png:https://visitpivka.si/wp-content/uploads/2024/11/KOLINE-PRI-ANDREJEVIH-4.png
ORGANIZER;CN="Turisti%C4%8Dna kmetija pri Andrejevih":MAILTO:info@andrejevi.si
END:VEVENT
BEGIN:VEVENT
DTSTART;TZID=UTC:20241115T190000
DTEND;TZID=UTC:20241115T200000
DTSTAMP:20260425T124948
CREATED:20241114T092259Z
LAST-MODIFIED:20241114T092341Z
UID:22097-1731697200-1731700800@visitpivka.si
SUMMARY:Frontier @ Bagrat Arazyan
DESCRIPTION:Vljudno vabljeni na otvoritev razstave Frontier (avtor: Bagrat Arazyan). Razstavo bo predstavila umetnostna zgodovinarka in likovna kritičarka Polona Škodič. Otvoritveni program bosta obogatila multiinstrumentalist Lado Jakša in Bagrat Arazyan.
URL:https://visitpivka.si/dogodek/frontier-bagrat-arazyan/
LOCATION:Galerija Krpanov dom Pivka\, Prečna ulica 1\, Pivka\, Slovenia\, 6257\, Slovenia
CATEGORIES:Razstava
ATTACH;FMTTYPE=image/png:https://visitpivka.si/wp-content/uploads/2024/11/Frontier.png
ORGANIZER;CN="Zavod za turizem Pivka":MAILTO:info@visitpivka.si
END:VEVENT
END:VCALENDAR