BEGIN:VCALENDAR
VERSION:2.0
PRODID:-//VisitPivka - ECPv6.15.20//NONSGML v1.0//EN
CALSCALE:GREGORIAN
METHOD:PUBLISH
X-WR-CALNAME:VisitPivka
X-ORIGINAL-URL:https://visitpivka.si
X-WR-CALDESC:Dogodki za VisitPivka
REFRESH-INTERVAL;VALUE=DURATION:PT1H
X-Robots-Tag:noindex
X-PUBLISHED-TTL:PT1H
BEGIN:VTIMEZONE
TZID:UTC
BEGIN:STANDARD
TZOFFSETFROM:+0000
TZOFFSETTO:+0000
TZNAME:UTC
DTSTART:20250101T000000
END:STANDARD
END:VTIMEZONE
BEGIN:VEVENT
DTSTART;TZID=UTC:20260418T190000
DTEND;TZID=UTC:20260418T210000
DTSTAMP:20260425T121911
CREATED:20260327T100847Z
LAST-MODIFIED:20260327T100930Z
UID:32423-1776538800-1776546000@visitpivka.si
SUMMARY:EPiC: Elvis Presley na koncertu / EPiC: Elvis Presley in Concert
DESCRIPTION:Baz Luhrmann / Avstralija / 2025 / 96 min / angleščina \nBaz Luhrmann (Elvis\, Veliki Gatsby) kralja rokenrola prikliče v življenje z dolgo izgubljenimi posnetki njegove vrnitve na oder v zgodnjih sedemdesetih letih. EPiC\, ki ni niti koncertni film niti dokumentarec\, nas vabi\, da Elvisa doživimo\, kot ga nismo še nikoli! \nzgodba \nRežiser je v arhivih našel škatle z doslej neobjavljenim gradivom ter ga sestavil v edinstveno filmsko in glasbeno doživetje. Film preplete dolgo izgubljene posnetke s Presleyjeve legendarne serije koncertov v Las Vegasu leta 1970\, redko 16-mm gradivo s snemanja filma Elvis on Tour (1972)\, nova odkritja iz arhivov v Gracelandu\, pa tudi nikoli slišane zvočne posnetke\, na katerih Elvis pripoveduje »svojo plat zgodbe«.
URL:https://visitpivka.si/dogodek/epic-elvis-presley-na-koncertu-epic-elvis-presley-in-concert/
LOCATION:Kino Pivka\, Prečna ulica 1\, Pivka\, Slovenija\, 6257\, Slovenia
CATEGORIES:Kino
ATTACH;FMTTYPE=image/jpeg:https://visitpivka.si/wp-content/uploads/2026/03/KPIVKA-elvis.jpg
ORGANIZER;CN="Kino Pivka":MAILTO:kino.pivka@pivka.si
END:VEVENT
BEGIN:VEVENT
DTSTART;TZID=UTC:20260423T103000
DTEND;TZID=UTC:20260423T233000
DTSTAMP:20260425T121911
CREATED:20260416T080429Z
LAST-MODIFIED:20260416T080429Z
UID:32509-1776940200-1776987000@visitpivka.si
SUMMARY:Vseslovensko petje s srci
DESCRIPTION:S skupnim prepevanjem slovenskih pesmi povezujemo vse generacije\, negujemo slovensko kulturo in jezik\, krepimo narodno pripadnost ter ustvarjamo prijetnejše vzdušje. Skupaj se povežemo z mislijo na ljubezen\, zdravje\, radost\, mir. \nVabljeni tudi harmonikaši in drugi glasbeniki! \nVabljeni v četrtek\, 23. aprila med 10.30 in 11.30 uro pred Krpanov dom. Poje vsak\, ki je pripravljen prispevati svoj glas − tisti z vrhunsko glasbeno izobrazbo ali tisti brez posluha. Vsak lahko prispeva k skupnemu prepevanju s svojim petjem. Pomemben je namen.
URL:https://visitpivka.si/dogodek/vseslovensko-petje-s-srci/
LOCATION:Krpanov dom Pivka\, Prečna ulica 1\, Pivka\, 6257\, Slovenia
CATEGORIES:Kulturni dogodki
ATTACH;FMTTYPE=image/png:https://visitpivka.si/wp-content/uploads/2026/04/Karavana-SK-1080x675-1.png
ORGANIZER;CN="Zavod za turizem Pivka":MAILTO:info@visitpivka.si
END:VEVENT
BEGIN:VEVENT
DTSTART;TZID=UTC:20260423T190000
DTEND;TZID=UTC:20260423T210000
DTSTAMP:20260425T121911
CREATED:20260327T101827Z
LAST-MODIFIED:20260327T101827Z
UID:32426-1776970800-1776978000@visitpivka.si
SUMMARY:Zadnji viking / Den sidste viking
DESCRIPTION:Anders Thomas Jensen / Danska / 2025 / 116 min / danščina\, švedščina \nMads Mikkelsen kot John Lennon v krvavi\, skandinavsko odštekani črni komediji o dveh bratih\, ki se odpravita na pot\, da bi našla davno zakopani plen – in spotoma odkrijeta sama sebe. »Chiquitita\, you and I know …« \nzgodba \nKo Ankerja po petnajstih letih izpustijo iz zapora\, kjer je prestajal kazen zaradi bančnega ropa\, ima pred seboj samo en cilj: končno priti do denarja\, ki ga je zakopal njegov brat Manfred. Težava je le v tem\, da je Manfred medtem razvil disociativno motnjo identitete in se ne spomni ničesar … Tu so še stara hiša sredi gozda\, vikingi\, ABBA\, bobri\, holokavst\, IKEA … in seveda John Lennon.
URL:https://visitpivka.si/dogodek/zadnji-viking-den-sidste-viking/
LOCATION:Kino Pivka\, Prečna ulica 1\, Pivka\, Slovenija\, 6257\, Slovenia
CATEGORIES:Kino
ATTACH;FMTTYPE=image/jpeg:https://visitpivka.si/wp-content/uploads/2026/03/KPIVKA-zadnjiviking.jpg
ORGANIZER;CN="Kino Pivka":MAILTO:kino.pivka@pivka.si
END:VEVENT
BEGIN:VEVENT
DTSTART;TZID=UTC:20260424T190000
DTEND;TZID=UTC:20260424T210000
DTSTAMP:20260425T121911
CREATED:20260327T102309Z
LAST-MODIFIED:20260327T102309Z
UID:32429-1777057200-1777064400@visitpivka.si
SUMMARY:Povest o Siljanu / Prikaznata za Siljan
DESCRIPTION:Tamara Kotevska / Severna Makedonija\, ZDA\, Velika Britanija / 2025 / 81 min / makedonščina\, angleščina \nFilm Tamare Kotevske (Medena dežela)\, navdihnjen s starodavnimi miti in ljudskimi pripovedkami\, je ganljiva dokumentarna pravljica o kmetu in njegovi edinstveni vezi z belo štorkljo. \nzgodba \nKmet Nikola\, ki se spopada s kruto resničnostjo nove vladne politike\, ne more prodati svojega pridelka. Ko njegova družina v iskanju boljšega življenja odide v tujino\, se Nikola zaposli kot delavec na odlagališču odpadkov. Tam nekega dne naleti na poškodovano belo štorkljo …
URL:https://visitpivka.si/dogodek/povest-o-siljanu-prikaznata-za-siljan/
LOCATION:Kino Pivka\, Prečna ulica 1\, Pivka\, Slovenija\, 6257\, Slovenia
CATEGORIES:Kino
ATTACH;FMTTYPE=image/jpeg:https://visitpivka.si/wp-content/uploads/2026/03/KPIVKA-isiljan.jpg
ORGANIZER;CN="Kino Pivka":MAILTO:kino.pivka@pivka.si
END:VEVENT
BEGIN:VEVENT
DTSTART;TZID=UTC:20260425T160000
DTEND;TZID=UTC:20260425T180000
DTSTAMP:20260425T121911
CREATED:20260327T102833Z
LAST-MODIFIED:20260327T102833Z
UID:32432-1777132800-1777140000@visitpivka.si
SUMMARY:Drugi dnevnik Pauline P
DESCRIPTION:Neven Hitrec / Hrvaška\, Srbija\, Slovenija / 2025 / 79 min / sinhronizirano / 8+ \nPaulina svet opazuje z ostrim jezikom\, bujno domišljijo in trdnim mnenjem o skoraj vsem. Z veliko humorja in nekaj trme se uči\, da pogum ne pomeni imeti vseh odgovorov. Film o odraščanju\, ki zna biti zabavno – in presenetljivo resnično. \nPri enajstih letih je lahko vsak dan drama. Šolski zapleti\, prijateljski nesporazumi in domače spremembe Paulini pokažejo\, da stvari niso vedno pod njenim nadzorom. S pomočjo domišljije\, humorja in zapisovanja v dnevnik Paulina išče načine\, kako razumeti sebe in svet okoli sebe. Film na igriv\, a iskren način govori o otroškem pogledu na resne teme in o tem\, kako se pogum pogosto skriva v majhnih\, vsakdanjih odločitvah.
URL:https://visitpivka.si/dogodek/drugi-dnevnik-pauline-p/
LOCATION:Kino Pivka\, Prečna ulica 1\, Pivka\, Slovenija\, 6257\, Slovenia
CATEGORIES:Kino
ATTACH;FMTTYPE=image/jpeg:https://visitpivka.si/wp-content/uploads/2026/03/KPIVKA-paulinap.jpg
ORGANIZER;CN="Kino Pivka":MAILTO:kino.pivka@pivka.si
END:VEVENT
BEGIN:VEVENT
DTSTART;TZID=UTC:20260425T190000
DTEND;TZID=UTC:20260425T210000
DTSTAMP:20260425T121911
CREATED:20260327T103209Z
LAST-MODIFIED:20260420T081019Z
UID:32435-1777143600-1777150800@visitpivka.si
SUMMARY:Michael / Michael 
DESCRIPTION:Antoine Fuqua / 2026 / Velika Britanija\, ZDA / 117′ / angleščina /  glasbena drama \n\nOdkrijte\, kako je postal kralj. Glasbena biografija Michael\, filmska upodobitev življenja in zapuščine enega najvplivnejših umetnikov\, kar jih je svet poznal – slavnega zvezdnika Michaela Jacksona.\n\n \n\nFilm pripoveduje zgodbo o življenju Michaela Jacksona in sledi njegovi poti od odkritja izjemnega talenta kot vodja skupine The Jackson 5 do vizionarskega umetnika\, ki so ga ustvarjalne ambicije gnale v neizprosno prizadevanje\, da postane največji performer na svetu. Film\, ki odstira njegovo življenje izven odra kot tudi nekatere najbolj ikonične nastope iz njegove zgodnje samostojne kariere\, slavnega zvezdnika Michaela Jacksona gledalcu prikazuje tako od blizu kot še nikoli prej. Tu se njegova zgodba začne.
URL:https://visitpivka.si/dogodek/michael/
LOCATION:Kino Pivka\, Prečna ulica 1\, Pivka\, Slovenija\, 6257\, Slovenia
CATEGORIES:Kino
ATTACH;FMTTYPE=image/jpeg:https://visitpivka.si/wp-content/uploads/2026/03/KPIVKA-ig_post-1080x1080micheal.jpg
ORGANIZER;CN="Kino Pivka":MAILTO:kino.pivka@pivka.si
END:VEVENT
BEGIN:VEVENT
DTSTART;TZID=UTC:20260430T190000
DTEND;TZID=UTC:20260430T210000
DTSTAMP:20260425T121911
CREATED:20260327T103632Z
LAST-MODIFIED:20260327T104758Z
UID:32438-1777575600-1777582800@visitpivka.si
SUMMARY:Dva tožilca/ Dva prokurora
DESCRIPTION:Sergej Loznica / Francija\, Nizozemska\, Nemčija\, Romunija\, Latvija\, Litva / 2025 / 118 min / ruščina \nFilm ukrajinskega režiserja Sergeja Loznice (Krotko dekle\, Donbas) je kafkovsko popotovanje v srce totalitarnega režima\, prežeto z morečim vzdušjem neizbežnosti in posejano z avtorjevim značilnim grotesknim humorjem. \nzgodba \nSovjetska zveza leta 1937\, vrhunec Stalinovega terorja. Na tisoče pisem lažno obtoženih zapornikov zgori v zaporniški peči\, a eno izmed njih le najde pot do novoimenovanega lokalnega tožilca Aleksandra Korneva. Mladi odvetnik\, predan in pošten boljševik\, se po dolgem vztrajanju končno uspe srečati z zapornikom. Prepričan\, da gre za žrtev skorumpirane lokalne tajne policije\, se o svojem odkritju odpravi poročat samemu generalnemu tožilcu v Moskvi …
URL:https://visitpivka.si/dogodek/dva-tozilca-dva-prokurora/
LOCATION:Kino Pivka\, Prečna ulica 1\, Pivka\, Slovenija\, 6257\, Slovenia
CATEGORIES:Kino
ATTACH;FMTTYPE=image/jpeg:https://visitpivka.si/wp-content/uploads/2026/03/KPIVKA-dvatozilca.jpg
ORGANIZER;CN="Kino Pivka":MAILTO:kino.pivka@pivka.si
END:VEVENT
BEGIN:VEVENT
DTSTART;TZID=UTC:20260523T170000
DTEND;TZID=UTC:20260523T200000
DTSTAMP:20260425T121911
CREATED:20260324T061024Z
LAST-MODIFIED:20260402T074937Z
UID:32377-1779555600-1779566400@visitpivka.si
SUMMARY:Botanični sprehod s Florijanom
DESCRIPTION:V  okviru Študijskega krožka Naravna in kulturna dediščina Zgornje Pivke predvidevamo:\n\nBotanični sprehod s Florijanom \n– 23.maja\, ob 17.uri\, \nod Ekomuzeja do Petelinjskega jezera.\n\nVeč informacij je na poti. Se vidimo!
URL:https://visitpivka.si/dogodek/botanicni-sprehod-s-florijanom/
LOCATION:Ekomuzej Pivških presihajočih jezer\, Slovenska vas 10\, Pivka\, 6257\, Slovenia
CATEGORIES:Pohod,Študijski krožki
ATTACH;FMTTYPE=image/png:https://visitpivka.si/wp-content/uploads/2026/03/Botanicni-pomladni.png
END:VEVENT
BEGIN:VEVENT
DTSTART;TZID=UTC:20260613T100000
DTEND;TZID=UTC:20260613T170000
DTSTAMP:20260425T121911
CREATED:20260306T110243Z
LAST-MODIFIED:20260402T075639Z
UID:32055-1781344800-1781370000@visitpivka.si
SUMMARY:Karavana študijskih krožkov
DESCRIPTION:Karavana študijskih krožkov je do sedaj gostovala že v večini slovenskih regij\, v našem koncu pa še ne. Letos se srečamo v Krpanovem domu Pivka\, in sicer v soboto\, 13. 6 2026 ob 10.00 na celodnevnem druženju s predstavitvami prijavljenih krožkov. Dobrodošli na Pivškem!
URL:https://visitpivka.si/dogodek/karavana-vseslovenskih-studijskih-krozkov/
LOCATION:Krpanov dom Pivka\, Prečna ulica 1\, Pivka\, 6257\, Slovenia
CATEGORIES:Študijski krožki
ATTACH;FMTTYPE=image/png:https://visitpivka.si/wp-content/uploads/2026/03/karavana.png
END:VEVENT
BEGIN:VEVENT
DTSTART;TZID=UTC:20260627T170000
DTEND;TZID=UTC:20260627T200000
DTSTAMP:20260425T121911
CREATED:20260324T061430Z
LAST-MODIFIED:20260413T130255Z
UID:32379-1782579600-1782590400@visitpivka.si
SUMMARY:Botanični sprehod s Florijanom
DESCRIPTION:V  okviru Študijskega krožka Naravna in kulturna dediščina Zgornje Pivke predvidevamo:\n\nBotanični sprehod s Florijanom \n\n– 27.junija  ob 17.uri \nod Zagorja ”čez Pivko” do Kalca in nazaj. \n\n\nVeč informacij je na poti. Se vidimo!
URL:https://visitpivka.si/dogodek/botanicni-sprehod-s-florijanom-junij/
LOCATION:Zagorje
CATEGORIES:Pohod,Študijski krožki
ATTACH;FMTTYPE=image/png:https://visitpivka.si/wp-content/uploads/2026/03/botanicni-poletni-preview.png
END:VEVENT
BEGIN:VEVENT
DTSTART;TZID=UTC:20260905T150000
DTEND;TZID=UTC:20260905T190000
DTSTAMP:20260425T121911
CREATED:20260306T103952Z
LAST-MODIFIED:20260327T074142Z
UID:32047-1788620400-1788634800@visitpivka.si
SUMMARY:11. tradicionalno dogajanje Po Vilharjevi poti
DESCRIPTION:Študijski krožek  Naravna in kulturna dediščina Zgornje Pivke\,  v organizaciji Zavoda za turizem Pivka\, vabi vse generacije na pohod\, spominsko slovesnost in kulturni dogodek v sklopu 11. TRADICIONALNEGA dogajanja PO VILHARJEVI POTI\, ki bo 5.septembra 2026 od 15.ure dalje ob obletnici rojstva Miroslava Vilharja (1818 – 1871).
URL:https://visitpivka.si/dogodek/11-tradicionalni-dogodek-po-vilharjevi-poti/
LOCATION:Zagorje
CATEGORIES:Študijski krožki
ATTACH;FMTTYPE=image/png:https://visitpivka.si/wp-content/uploads/2026/03/Vilharjev-pohod-2026_cover-optimised-4.png
END:VEVENT
END:VCALENDAR