BEGIN:VCALENDAR
VERSION:2.0
PRODID:-//VisitPivka - ECPv6.15.20//NONSGML v1.0//EN
CALSCALE:GREGORIAN
METHOD:PUBLISH
X-WR-CALNAME:VisitPivka
X-ORIGINAL-URL:https://visitpivka.si
X-WR-CALDESC:Dogodki za VisitPivka
REFRESH-INTERVAL;VALUE=DURATION:PT1H
X-Robots-Tag:noindex
X-PUBLISHED-TTL:PT1H
BEGIN:VTIMEZONE
TZID:UTC
BEGIN:STANDARD
TZOFFSETFROM:+0000
TZOFFSETTO:+0000
TZNAME:UTC
DTSTART:20230101T000000
END:STANDARD
END:VTIMEZONE
BEGIN:VEVENT
DTSTART;TZID=UTC:20241115T190000
DTEND;TZID=UTC:20241115T200000
DTSTAMP:20260425T105829
CREATED:20241114T092259Z
LAST-MODIFIED:20241114T092341Z
UID:22097-1731697200-1731700800@visitpivka.si
SUMMARY:Frontier @ Bagrat Arazyan
DESCRIPTION:Vljudno vabljeni na otvoritev razstave Frontier (avtor: Bagrat Arazyan). Razstavo bo predstavila umetnostna zgodovinarka in likovna kritičarka Polona Škodič. Otvoritveni program bosta obogatila multiinstrumentalist Lado Jakša in Bagrat Arazyan.
URL:https://visitpivka.si/dogodek/frontier-bagrat-arazyan/
LOCATION:Galerija Krpanov dom Pivka\, Prečna ulica 1\, Pivka\, Slovenia\, 6257\, Slovenia
CATEGORIES:Razstava
ATTACH;FMTTYPE=image/png:https://visitpivka.si/wp-content/uploads/2024/11/Frontier.png
ORGANIZER;CN="Zavod za turizem Pivka":MAILTO:info@visitpivka.si
END:VEVENT
END:VCALENDAR