BEGIN:VCALENDAR
VERSION:2.0
PRODID:-//VisitPivka - ECPv6.15.20//NONSGML v1.0//EN
CALSCALE:GREGORIAN
METHOD:PUBLISH
X-WR-CALNAME:VisitPivka
X-ORIGINAL-URL:https://visitpivka.si
X-WR-CALDESC:Dogodki za VisitPivka
REFRESH-INTERVAL;VALUE=DURATION:PT1H
X-Robots-Tag:noindex
X-PUBLISHED-TTL:PT1H
BEGIN:VTIMEZONE
TZID:UTC
BEGIN:STANDARD
TZOFFSETFROM:+0000
TZOFFSETTO:+0000
TZNAME:UTC
DTSTART:20250101T000000
END:STANDARD
END:VTIMEZONE
BEGIN:VEVENT
DTSTART;TZID=UTC:20260424T190000
DTEND;TZID=UTC:20260424T210000
DTSTAMP:20260424T184408
CREATED:20260327T102309Z
LAST-MODIFIED:20260327T102309Z
UID:32429-1777057200-1777064400@visitpivka.si
SUMMARY:Povest o Siljanu / Prikaznata za Siljan
DESCRIPTION:Tamara Kotevska / Severna Makedonija\, ZDA\, Velika Britanija / 2025 / 81 min / makedonščina\, angleščina \nFilm Tamare Kotevske (Medena dežela)\, navdihnjen s starodavnimi miti in ljudskimi pripovedkami\, je ganljiva dokumentarna pravljica o kmetu in njegovi edinstveni vezi z belo štorkljo. \nzgodba \nKmet Nikola\, ki se spopada s kruto resničnostjo nove vladne politike\, ne more prodati svojega pridelka. Ko njegova družina v iskanju boljšega življenja odide v tujino\, se Nikola zaposli kot delavec na odlagališču odpadkov. Tam nekega dne naleti na poškodovano belo štorkljo …
URL:https://visitpivka.si/dogodek/povest-o-siljanu-prikaznata-za-siljan/
LOCATION:Kino Pivka\, Prečna ulica 1\, Pivka\, Slovenija\, 6257\, Slovenia
CATEGORIES:Kino
ATTACH;FMTTYPE=image/jpeg:https://visitpivka.si/wp-content/uploads/2026/03/KPIVKA-isiljan.jpg
ORGANIZER;CN="Kino Pivka":MAILTO:kino.pivka@pivka.si
END:VEVENT
END:VCALENDAR