BEGIN:VCALENDAR
VERSION:2.0
PRODID:-//VisitPivka - ECPv6.15.20//NONSGML v1.0//EN
CALSCALE:GREGORIAN
METHOD:PUBLISH
X-ORIGINAL-URL:https://visitpivka.si
X-WR-CALDESC:Dogodki za VisitPivka
REFRESH-INTERVAL;VALUE=DURATION:PT1H
X-Robots-Tag:noindex
X-PUBLISHED-TTL:PT1H
BEGIN:VTIMEZONE
TZID:UTC
BEGIN:STANDARD
TZOFFSETFROM:+0000
TZOFFSETTO:+0000
TZNAME:UTC
DTSTART:20250101T000000
END:STANDARD
END:VTIMEZONE
BEGIN:VEVENT
DTSTART;TZID=UTC:20260123T190000
DTEND;TZID=UTC:20260123T210000
DTSTAMP:20260425T021441
CREATED:20260108T125327Z
LAST-MODIFIED:20260122T083801Z
UID:31183-1769194800-1769202000@visitpivka.si
SUMMARY:Sirat
DESCRIPTION:Oliver Laxe / Španija\, Francija / 2025 / 115 min \nPsihedelična odisejada po maroških puščavskih prostranstvih\, ki je režiserju Oliverju Laxeju prinesla nagrado žirije v Cannesu. \nOče in sin prispeta na rejv globoko v gorovju južnega Maroka. Tam sta zato\, da bi našla Mar\, njuno hčer oziroma sestro\, ki je pred meseci izginila na eni od tovrstnih zabav brez konca. Oče in sin hodita med udeleženci zabave in vsem po vrsti kažeta fotografijo izgubljenega dekleta. Ko njuno upanje začne bledeti\, vseeno še naprej sledita potujoči karavani v notranjost puščave\, ki bo prizorišče velike\, zadnje zabave. Njuno poslanstvo se postopoma prelevi v nekaj povsem drugega od tistega\, po kar sta se sprva odpravila.
URL:https://visitpivka.si/dogodek/sirat/
LOCATION:Kino Pivka\, Prečna ulica 1\, Pivka\, Slovenija\, 6257\, Slovenia
CATEGORIES:Kino
ATTACH;FMTTYPE=image/jpeg:https://visitpivka.si/wp-content/uploads/2026/01/KPIVKA-page-1920x10802-1.jpg
ORGANIZER;CN="Kino Pivka":MAILTO:kino.pivka@pivka.si
END:VEVENT
END:VCALENDAR