BEGIN:VCALENDAR
VERSION:2.0
PRODID:-//VisitPivka - ECPv6.15.20//NONSGML v1.0//EN
CALSCALE:GREGORIAN
METHOD:PUBLISH
X-WR-CALNAME:VisitPivka
X-ORIGINAL-URL:https://visitpivka.si
X-WR-CALDESC:Dogodki za VisitPivka
REFRESH-INTERVAL;VALUE=DURATION:PT1H
X-Robots-Tag:noindex
X-PUBLISHED-TTL:PT1H
BEGIN:VTIMEZONE
TZID:UTC
BEGIN:STANDARD
TZOFFSETFROM:+0000
TZOFFSETTO:+0000
TZNAME:UTC
DTSTART:20250101T000000
END:STANDARD
END:VTIMEZONE
BEGIN:VEVENT
DTSTART;TZID=UTC:20260116T190000
DTEND;TZID=UTC:20260116T210000
DTSTAMP:20260425T021147
CREATED:20260108T121355Z
LAST-MODIFIED:20260108T121355Z
UID:31168-1768590000-1768597200@visitpivka.si
SUMMARY:Veličastni Marty
DESCRIPTION:Josh Safdie / ZDA / 2025 / 150 min / angleščina \nTimothée Chalamet je Marty Mauser; mladenič s sanjami\, ki jih nihče ne jemlje resno; človek\, ki je igral proti vsem pravilom in postal legenda. Drugi solo podvig Josha Safdieja je prejel tri nominacije za zlati globus: za najboljši film in najboljšega igralca v kategoriji muzikalov in komedij ter za najboljši scenarij.
URL:https://visitpivka.si/dogodek/velicastni-marty/
LOCATION:Kino Pivka\, Prečna ulica 1\, Pivka\, Slovenija\, 6257\, Slovenia
CATEGORIES:Kino
ATTACH;FMTTYPE=image/jpeg:https://visitpivka.si/wp-content/uploads/2024/12/Drazen-14.12.2024.jpg
ORGANIZER;CN="Kino Pivka":MAILTO:kino.pivka@pivka.si
END:VEVENT
END:VCALENDAR