BEGIN:VCALENDAR
VERSION:2.0
PRODID:-//VisitPivka - ECPv6.15.20//NONSGML v1.0//EN
CALSCALE:GREGORIAN
METHOD:PUBLISH
X-WR-CALNAME:VisitPivka
X-ORIGINAL-URL:https://visitpivka.si
X-WR-CALDESC:Dogodki za VisitPivka
REFRESH-INTERVAL;VALUE=DURATION:PT1H
X-Robots-Tag:noindex
X-PUBLISHED-TTL:PT1H
BEGIN:VTIMEZONE
TZID:UTC
BEGIN:STANDARD
TZOFFSETFROM:+0000
TZOFFSETTO:+0000
TZNAME:UTC
DTSTART:20250101T000000
END:STANDARD
END:VTIMEZONE
BEGIN:VEVENT
DTSTART;TZID=UTC:20260115T190000
DTEND;TZID=UTC:20260115T210000
DTSTAMP:20260425T021146
CREATED:20260108T121027Z
LAST-MODIFIED:20260108T121027Z
UID:31166-1768503600-1768510800@visitpivka.si
SUMMARY:DJ Ahmet
DESCRIPTION:Georgi M. Unkovski / Severna Makedonija\, Srbija\, Hrvaška\, Češka / 2025 / 99 min / turščina\, makedonščina \nZ nalezljivimi ritmi prepojena topla komična drama o petnajstletnem pastirju Ahmetu iz odmaknjene makedonske vasice\, ki se s svojo strastjo do elektronske glasbe zoperstavi konservativni vaški skupnosti.
URL:https://visitpivka.si/dogodek/dj-ahmet/
LOCATION:Kino Pivka\, Prečna ulica 1\, Pivka\, Slovenija\, 6257\, Slovenia
CATEGORIES:Kino
ATTACH;FMTTYPE=image/jpeg:https://visitpivka.si/wp-content/uploads/2024/12/Anora-12.12.2024.jpg
ORGANIZER;CN="Kino Pivka":MAILTO:kino.pivka@pivka.si
END:VEVENT
END:VCALENDAR