BEGIN:VCALENDAR
VERSION:2.0
PRODID:-//VisitPivka - ECPv6.15.20//NONSGML v1.0//EN
CALSCALE:GREGORIAN
METHOD:PUBLISH
X-WR-CALNAME:VisitPivka
X-ORIGINAL-URL:https://visitpivka.si
X-WR-CALDESC:Dogodki za VisitPivka
REFRESH-INTERVAL;VALUE=DURATION:PT1H
X-Robots-Tag:noindex
X-PUBLISHED-TTL:PT1H
BEGIN:VTIMEZONE
TZID:UTC
BEGIN:STANDARD
TZOFFSETFROM:+0000
TZOFFSETTO:+0000
TZNAME:UTC
DTSTART:20240101T000000
END:STANDARD
END:VTIMEZONE
BEGIN:VEVENT
DTSTART;TZID=UTC:20251127T190000
DTEND;TZID=UTC:20251127T210000
DTSTAMP:20260425T124504
CREATED:20251119T140943Z
LAST-MODIFIED:20251119T140943Z
UID:30372-1764270000-1764277200@visitpivka.si
SUMMARY:Plimovanje / Caught By The Tides
DESCRIPTION:Jia Zhang-ke / Kitajska / 2024 / 111 min / kitajščina \nDolga\, a krhka ljubezenska zgodba Qiaoqiaoja in Bina\, postavljena na Kitajsko\, od začetka leta 2000 pa vse do danes. 21 let eksplozivnega razvoja sodobne Kitajske skozi oči ljubimcev\, ki se izgubita in spet najdeta ob kulisi globokih družbenih sprememb. \nQuaoquiao in Bin sta imela vse. Njun čas je bil zapolnjen s petjem in plesom\, mesto je pripadalo njima. A le dokler Bin nenadoma ne začuti\, da želi poiskati srečo v večjem mestu\, kot je Datong\, in odide brez vnaprejšnjega opozorila. Qiaoqiao se odpravi na pot\, da bi ga poiskala. Kitajski režiser Jia Zhang-ke pred nas postavi epski pogled na razvoj Kitajske v zadnjih dveh desetletjih – zgodbo\, ki poda svež pogled na sodobno Kitajsko\, hkrati pa zazna individualne usode\, ki minevajo v vihri družbenih sprememb.
URL:https://visitpivka.si/dogodek/plimovanje/
LOCATION:Kino Pivka\, Prečna ulica 1\, Pivka\, Slovenija\, 6257\, Slovenia
CATEGORIES:Kino
ATTACH;FMTTYPE=image/jpeg:https://visitpivka.si/wp-content/uploads/2024/12/Anora-12.12.2024.jpg
ORGANIZER;CN="Kino Pivka":MAILTO:kino.pivka@pivka.si
END:VEVENT
END:VCALENDAR