BEGIN:VCALENDAR
VERSION:2.0
PRODID:-//VisitPivka - ECPv6.15.20//NONSGML v1.0//EN
CALSCALE:GREGORIAN
METHOD:PUBLISH
X-ORIGINAL-URL:https://visitpivka.si
X-WR-CALDESC:Dogodki za VisitPivka
REFRESH-INTERVAL;VALUE=DURATION:PT1H
X-Robots-Tag:noindex
X-PUBLISHED-TTL:PT1H
BEGIN:VTIMEZONE
TZID:UTC
BEGIN:STANDARD
TZOFFSETFROM:+0000
TZOFFSETTO:+0000
TZNAME:UTC
DTSTART:20240101T000000
END:STANDARD
END:VTIMEZONE
BEGIN:VEVENT
DTSTART;TZID=UTC:20251203T190000
DTEND;TZID=UTC:20251203T210000
DTSTAMP:20260425T021202
CREATED:20251120T130312Z
LAST-MODIFIED:20251120T130312Z
UID:30576-1764788400-1764795600@visitpivka.si
SUMMARY:Ne čakaj na maj
DESCRIPTION:Ta veseli dan kulture je v Kino Pivka prinesel tudi slovensko klasiko Ne čakaj na maj. \nFrantišek Čap / 1957 / Jugoslavija (Slovenija) \nZgodba: Nadaljevanje filma Vesna. Dekleta se pripravljajo na zimske počitnice v gorah. Vesna se veseli\, da bo z njimi tudi Samo\, a njen fant se mora udeleži gorskih reševalnih vaj. Ko v gorah Vesna na nebu opazuje letala\, ve\, da je v enem od njih tudi Samo. Samo pristane\, a ob njem je lepa Zora. Vesna\, ljubosumna in trmasta\, ob vrnitvi v mesto ne najde miru. A kmalu se vse razjasni\, Samo in Vesna pa poletita z letalom\, da bi uživala v svobodi neba. \nRomantično komedijo iz leta 1957 si bomo ogledali 3. decembra ob 19. uri. Vljudno vabljeni!
URL:https://visitpivka.si/dogodek/ne-cakaj-na-maj/
LOCATION:Kino Pivka\, Prečna ulica 1\, Pivka\, Slovenija\, 6257\, Slovenia
CATEGORIES:Kino
ATTACH;FMTTYPE=image/png:https://visitpivka.si/wp-content/uploads/2025/11/FB-event-covers-202x-14.png
ORGANIZER;CN="Kino Pivka":MAILTO:kino.pivka@pivka.si
END:VEVENT
BEGIN:VEVENT
DTSTART;TZID=UTC:20251204T190000
DTEND;TZID=UTC:20251204T210000
DTSTAMP:20260425T021202
CREATED:20251201T125253Z
LAST-MODIFIED:20251201T125253Z
UID:30612-1764874800-1764882000@visitpivka.si
SUMMARY:Belo se pere na devetdeset
DESCRIPTION:Marko Naberšnik / Slovenija\, Srbija\, Severna Makedonija\, Italija\, Črna gora\, Hrvaška / 2025 / 144 min / slovenščina \nFilmska upodobitev istoimenske knjižne uspešnice Bronje Žakelj\, v kateri je pisateljica opisala lastno življenjsko zgodbo. Film\, ki nas prestavi v Ljubljano osemdesetih let\, je ganljiva\, duhovita in navdihujoča pripoved o odraščanju\, izgubi in preživetju.\n\nZgodba spremlja Bronjo skozi različna obdobja življenja. Njen otroški svet sestavljajo starši\, brat Rok\, babica Dada\, pa kakav Benko\, Albert keksi in prenos sarajevskih olimpijskih iger. Potem ko zaradi raka izgubi mamo\, se mora pri dvajsetih s to zahrbtno boleznijo soočiti tudi sama. S številnimi in skoraj nepremostljivimi izzivi se spopada z mešanico solz\, smeha in neomajnega optimizma.
URL:https://visitpivka.si/dogodek/belo-se-pere-na-devetdeset/
LOCATION:Kino Pivka\, Prečna ulica 1\, Pivka\, Slovenija\, 6257\, Slovenia
CATEGORIES:Kino
ATTACH;FMTTYPE=image/jpeg:https://visitpivka.si/wp-content/uploads/2024/12/Anora-12.12.2024.jpg
ORGANIZER;CN="Kino Pivka":MAILTO:kino.pivka@pivka.si
END:VEVENT
BEGIN:VEVENT
DTSTART;TZID=UTC:20251205T190000
DTEND;TZID=UTC:20251205T210000
DTSTAMP:20260425T021202
CREATED:20251201T130147Z
LAST-MODIFIED:20251201T130147Z
UID:30614-1764961200-1764968400@visitpivka.si
SUMMARY:Bugonija
DESCRIPTION:Yorgos Lanthimos / Irska\, Kanada\, ZDA\, Velika Britanija\, Južna Koreja / 2025 / 118 min / angleščina \nDva moška\, obsedena s teorijami zarote\, ugrabita vplivno direktorico farmacevtske družbe\, prepričana\, da je nezemljanka\, ki načrtuje uničenje planeta Zemlja. \nzanimivosti\nBugonija je grška beseda\, ki označuje starodaven sredozemski ritual oziroma prepričanje\, da čebele spontano nastanejo iz trupel mrtvih živali\, zlasti volov.
URL:https://visitpivka.si/dogodek/bugonija/
LOCATION:Kino Pivka\, Prečna ulica 1\, Pivka\, Slovenija\, 6257\, Slovenia
CATEGORIES:Kino
ATTACH;FMTTYPE=image/jpeg:https://visitpivka.si/wp-content/uploads/2024/12/Anora-12.12.2024.jpg
ORGANIZER;CN="Kino Pivka":MAILTO:kino.pivka@pivka.si
END:VEVENT
BEGIN:VEVENT
DTSTART;TZID=UTC:20251206T160000
DTEND;TZID=UTC:20251206T180000
DTSTAMP:20260425T021202
CREATED:20251201T133213Z
LAST-MODIFIED:20251201T133213Z
UID:30616-1765036800-1765044000@visitpivka.si
SUMMARY:Zootropolis 2
DESCRIPTION:Byron Howard\, Jared Bush / ZDA / 2025 / 1ura 48min / sinh.\n\nV drugem delu se na velika platna vračata priljubljena policista: iznajdljiva zajčica policistka Malči Hop (v izvirniku Judy Hopps\, glas Ginnifer Goodwin) in šarmantni lisjak Nik P. Divjak (Nick Wilde\, glas Jason Bateman). Tokrat ju čaka nova\, vznemirljiva naloga – sodelovanje s skrivnostno in karizmatično strupeno kačo Garyjem De’Snakeom (glas Ke Huy Quan)\, katere prihod v Zootropolis obrne vse na glavo.\n\nNjuna pot jima razkrije doslej neznane kotičke živalske metropole – od temačnih močvirij do prostranih puščavskih sipin. Malči in Nik morata pri razvozlanju velike skrivnosti stopiti iz cone udobja in znova preveriti moč svojega zaupanja\, prijateljstva in poguma. Za režijo Zootropolisa 2 so znova združili moči oskarjevci Jared Bush\, Byron Howard in producentka Yvett Merino. Zootropolis 2 bo v slovenskih kinematografih predvajan v sinhronizirani različici\, za katero bo znova poskrbela uigrana ekipa Studia Ritem\, znana po odličnih adaptacijah Disneyjevih uspešnic.\n\nV sinhronizirani različici so glasove posodila priznana imena iz slovenskega filmskega in igralskega sveta\, kot so Lija Trunkelj kot Malči Hop\, Klemen Slakonja kot Nik Divjak\, Blaž Šef kot Gojko\, Sebastian Cavazza kot Šef Bogo\, Uroš Smolej kot Župan Vetroples\, Mojca Funkl kot Gricka\, Lara Jankovič kor Gazel\, Rok Kunaver kot Šapnikar\, Maja Martina Merljak kot Dr. Kosmič\, Tilen Artač kot Mrcina in mnogi drugi. Pod režijo dialoga se podpisuje Tanja Đurić Ribič\, pod prevod dialoga pa Branka Bavec.
URL:https://visitpivka.si/dogodek/zootropolis-2/
LOCATION:Kino Pivka\, Prečna ulica 1\, Pivka\, Slovenija\, 6257\, Slovenia
CATEGORIES:Kino
ATTACH;FMTTYPE=image/jpeg:https://visitpivka.si/wp-content/uploads/2024/12/Jelencek-Niko-3-14.12.2024.jpg
ORGANIZER;CN="Kino Pivka":MAILTO:kino.pivka@pivka.si
END:VEVENT
BEGIN:VEVENT
DTSTART;TZID=UTC:20251206T190000
DTEND;TZID=UTC:20251206T210000
DTSTAMP:20260425T021202
CREATED:20251201T133523Z
LAST-MODIFIED:20251201T133523Z
UID:30618-1765047600-1765054800@visitpivka.si
SUMMARY:Žlehtnoba: Za vedno
DESCRIPTION:Jon M. Chu / ZDA / 2025 / 128 min / angleščina\n\nPrinesi mi metlo Zlobne čarovnice z Zahoda.\n\nElphaba (Cynthia Erivo)\, zdaj demonizirana kot Zlobna čarovnica Zahoda\, živi v izgnanstvu\, se skriva v gozdu ter se še naprej bori za svobodo utišanih živali v deželi Oz in si obupano prizadeva razkriti resnico o Čarovniku (Jeff Goldblum).\n\nGlinda (Ariana Grande) je medtem postala glamurozen simbol dobrote za celo deželo Oz\, živi v palači v Smaragdnem mestu in uživa v slavi in priljubljenosti. Po navodilih Madame Morrible (oskarjevka Michelle Yeoh) je Glindina dolžnost\, da v deželi Oz množice tolaži in prepričuje\, da je pod čarovnikovo vladavino vse v najlepšem redu.
URL:https://visitpivka.si/dogodek/zlehtnoba-za-vedno/
LOCATION:Kino Pivka\, Prečna ulica 1\, Pivka\, Slovenija\, 6257\, Slovenia
CATEGORIES:Kino
ATTACH;FMTTYPE=image/jpeg:https://visitpivka.si/wp-content/uploads/2024/12/Drazen-14.12.2024.jpg
ORGANIZER;CN="Kino Pivka":MAILTO:kino.pivka@pivka.si
END:VEVENT
BEGIN:VEVENT
DTSTART;TZID=UTC:20251211T190000
DTEND;TZID=UTC:20251211T210000
DTSTAMP:20260425T021203
CREATED:20251201T135416Z
LAST-MODIFIED:20251201T135416Z
UID:30620-1765479600-1765486800@visitpivka.si
SUMMARY:Ida\, ki je pela tako grdo\, da so še mrtvi vstali od mrtvih in zapeli z njo
DESCRIPTION:Ester Ivakič / Slovenija\, Hrvaška / 2025 / 109 min / slovenščina \nZvedava deklica Ida\, ki živi v majhni vasici v oddaljenem Prekmurju\, postane prepričana\, da lahko babičino smrt odžene s petjem.
URL:https://visitpivka.si/dogodek/ida-ki-je-pela-tako-grdo-da-so-se-mrtvi-vstali-od-mrtvih-in-zapeli-z-njo/
LOCATION:Kino Pivka\, Prečna ulica 1\, Pivka\, Slovenija\, 6257\, Slovenia
CATEGORIES:Kino
ATTACH;FMTTYPE=image/jpeg:https://visitpivka.si/wp-content/uploads/2024/12/Anora-12.12.2024.jpg
ORGANIZER;CN="Kino Pivka":MAILTO:kino.pivka@pivka.si
END:VEVENT
BEGIN:VEVENT
DTSTART;TZID=UTC:20251212T190000
DTEND;TZID=UTC:20251212T210000
DTSTAMP:20260425T021203
CREATED:20251203T100023Z
LAST-MODIFIED:20251203T100023Z
UID:30633-1765566000-1765573200@visitpivka.si
SUMMARY:Hamnet / Hamnet
DESCRIPTION:Chloé Zhao / Velika Britanija\, ZDA / 2025 / 125 min / angleščina \nChloé Zhao (Dežela nomadov) si zamišlja\, kako bi lahko tragedija iz Shakespearovega resničnega življenja navdihnila nastanek njegove brezčasne mojstrovine Hamlet. Film z izjemnima Jessie Buckley in Paulom Mescalom v glavnih vlogah je ganljiva zgodbo o ljubezni\, izgubi in zdravilni moči umetnosti.\n\nAnglija\, 1580. Svobodomiselna Agnes\, sokolarka in zeliščarica\, ki je na skoraj mističen način povezana z naravnim svetom\, spozna revnega učitelja latinščine Willa. Zapleteta se v strastno razmerje\, ki kmalu pripelje do poroke in rojstva treh otrok: prvorojenke Susanne ter dvojčkov Judith in Hamneta. Medtem ko se Will v daljnem Londonu vse bolj uveljavlja kot dramatik\, Agnes ostaja doma in skrbi za otroke. Toda nekaterih sil ne more zaustaviti niti najbolj zaščitniška mati.
URL:https://visitpivka.si/dogodek/hamnet/
LOCATION:Kino Pivka\, Prečna ulica 1\, Pivka\, Slovenija\, 6257\, Slovenia
CATEGORIES:Kino
ATTACH;FMTTYPE=image/jpeg:https://visitpivka.si/wp-content/uploads/2024/12/Drazen-14.12.2024.jpg
ORGANIZER;CN="Kino Pivka":MAILTO:kino.pivka@pivka.si
END:VEVENT
BEGIN:VEVENT
DTSTART;TZID=UTC:20251213T160000
DTEND;TZID=UTC:20251213T180000
DTSTAMP:20260425T021203
CREATED:20251203T100433Z
LAST-MODIFIED:20251203T100433Z
UID:30635-1765641600-1765648800@visitpivka.si
SUMMARY:Kokozajec in skrivnost velikega svizca
DESCRIPTION:Kokozajec se vrača! Nova pustolovščina prinaša še več smeha\, norčij in prijateljstva\, ko junaki odkrijejo\, da se bodo morali pomeriti celo s časom! \nKokozajec skupaj z Abetom in Meg odrine na novo pustolovščino\, kjer mora poiskati legendarnega svizca\, skritega globoko v gori. Po starodavni legendi ta skrivnostni varuh poseduje moč\, da zavrti čas nazaj – moč\, ki bi lahko rešila Kokozajčevo vrsto pred pogubo. \nA pot do svizčeve skrivnosti je nevarna in polna preizkušenj. Na vsakem koraku jih čakajo pasti\, zahrbtni tekmeci in nepričakovane ovire. Kmalu postane jasno\, da Kokozajec in njegovi prijatelji niso edini\, ki iščejo to starodavno moč.
URL:https://visitpivka.si/dogodek/kokozajec-in-skrivnost-velikega-svizca/
LOCATION:Kino Pivka\, Prečna ulica 1\, Pivka\, Slovenija\, 6257\, Slovenia
CATEGORIES:Kino
ATTACH;FMTTYPE=image/jpeg:https://visitpivka.si/wp-content/uploads/2024/12/Jelencek-Niko-3-14.12.2024.jpg
ORGANIZER;CN="Kino Pivka":MAILTO:kino.pivka@pivka.si
END:VEVENT
BEGIN:VEVENT
DTSTART;TZID=UTC:20251213T190000
DTEND;TZID=UTC:20251213T210000
DTSTAMP:20260425T021203
CREATED:20251203T120638Z
LAST-MODIFIED:20251203T120638Z
UID:30637-1765652400-1765659600@visitpivka.si
SUMMARY:Pet noči pri Freddyju 2
DESCRIPTION:Dolžina: 1 ura 45 minut ; Žanr: Grozljivka\, Misteriozni film\, Triler. \nDecembra se v kinematografe vrača grozljivka produkcijske hiše Blumhouse v novem poglavju z naslovom Pet noči pri Freddyju 2 (Five Nights at Freddy’s 2).Fenomen grozljivke\, ki temelji na seriji uspešnih videoiger Scotta Cawthona\, je znova režirala priznana filmska ustvarjalka Emma Tammi (The Wind\, Blood Moon) in pričenja novo poglavje animatronske groze\, ki zaledeni kri v žilah. Film ponovno producirata Jason Blum (M3GAN\, Črni telefon\, franšiza Noč čarovnic) in Scott Cawthon.V glavnih vlogah igrajo Josh Hutcherson\, Elizabeth Lail\, Piper Rubio\, Mckenna Grace\, Matthew Lillard\, Wayne Knight in drugi.
URL:https://visitpivka.si/dogodek/pet-noci-pri-freddyju-2/
LOCATION:Kino Pivka\, Prečna ulica 1\, Pivka\, Slovenija\, 6257\, Slovenia
CATEGORIES:Kino
ATTACH;FMTTYPE=image/jpeg:https://visitpivka.si/wp-content/uploads/2024/12/Drazen-14.12.2024.jpg
ORGANIZER;CN="Kino Pivka":MAILTO:kino.pivka@pivka.si
END:VEVENT
BEGIN:VEVENT
DTSTART;TZID=UTC:20251218T190000
DTEND;TZID=UTC:20251218T210000
DTSTAMP:20260425T021203
CREATED:20251203T122608Z
LAST-MODIFIED:20251203T122608Z
UID:30641-1766084400-1766091600@visitpivka.si
SUMMARY:Otoki / Islands
DESCRIPTION:Jan-Ole Gerster / Nemčija / 2025 / 123 min / angleščina \nS soncem obsijani neo-noir je zrežiral nemški filmar Jan Ole Gerster\, pri scenariju pa je sodeloval nedavno preminuli slovenski scenarist in režiser Blaž Kutin\, tudi avtor scenarija za Gersterjev prejšnji celovečerec Lara. Film je doživel premiero v sekciji Berlinale Special Gala.\n\nTom je brezciljni učitelj tenisa v luksuznem otoškem hotelu\, ki si čas med lekcijami krajša z alkoholom in bežnim seksom. Njegovo rutino prekine prihod družine Maguire: privlačne plavolaske Anne\, njenega arogantnega moža Dava in njunega sedemletnega sina Antona. Tom se nikakor ne more znebiti občutka\, da je Anne nekoč že srečal. Ko Dave neke noči skrivnostno izgine\, Tom in Anne postaneta glavna osumljenca.
URL:https://visitpivka.si/dogodek/otoki-islands/
LOCATION:Kino Pivka\, Prečna ulica 1\, Pivka\, Slovenija\, 6257\, Slovenia
CATEGORIES:Kino
ATTACH;FMTTYPE=image/jpeg:https://visitpivka.si/wp-content/uploads/2024/12/Anora-12.12.2024.jpg
ORGANIZER;CN="Kino Pivka":MAILTO:kino.pivka@pivka.si
END:VEVENT
BEGIN:VEVENT
DTSTART;TZID=UTC:20251219T190000
DTEND;TZID=UTC:20251219T210000
DTSTAMP:20260425T021203
CREATED:20251203T121948Z
LAST-MODIFIED:20251203T121948Z
UID:30639-1766170800-1766178000@visitpivka.si
SUMMARY:Oče mati sestra brat
DESCRIPTION:Jim Jarmusch / ZDA\, Irska\, Francija / 2025 / 110 min / angleščina \nTri zgodbe\, včasih smešne\, drugič žalostne\, o odnosu med starši in njihovimi odraslimi otroki. »Antiakcijski film« Jima Jarmuscha je prejel zlatega leva v Benetkah.\n\nBrat in sestra obiščeta očeta\, ki živi odmaknjeno življenje na ameriškem podeželju; elegantna\, nekoliko nedostopna mati se v Dublinu pripravlja na obisk svojih dveh hčera; dvojčka se po nenadni smrti staršev vrneta v prazno pariško stanovanje\, kjer sta odraščala.
URL:https://visitpivka.si/dogodek/oce-mati-sestra-brat/
LOCATION:Kino Pivka\, Prečna ulica 1\, Pivka\, Slovenija\, 6257\, Slovenia
CATEGORIES:Kino
ATTACH;FMTTYPE=image/jpeg:https://visitpivka.si/wp-content/uploads/2024/12/Drazen-14.12.2024.jpg
ORGANIZER;CN="Kino Pivka":MAILTO:kino.pivka@pivka.si
END:VEVENT
BEGIN:VEVENT
DTSTART;TZID=UTC:20251220T160000
DTEND;TZID=UTC:20251220T180000
DTSTAMP:20260425T021203
CREATED:20251203T141539Z
LAST-MODIFIED:20251203T141539Z
UID:30646-1766246400-1766253600@visitpivka.si
SUMMARY:Božična mišelovka
DESCRIPTION:Mišja družina v svojem počitniškem domu načrtuje mirno božično praznovanje\, ko njihovo zabavo nenadoma prekinejo ljudje. \nBožič je tik pred vrati\, majhna mišja družina pa se pripravlja na velike praznike. Očka in sestrica sta nabirala oreščke in prinesla božično drevo\, babica in mama se kot vedno prepirata o tem\, katere božične tradicije so najpomembnejše\, medtem pa je veliki brat v svojem mehurčku in mu ni mar za nič. Vsi pa imajo nekaj skupnega: veselijo se še enega varnega\, zdravega in brezskrbnega božiča v prazni hiši! \nNenadoma pa vso hišo osvetlita zaslepljujoči luči\, veliki kot NLP. Nevarnost! Prihajajo ljudje. Vse sledi bo treba odstraniti. In miške so se za takšno situacijo izurile… V hišo vstopi štiričlanska družina. Z vrečkami\, polnimi okraskov in daril\, so pripravljeni na prijetne božične praznike na podeželju. \nKmalu pa odkrijejo\, da niso sami. Okoli njih se začnejo dogajati nepojasnjene stvari – utripajoče luči in škripajoči zvoki\, ki prihajajo iz notranjosti sten. Kakšen kraj je to\, se sprašujejo. Malih škodljivcev se skušajo hitro znebiti. Vendar se ne zavedajo\, da to niso navadne hišne miši – ta druščina ima zelo posebne lastnosti in boj bo veliko težji\, kot si lahko kdorkoli predstavlja. \nTo bo spopad miši in ljudi v igrivem\, zabavnem in z akcijo nabitem filmu za vso družino.
URL:https://visitpivka.si/dogodek/bozicna-miselovka/
LOCATION:Kino Pivka\, Prečna ulica 1\, Pivka\, Slovenija\, 6257\, Slovenia
CATEGORIES:Kino
ATTACH;FMTTYPE=image/jpeg:https://visitpivka.si/wp-content/uploads/2024/12/Jelencek-Niko-3-14.12.2024.jpg
ORGANIZER;CN="Kino Pivka":MAILTO:kino.pivka@pivka.si
END:VEVENT
BEGIN:VEVENT
DTSTART;TZID=UTC:20251227T160000
DTEND;TZID=UTC:20251227T180000
DTSTAMP:20260425T021203
CREATED:20251203T142022Z
LAST-MODIFIED:20251203T142022Z
UID:30648-1766851200-1766858400@visitpivka.si
SUMMARY:Spuži Kvadratnik: Lov na kvadrohlače
DESCRIPTION:Ahoj\, prijateljčki! \nSpuži Kvadratnik s prijatelji se vrača v kino v superjunaških dogodivščinah v novi animirani komični pustolovščini Spuži Kvadratnik: Lov na kvadrohlače. Spuži Kvadratnik se bo odpravil v globine oceana\, pri tem pa naletel na izzive in odkrival morske skrivnosti. \nNa režiserski stolček četrtega nadaljevanja filma je sedel Derek Drymon\, scenarij sta napisala Pam Brady in Matt Lieberman po zgodbi avtorjev Pam Brady\, Marca Ceccarellija in Kaza. Filmi so posneti po priljubljeni ameriški risani seriji Spuži Kvadratnik (SpongeBob SquarePants)\, ki jo je leta 1999 ustvaril morski biolog in animator Stephen Hillenburg. \nTokrat so glasove glavnim animiranim junakom posodili igralci Tom Kenny\, Clancy Brown\, Rodger Bumpass\, Bill Fagerbakke\, Carolyn Lawrence\, Mr. Lawrence\, Mark Hamill\, Regina Hall\, Sherry Cola\, Arturo Castro\, George Lopez\, Ice Spice in drugi. \nZgodba \nZaplujte čisto novi pustolovščini naproti samo v kinu! Spuži Kvadratnik in njegovi prijatelji iz Bikinske Bistrice se odpravijo na največji in popolnoma nov filmski dogodek doslej! \nSpuži Kvadratnik si obupno želi postati velik fant in se odloči\, da bo gospodu Krabsu dokazal svojo hrabrost\, tako da bo sledil Letečemu Holandcu – skrivnostnemu avanturističnemu piratu – na pomorski komični pustolovščini\, ki ga popelje v najgloblje globokomorske globine\, kamor še noben Spuži ni šel.
URL:https://visitpivka.si/dogodek/spuzi-kvadratnik-lov-na-kvadrohlace/
LOCATION:Kino Pivka\, Prečna ulica 1\, Pivka\, Slovenija\, 6257\, Slovenia
CATEGORIES:Kino
ATTACH;FMTTYPE=image/jpeg:https://visitpivka.si/wp-content/uploads/2024/12/Jelencek-Niko-3-14.12.2024.jpg
ORGANIZER;CN="Kino Pivka":MAILTO:kino.pivka@pivka.si
END:VEVENT
BEGIN:VEVENT
DTSTART;TZID=UTC:20251227T190000
DTEND;TZID=UTC:20251227T210000
DTSTAMP:20260425T021203
CREATED:20251203T142244Z
LAST-MODIFIED:20251203T142244Z
UID:30650-1766862000-1766869200@visitpivka.si
SUMMARY:Avatar: Ogenj in pepel
DESCRIPTION:Avatar: Ogenj in pepel predstavlja tretje poglavje revolucionarne filmske sage vizionarskega režiserja Jamesa Camerona. Po uspehu filma Avatar: Pot vode\, ki je postal eden najdonosnejših vseh časov\, se zgodba vrača na Pandoro\, kjer se na obzorju pojavi nova grožnja – skrivnostno ljudstvo “Ash People”. To bojevito pleme živi v nevarnih vulkanskih pokrajinah in obvlada uničujočo moč ognja. Njihova mogočna voditeljica Varang (Oona Chaplin) postavlja na preizkušnjo naravno ravnovesje in prihodnost vseh klanov. \nDružina Sully in zavezniki iz klana Metkayina morajo združiti moči\, da preprečijo katastrofo\, ki bi lahko uničila Pandoro. Medtem ko se krepijo zavezništva\, pa rastejo tudi osebne napetosti\, saj je cena preživetja visoka. Film ponuja še globlji\, čustveno nabit pogled na Pandoro\, razkriva nove dih jemajoče pokrajine in premika meje filmske vizualne umetnosti. James Cameron skupaj s scenaristi Rickom Jaffo\, Amando Silver\, Joshom Friedmanom in Shaneom Salernom ustvarja epsko pripoved o boju za preživetje\, ljubezni in zaščiti sveta\, ki ga je vredno braniti. Avatar: Ogenj in pepel je nepozabno kinematografsko doživetje\, ki presega vse\, kar smo videli doslej.
URL:https://visitpivka.si/dogodek/avatar-ogenj-in-pepel/
LOCATION:Kino Pivka\, Prečna ulica 1\, Pivka\, Slovenija\, 6257\, Slovenia
CATEGORIES:Kino
ATTACH;FMTTYPE=image/jpeg:https://visitpivka.si/wp-content/uploads/2024/12/Drazen-14.12.2024.jpg
ORGANIZER;CN="Kino Pivka":MAILTO:kino.pivka@pivka.si
END:VEVENT
END:VCALENDAR