BEGIN:VCALENDAR
VERSION:2.0
PRODID:-//VisitPivka - ECPv6.15.20//NONSGML v1.0//EN
CALSCALE:GREGORIAN
METHOD:PUBLISH
X-WR-CALNAME:VisitPivka
X-ORIGINAL-URL:https://visitpivka.si
X-WR-CALDESC:Dogodki za VisitPivka
REFRESH-INTERVAL;VALUE=DURATION:PT1H
X-Robots-Tag:noindex
X-PUBLISHED-TTL:PT1H
BEGIN:VTIMEZONE
TZID:UTC
BEGIN:STANDARD
TZOFFSETFROM:+0000
TZOFFSETTO:+0000
TZNAME:UTC
DTSTART:20240101T000000
END:STANDARD
END:VTIMEZONE
BEGIN:VEVENT
DTSTART;TZID=UTC:20250605T200000
DTEND;TZID=UTC:20250605T213000
DTSTAMP:20260424T224010
CREATED:20250603T125455Z
LAST-MODIFIED:20250603T125455Z
UID:25205-1749153600-1749159000@visitpivka.si
SUMMARY:Požgana zemlja
DESCRIPTION:Thomas Arslan / Nemčija / 2024 / 101 min / nemščina \nMinimalistični krimič\, postavljen na nočne ulice sodobnega Berlina\, je prav takšen kot njegov glavni junak: redkobeseden\, učinkovit in zelo zelo kul. \nPoklicni ropar Trojan se po dvanajstih letih vrne v Berlin\, da bi našel delo. A mesto se je spremenilo in Trojanovi stari stiki niso več uporabni. Zato mine nekaj časa\, preden dobi dober posel: krajo slike iz muzeja. Pri ropu bo sodeloval z nekdanjim kolegom Luco\, voznico Diano in računalniškim strokovnjakom Chrisom. Toda skrbno načrtovani rop kmalu uide izpod nadzora … \nrežija Thomas Arslan\, scenarij Thomas Arslan\, fotografija Reinhold Vorschneider\, montaža Reinaldo Pinto Almeida\, glasba Ola Fløttum\, zvok Jochen Jezussek\, produkcija Florian Koerner von Gustorf\, Michael Weber\, Anton Kaiser\, igrajo Mišel Matičević\, Marie Leuenberger\, Alexander Fehling\, Tim Seyfi\, Marie-Lou Sellem\, Katrin Röver\, Bilge Bingül\, distribucija Fivia\nfestivali\, nagrade Berlinale (sekcija Panorama); nagrada Združenja nemških filmskih kritikov za najboljši celovečerec; São Paulo; SEMINCI; Liffe
URL:https://visitpivka.si/dogodek/pozgana-zemlja/
LOCATION:Kino Pivka\, Prečna ulica 1\, Pivka\, Slovenija\, 6257\, Slovenia
CATEGORIES:Kino
ATTACH;FMTTYPE=image/jpeg:https://visitpivka.si/wp-content/uploads/2024/12/Anora-12.12.2024.jpg
ORGANIZER;CN="Kino Pivka":MAILTO:kino.pivka@pivka.si
END:VEVENT
BEGIN:VEVENT
DTSTART;TZID=UTC:20250607T170000
DTEND;TZID=UTC:20250607T183000
DTSTAMP:20260424T224010
CREATED:20250402T141717Z
LAST-MODIFIED:20250604T112300Z
UID:24501-1749315600-1749321000@visitpivka.si
SUMMARY:Kralj vseh kraljev (animirani)
DESCRIPTION:družinski animirani film / Seong-ho Jang / ZDA\, Južna Koreja / 2025 / 1h 40min \n\n\n\nBiblijska zgodba o Jezusu Kristusu\, kot jo je pripovedoval Charles Dickens\, ki jo doživljamo skozi otroške oči ravno v času praznovanja Velike noči. \nOče sinu pripoveduje največjo zgodbo vseh časov\, ki se iz preproste pravljice za lahko noč spremeni v življenjsko popotovanje. S pomočjo bujne domišljije deček hodi ob Jezusu\, priča njegovim čudežem\, se sooča z njegovimi preizkušnjami\, da bi razumel njegovo največjo žrtev. Film nas vabi\, da skozi oči otroka ponovno odkrijemo trajno moč upanja\, ljubezni in odrešitve.
URL:https://visitpivka.si/dogodek/kralj-vseh-kraljev/
LOCATION:Kino Pivka\, Prečna ulica 1\, Pivka\, Slovenija\, 6257\, Slovenia
CATEGORIES:Kino
ATTACH;FMTTYPE=image/jpeg:https://visitpivka.si/wp-content/uploads/2024/12/Jelencek-Niko-3-14.12.2024.jpg
ORGANIZER;CN="Kino Pivka":MAILTO:kino.pivka@pivka.si
END:VEVENT
BEGIN:VEVENT
DTSTART;TZID=UTC:20250607T200000
DTEND;TZID=UTC:20250607T213000
DTSTAMP:20260424T224010
CREATED:20250604T115622Z
LAST-MODIFIED:20250604T115622Z
UID:25354-1749326400-1749331800@visitpivka.si
SUMMARY:Misija: Nemogoče - Zadnje maščevanje
DESCRIPTION:Christopher McQuarrie / ZDA / 2025 / 2h 49m / angleščina\n\nV kinematografe prihaja osmo poglavje ene uspešnih filmskih franšiz v glavni vlogi Toma Cruisea v akcijski pustolovski srhljivki Misija: Nemogoče – Zadnje maščevanje.\nNaša življenja so seštevek vseh naših odločitev. Tom Cruise je Ethan Hunt v Misiji: Nemogoče – Zadnje maščevanje. Režiser: Christopher McQuarrie Igralci: Tom Cruise\, Hayley Atwell\, Vanessa Kirby Distribucija: Karantanija Cinemas d.o.o. Jezik: angleščina – podnapisi
URL:https://visitpivka.si/dogodek/misija-nemogoce-zadnje-mascevanje/
LOCATION:Kino Pivka\, Prečna ulica 1\, Pivka\, Slovenija\, 6257\, Slovenia
CATEGORIES:Kino
ATTACH;FMTTYPE=image/jpeg:https://visitpivka.si/wp-content/uploads/2024/12/Drazen-14.12.2024.jpg
ORGANIZER;CN="Kino Pivka":MAILTO:kino.pivka@pivka.si
END:VEVENT
BEGIN:VEVENT
DTSTART;TZID=UTC:20250612T200000
DTEND;TZID=UTC:20250612T213000
DTSTAMP:20260424T224010
CREATED:20250604T110312Z
LAST-MODIFIED:20250604T110312Z
UID:25340-1749758400-1749763800@visitpivka.si
SUMMARY:Parthenope
DESCRIPTION:Paolo Sorrentino / Italija / 2024 / 137 min / italijanščina \nParthenope\, rojena v petdesetih letih v morju pred domačo vilo\, išče srečo v dolgih poletjih svoje mladosti ter se zaljublja v rodni Neapelj in njegove številne slikovite like. Paolo Sorrentino je ustvaril zapeljiv ep o potovanju sodobne herojinje onkraj »velike lepote« in »mladosti«. \nrežija Paolo Sorrentino\, igrajo Celeste Dalla Porta\, Silvio Orlando\, Daniele Rienzo\, Dario Aita\, Stefania Sandrelli\, Peppe Lanzetta\, Gary Oldman\, Luisa Ranieri\, Isabella Ferrari\, distribucija Fivia
URL:https://visitpivka.si/dogodek/parthenope/
LOCATION:Kino Pivka\, Prečna ulica 1\, Pivka\, Slovenija\, 6257\, Slovenia
CATEGORIES:Kino
ATTACH;FMTTYPE=image/jpeg:https://visitpivka.si/wp-content/uploads/2024/12/Anora-12.12.2024.jpg
ORGANIZER;CN="Kino Pivka":MAILTO:kino.pivka@pivka.si
END:VEVENT
BEGIN:VEVENT
DTSTART;TZID=UTC:20250614T170000
DTEND;TZID=UTC:20250614T183000
DTSTAMP:20260424T224010
CREATED:20250513T101923Z
LAST-MODIFIED:20250604T112503Z
UID:25045-1749920400-1749925800@visitpivka.si
SUMMARY:Lili in Žverca
DESCRIPTION:animirana družinska pustolovščina\, komedija / Dean Fleischer Camp / ZDA / 2025 / 1h 48min / sinhronizirano \n\n\n\nDisneyjev igrani film Lilo & Stitch (2025) je sodobna priredba priljubljene animirane klasike iz leta 2002. \nFilm\, ki bo v slovenskih kinematografih predvajan s sinhronizacijo\, prinaša svež pogled na zgodbo o nenavadnem prijateljstvu med osamljeno havajsko deklico in nagajivim vesoljcem. Lilo Pelekai\, ustvarjalna in nekoliko uporniška deklica\, živi na Havajih s svojo starejšo sestro Nani. Njuno življenje se obrne na glavo\, ko Lilo posvoji nenavadno bitje\, ki ga poimenuje Stitch. Ne ve\, da je Stitch pravzaprav vesoljski eksperiment 626\, zasnovan za uničenje. Kljub začetnim težavam med njima vzklije močna vez\, ki poudarja pomen družine\, sprejemanja in prijateljstva.​ \nV vlogi Lilo nastopa Maia Kealoha\, medtem ko bo Chris Sanders ponovno posodil glas Stitchevi ikonični osebnosti. Sydney Agudong igra Nani\, med igralsko zasedbo pa je tudi Zach Galifianakis v še neznani vlogi. Film bo združeval igrane prizore in CGI učinke ter poskrbel za nostalgijo in svež humor.
URL:https://visitpivka.si/dogodek/lili-in-zverca/
LOCATION:Kino Pivka\, Prečna ulica 1\, Pivka\, Slovenija\, 6257\, Slovenia
CATEGORIES:Kino
ATTACH;FMTTYPE=image/jpeg:https://visitpivka.si/wp-content/uploads/2024/12/Jelencek-Niko-3-14.12.2024.jpg
ORGANIZER;CN="Kino Pivka":MAILTO:kino.pivka@pivka.si
END:VEVENT
BEGIN:VEVENT
DTSTART;TZID=UTC:20250619T200000
DTEND;TZID=UTC:20250619T213000
DTSTAMP:20260424T224010
CREATED:20250604T111010Z
LAST-MODIFIED:20250604T111010Z
UID:25342-1750363200-1750368600@visitpivka.si
SUMMARY:Vermiglio
DESCRIPTION:Maura Delpero / Italija\, Francija\, Belgija / 2024 / 119 min / italijanščina \nTiho presunljiva\, čudovito posneta pastoralna drama\, ki jo italijanska režiserka pripoveduje v štirih poglavjih\, postavljenih v štiri letne čase. Velika nagrada žirije v Benetkah. \nVermiglio\, 1944. Ko v odmaknjeno vas visoko v italijanskih Alpah prispe sicilijanski dezerter\, molčeči mladenič takoj pritegne pozornost najstarejše hčerke lokalnega šolskega ravnatelja. Medtem ko se vojna približuje koncu\, njuna ljubezen sproži niz dogodkov\, ki za vedno spremenijo usodo dekletove številčne družine … \nrežija Maura Delpero\, scenarij Maura Delpero\, fotografija Mikhail Krichman\, montaža Luca Mattei\, glasba Matteo Franceschini\, produkcija Francesca Andreoli\, Leonardo Guerra Seràgnoli\, Maura Delpero\, Santiago Fondevila Sancet\, igrajo Tommaso Ragno\, Giuseppe De Domenico\, Roberta Rovelli\, Martina Scrinzi\, Orietta Notari\, Carlotta Gamba\, Santiago Fondevila Sancet\, Sara Serraiocco\, Rachele Potrich\, Anna Thaler\, Patrick Gardner\, Enrico Panizza\, Luis Thaler\, Simone Bendetti\, distribucija Fivia \nfestivali\, nagrade Benetke (srebrni lev – velika nagrada žirije); Dublin (nagrada za najboljšo režijo); Chicago (nagrada za najboljši film); Palm Springs (nagrada FIPRESCI za najboljši scenarij); Atene (nagrada za najboljši scenarij); nominaciji za evropsko filmsko nagrado za najboljši film in režijo; italijanski kandidat za oskarja; Toronto; Busan; London; Liffe; Rotterdam; Kino Otok
URL:https://visitpivka.si/dogodek/vermiglio/
LOCATION:Kino Pivka\, Prečna ulica 1\, Pivka\, Slovenija\, 6257\, Slovenia
CATEGORIES:Kino
ATTACH;FMTTYPE=image/jpeg:https://visitpivka.si/wp-content/uploads/2024/12/Anora-12.12.2024.jpg
ORGANIZER;CN="Kino Pivka":MAILTO:kino.pivka@pivka.si
END:VEVENT
BEGIN:VEVENT
DTSTART;TZID=UTC:20250621T170000
DTEND;TZID=UTC:20250621T183000
DTSTAMP:20260424T224010
CREATED:20250604T113542Z
LAST-MODIFIED:20250604T113542Z
UID:25347-1750525200-1750530600@visitpivka.si
SUMMARY:Elio
DESCRIPTION:Režiser Adrian Molina \, Domee Shi\, Madeline Sharafian\, Igralci: Zoe Saldana\, Yonas Kibreab\, Brad Garrett\, Jameela Jamil\, Distribucija: Blitz film&video distribution d.o.o. Jezik: slovenščina – sinhroniziran\n\nPripravite se na novo medgalaktično pustolovščino studijev Disney in Pixar\, ki nas bo odnesla med zvezde\, onkraj tega\, kar nam je bilo do sedaj poznano. Elio\, osamljen in nekoliko neroden fant\, se po naključju znajde v Communiverse\, medplanetarni organizaciji z delegati iz vseh galaksij. Zaradi zamenjave identitete ga imajo za ambasadorja Zemlje\, zato mora spletati nove vezi z vesoljci\, prestati zahtevne preizkušnje in medtem odkriti\, kdo v resnici je.
URL:https://visitpivka.si/dogodek/elio/
LOCATION:Kino Pivka\, Prečna ulica 1\, Pivka\, Slovenija\, 6257\, Slovenia
CATEGORIES:Kino
ATTACH;FMTTYPE=image/jpeg:https://visitpivka.si/wp-content/uploads/2024/12/Jelencek-Niko-3-14.12.2024.jpg
ORGANIZER;CN="Kino Pivka":MAILTO:kino.pivka@pivka.si
END:VEVENT
BEGIN:VEVENT
DTSTART;TZID=UTC:20250621T180000
DTEND;TZID=UTC:20250621T235900
DTSTAMP:20260424T224010
CREATED:20250604T150736Z
LAST-MODIFIED:20250610T055158Z
UID:25372-1750528800-1750550340@visitpivka.si
SUMMARY:Poletna muzejska noč v Ekomuzeju
DESCRIPTION:Zavod za turizem Pivka se tudi letos pridružuje vseslovenski akciji Poletna muzejska noč\, ko muzeji\, galerije\, razstavišča in drugi javni prostori na široko odpremo svoja vrata in obiskovalcem omogočimo brezplačen večerni obisk vse do polnoči. \nDogodek bo potekal v soboto\, 21. junija 2025\, med 18. in 24. uro\, vstop v Ekomuzej Pivških presihajočih jezer pa bo v tem času brezplačen. Vabljeni na zanimiv večer z raznolikimi dodatnimi in spremljevalnimi vsebinami. \nPester spremljevalni program\nObisk Ekomuzeja Pivških presihajočih jezer lahko dopolnite z  brezplačnim Sprehodom z botanikom\, ki bo potekal v okviru študijskega krožka Brezčasnost kulturne dediščine na meji dveh občin (mentorica: Marjeta Marinčič). Program se bo začel ob 18. uri. \n\nSprehod traja okvirno dve uri.\nPrimeren tudi za družine z otroki.\nPriporočamo primerno obutev in oblačila ter zaščito pred klopi in komarji (repelenti).\n\nPreživite cel večer v Pivki\nVabimo vas\, da obisk Ekomuzeja Pivških presihajočih jezer združite z obiskom Centra o velikih zvereh  DINA\, ki prav tako sodeluje v programu Poletne muzejske noči in ponuja zanimive vsebine za vse generacije. \nOb 21. uri bo pri Centru DINA  tudi brezplačen Nočni sprehod z lovcem. Prijave obvezne. \nDoživetje za vse\nTako Center o velikih zvereh DINA kot Ekomuzej Pivških presihajočih jezer sta dostopna tudi za osebe na invalidskih vozičkih. Več informacij o dostopnosti najdete na: https://visitpivka.si/dostopnost/ 
URL:https://visitpivka.si/dogodek/poletna-muzejska-noc-v-ekomuzeju/
LOCATION:Ekomuzej Pivških presihajočih jezer\, Slovenska vas 10\, Pivka\, 6257\, Slovenia
CATEGORIES:Poletna muzejska noč
ATTACH;FMTTYPE=image/png:https://visitpivka.si/wp-content/uploads/2021/11/Event-covers-web2024.png
ORGANIZER;CN="Zavod za turizem Pivka":MAILTO:info@visitpivka.si
END:VEVENT
BEGIN:VEVENT
DTSTART;TZID=UTC:20250621T180000
DTEND;TZID=UTC:20250621T235900
DTSTAMP:20260424T224010
CREATED:20250604T151010Z
LAST-MODIFIED:20250613T102128Z
UID:25374-1750528800-1750550340@visitpivka.si
SUMMARY:Poletna muzejska noč v Centru DINA
DESCRIPTION:Zavod za turizem Pivka se tudi letos pridružuje vseslovenski akciji Poletna muzejska noč\, ko muzeji\, galerije\, razstavišča in drugi javni prostori na široko odpremo svoja vrata in obiskovalcem omogočimo brezplačen večerni obisk vse do polnoči. \nDogodek bo potekal v soboto\, 21. junija 2025\, med 18. in 24. uro\, vstop v Center DINA Pivka pa bo v tem času brezplačen. Vabljeni na zanimiv večer z raznolikimi dodatnimi in spremljevalnimi vsebinami. \nRaznolik spremljevalni program\nObisk Centra DINA lahko obogatite z ogledom: \n\ndokumentarnega filma Velike zveri ne poznajo meja (30 min)\,\nanimiranega filma Huda RISanka (3 min) ter\nfotografske razstave Življenje z medvedi. \n\nOb 21. uri se nam pridružite na posebnem doživetju: Nočni sprehod z lovcem\, ki ga vodijo izkušeni lovci in turistični vodniki. V bližnjem gozdu boste z uporabo svetilk raziskovali sledi in znake prisotnosti prostoživečih živalskih vrst ter spoznavali življenje velikih zveri v naravi. Obvezne so predhodne prijave na https://forms.gle/gRuKeX8KTXJVei4G9.  \n\nSprehod traja približno uro in pol\nPrimeren tudi za družine z otroki.\nPriporočamo primerno obutev in oblačila ter zaščito pred klopi in komarji (repelenti).\n\nPreživite cel večer v Pivki\nVabimo vas\, da obisk Centra DINA dopolnite še z obiskom Ekomuzeja Pivških presihajočih jezer\, ki prav tako sodeluje v programu Poletne muzejske noči in ponuja zanimive vsebine za vse generacije. \nOb 18. uri bo pri Ekomuzeju tudi brezplačen Sprehod z botanikom\, ki bo potekal v okviru študijskega krožka Brezčasnost kulturne dediščine na meji dveh občin (mentorica: Marjeta Marinčič). \nDoživetje za vse\nTako Center o velikih zvereh DINA kot Ekomuzej Pivških presihajočih jezer sta dostopna tudi za osebe na invalidskih vozičkih. Več informacij o dostopnosti najdete na: https://visitpivka.si/dostopnost/ 
URL:https://visitpivka.si/dogodek/poletna-muzejska-noc-v-centru-dina/
LOCATION:Center DINA Pivka\, Prečna ulica 1\, Pivka\, Pivka\, 6257\, Slovenia
CATEGORIES:Poletna muzejska noč
ATTACH;FMTTYPE=image/png:https://visitpivka.si/wp-content/uploads/2021/11/Event-covers-web2024.png
ORGANIZER;CN="Zavod za turizem Pivka":MAILTO:info@visitpivka.si
END:VEVENT
BEGIN:VEVENT
DTSTART;TZID=UTC:20250621T200000
DTEND;TZID=UTC:20250621T213000
DTSTAMP:20260424T224010
CREATED:20250604T123659Z
LAST-MODIFIED:20250604T123659Z
UID:25357-1750536000-1750541400@visitpivka.si
SUMMARY:28 let pozneje
DESCRIPTION:triler\, grozljivka\, Danny Boyle / Velika Britanija\, ZDA / 2025 / 2h 6min \n\n\n\nDobitnik oskarja Danny Boyle in za oskarja nominirani scenarist Alex Garland ponovno združujeta moči v grozljivki 28 let pozneje\, srhljivi novi zgodbi\, ki se odvija v svetu\, kakršnega smo spoznali v filmu 28 dni pozneje. \nSkoraj tri desetletja so minila\, odkar je virus besa ušel iz laboratorija za biološko orožje\, in v času\, ko oblasti še vedno neusmiljeno uveljavljajo strogo karanteno\, so nekateri našli načine za preživetje med okuženimi. Ena od skupin preživelih živi na majhnem otoku\, ki ga s kopnim povezuje en sam močno branjen nasip. Ko eden od članov skupine zapusti otok in se odpravi v temno srce celine\, odkrije skrivnosti\, čudeže in grozote\, ki niso spremenile samo okuženih\, temveč tudi druge preživele.
URL:https://visitpivka.si/dogodek/28-let-pozneje/
LOCATION:Kino Pivka\, Prečna ulica 1\, Pivka\, Slovenija\, 6257\, Slovenia
CATEGORIES:Kino
ATTACH;FMTTYPE=image/jpeg:https://visitpivka.si/wp-content/uploads/2024/12/Drazen-14.12.2024.jpg
ORGANIZER;CN="Kino Pivka":MAILTO:kino.pivka@pivka.si
END:VEVENT
BEGIN:VEVENT
DTSTART;TZID=UTC:20250626T200000
DTEND;TZID=UTC:20250626T213000
DTSTAMP:20260424T224010
CREATED:20250604T111753Z
LAST-MODIFIED:20250604T111753Z
UID:25344-1750968000-1750973400@visitpivka.si
SUMMARY:Veliko potovanje
DESCRIPTION:Miguel Gomes / Portugalska\, Italija\, Francija / 2024 / 129 min / portugalščina \nPortugalski cineast Miguel Gomes (Tabu\, 1001 noč) nas z razburkano ljubezensko zgodbo\, postavljeno v kolonialno Azijo zgodnjega dvajsetega stoletja\, popelje na sanjsko popotovanje skozi preteklost in sedanjost. Film\, v katerem se prepletata melanholična drama in screwball komedija\, je prejel nagrado za najboljšo režijo v Cannesu. \nBurma\, 1918. Edward\, uslužbenec britanskega imperija\, v pristanišču čaka zaročenko Molly\, a zagrabi ga panika in skoči na ladjo za Singapur. Na nepričakovani odisejadi po jugovzhodni Aziji ga vse bolj preplavlja melanholija. Razmišlja o praznini svojega obstoja in se sprašuje\, kaj se je zgodilo z Molly … Molly zaročenčevo potezo sprejme z dobro voljo in humorjem. Odločena\, da se bosta poročila\, mu sledi … \nrežija Miguel Gomes\, scenarij Mariana Ricardo\, Telmo Churro\, Maureen Fazendeiro\, Miguel Gomes\, fotografija Rui Poças\, Sayombhu Mukdeeprom\, Guo Liang\, montaža Telmo Churro\, Pedro Filipe Marques\, zvok Miguel Martins\, produkcija Filipa Reis\, igrajo Crista Alfaiate\, Gonçalo Waddington\, Cláudio da Silva\, Lang Khê Tran\, distribucija Fivia \nfestivali\, nagrade Cannes (nagrada za najboljšo režijo); Chicago (srebrni hugo za najboljšo režijo in najboljšo montažo); Caminhos do Cinema Português (nagrada za najboljšo fotografijo); Gent (nagrada za najboljši soundtrack); Valladolid (nagrada za najboljšo montažo); Toronto; Rotterdam; São Paolo; CPH:DOX; London; Mar del Plata; Karlovi Vari; Busan; Viennale; Liffe
URL:https://visitpivka.si/dogodek/veliko-potovanje/
LOCATION:Kino Pivka\, Prečna ulica 1\, Pivka\, Slovenija\, 6257\, Slovenia
CATEGORIES:Kino
ATTACH;FMTTYPE=image/jpeg:https://visitpivka.si/wp-content/uploads/2024/12/Anora-12.12.2024.jpg
ORGANIZER;CN="Kino Pivka":MAILTO:kino.pivka@pivka.si
END:VEVENT
BEGIN:VEVENT
DTSTART;TZID=UTC:20250628T170000
DTEND;TZID=UTC:20250628T183000
DTSTAMP:20260424T224010
CREATED:20250604T114716Z
LAST-MODIFIED:20250604T114716Z
UID:25351-1751130000-1751135400@visitpivka.si
SUMMARY:Kako izuriti svojega zmaja
DESCRIPTION:Dean DeBlois in Chris Sanders / ZDA / 2010 / 98 min / podnapisi\, angleščina / 6+ \n\n\n\nViki je sin vikinškega poglavarja\, ki ima raje od boja z nadležnimi zmaji svoj svet nenavadnih izumov in domislic. Ker je bolj majhne postave\, nihče v vasi ne verjame\, da je sposoben ujeti zmaja\, proti katerim se vsi borijo. Po srečanju z ranjenim zmajem pa Viki ugotovi\, da je prijateljstvo lahko močnejše od sile.
URL:https://visitpivka.si/dogodek/kako-izuriti-svojega-zmaja/
LOCATION:Kino Pivka\, Prečna ulica 1\, Pivka\, Slovenija\, 6257\, Slovenia
CATEGORIES:Kino
ATTACH;FMTTYPE=image/jpeg:https://visitpivka.si/wp-content/uploads/2024/12/Jelencek-Niko-3-14.12.2024.jpg
ORGANIZER;CN="Kino Pivka":MAILTO:kino.pivka@pivka.si
END:VEVENT
BEGIN:VEVENT
DTSTART;TZID=UTC:20250628T200000
DTEND;TZID=UTC:20250628T213000
DTSTAMP:20260424T224010
CREATED:20250604T124815Z
LAST-MODIFIED:20250604T124815Z
UID:25359-1751140800-1751146200@visitpivka.si
SUMMARY:F1
DESCRIPTION:športna drama\, Joseph Kosinski / ZDA / 2025 / 2h 35 min \nF1 je ameriški športni akcijski dramski film režiserja Josepha Kosinskega (Top Gun: Maverick) in scenarija Ehrena Krugerja\, ki prikazuje svetovno prvenstvo Formule 1\, ustvarjem v sodelovanju s FIA\, njenim upravnim organom. V filmu igrajO Bradd Pitt\, Damson Idris\, Kerry Condon\, Tobias Menzies\, Javier Bardem in Sarah Niles. \nFilm sledi zgodbi o Sonnyju Hayesu\, ki ga igra Brad Pitt. Sonny je nekdanji dirkač F1\, ki se po nekajletnem premoru\, zaradi grozljive nesreče\, nenadoma vrne na dirkališče. Regrutira ga lastnik izmišljenega F1 moštva APXGP\, ki ga igra oskarjevec Javier Bardem. Z njim se poveže novinec Joshua Pearce\, ki ga igra Damson Idris. Skupaj si morata prizadevati\, da dvigneta 11. ekipo na vrh dirkalne lestvice.
URL:https://visitpivka.si/dogodek/f1/
LOCATION:Kino Pivka\, Prečna ulica 1\, Pivka\, Slovenija\, 6257\, Slovenia
CATEGORIES:Kino
ATTACH;FMTTYPE=image/jpeg:https://visitpivka.si/wp-content/uploads/2024/12/Drazen-14.12.2024.jpg
ORGANIZER;CN="Kino Pivka":MAILTO:kino.pivka@pivka.si
END:VEVENT
END:VCALENDAR