BEGIN:VCALENDAR
VERSION:2.0
PRODID:-//VisitPivka - ECPv6.15.20//NONSGML v1.0//EN
CALSCALE:GREGORIAN
METHOD:PUBLISH
X-ORIGINAL-URL:https://visitpivka.si
X-WR-CALDESC:Dogodki za VisitPivka
REFRESH-INTERVAL;VALUE=DURATION:PT1H
X-Robots-Tag:noindex
X-PUBLISHED-TTL:PT1H
BEGIN:VTIMEZONE
TZID:UTC
BEGIN:STANDARD
TZOFFSETFROM:+0000
TZOFFSETTO:+0000
TZNAME:UTC
DTSTART:20240101T000000
END:STANDARD
END:VTIMEZONE
BEGIN:VEVENT
DTSTART;TZID=UTC:20250306T190000
DTEND;TZID=UTC:20250306T210000
DTSTAMP:20260424T204214
CREATED:20250305T063557Z
LAST-MODIFIED:20250305T063642Z
UID:24228-1741287600-1741294800@visitpivka.si
SUMMARY:Z ljubeznijo\, Hilde
DESCRIPTION:Andreas Dresen / Nemčija / 2024 / 124 min / nemščina\nV ospredju resnične zgodbe o ilegalnem delovanju v nacistični Nemčiji je preprosta\, a pogumna mlada ženska\, ki je v nacističnih zaporih vse do konca kljubovala režimu s pokončno držo in vero v človeško dobroto.\nBerlin\, 1942. Neopazna\, prijazna in sočutna Hilda\, ki se načeloma ne briga za politiko\, se znajde v odporniškem gibanju\, poznanem pod imenom Rdeči orkester. Tam spozna Hansa\, malce sramežljivega mladeniča\, ki skupaj s prijatelji skrbi za tajno radijsko zvezo z odporniškim gibanjem. Kljub neprestani nevarnosti Hilda preživi še eno srečno poletje v žaru zaljubljenosti in Hansovem objemu. A naposled je delovanje odpornikov razkrito in po nizu aretacij se tudi sama znajde v zaporu. Čeprav sluti\, da bo obsojena na smrt\, se kljub nosečnosti ne preda malodušju. S svojo pokončno držo postane obraz vseh tistih Nemcev\, ki niso hotel sodelovati v ideološki zaslepljenosti Tretjega rajha.\n\n\nigrajo Liv Lisa Fries (Hilde Coppi)\, Johannes Hegemann (Hans Coppi)\, Lisa Wagner (Anneliese Kühn)\, Alexander Scheer (duhovnik Harald Poelchau)\, Emma Bading (Ina Ender-Lautenschläger)\, Sina Martens (Libertas Schulze-Boysen)\, Lisa Hrdina (Grete Jäger)\, Lena Urzendowsky (Liane Berkowitz)\, Hans-Christian Hegewald (Albert Hößler)\, Nico Ehrenteit (Harro Schulze-Boysen)\, Jacob Keller (Heinrich Scheel)\n\nfestivali\, nagrade Berlinale 2024
URL:https://visitpivka.si/dogodek/z-ljubeznijo-hilde/
LOCATION:Kino Pivka\, Prečna ulica 1\, Pivka\, Slovenija\, 6257\, Slovenia
CATEGORIES:Kino
ATTACH;FMTTYPE=image/jpeg:https://visitpivka.si/wp-content/uploads/2024/12/Anora-12.12.2024.jpg
ORGANIZER;CN="Kino Pivka":MAILTO:kino.pivka@pivka.si
END:VEVENT
BEGIN:VEVENT
DTSTART;TZID=UTC:20250313T190000
DTEND;TZID=UTC:20250313T210000
DTSTAMP:20260424T204214
CREATED:20250305T070607Z
LAST-MODIFIED:20250305T070607Z
UID:24231-1741892400-1741899600@visitpivka.si
SUMMARY:Samota
DESCRIPTION:Ninna Pálmadóttir / Islandija\, Slovaška\, Francija / 2023 / 75 min / islandščina \nPrvenec islandske režiserke je topla\, a nikoli sentimentalna zgodba o utehi\, ki jo lahko prinese nepričakovano prijateljstvo. \nzgodba \nStari Gunnar živi mirno in preprosto življenje na samotni kmetiji na islandskem podeželju. Nekega dne pa ga obišče možakar s kravato\, ki ga obvesti\, da bo moral zaradi gradnje jezu zapustiti svoj dom. Gunnar stoično sprejme odškodnino\, proda svoje konje in se preseli v mesto. Tam spozna desetletnega Arija\, ki po soseski raznaša časopise. \nrežija Ninna Pálmadóttir\, scenarij Rúnar Rúnarsson\, fotografija Dušan Husár\, montaža Ivor Šonje\, glasba Pétur Þór Benediktsson\, zvok Tihomir Vrbanec\, produkcija Lilja Ósk Snorradóttir\, Hlín Jóhannesdóttir\, Elli Cassata\, Rúnar Rúnarsson\, igrajo Þhröstur Leó Gunnarsson\, Hermann Samúelsson\, Anna Gunndís Guðmundsdóttir\, Hjörtur Jóhann Jónsson\, Jóel Sæmundsson\, distribucija Demiurg \nfestivali\, nagrade Toronto; Peking (nagrada za najboljšega igralca in posebna omemba žirije v sekciji Forward Future); štiri nominacije za nagrado edda Islandske filmske in televizijske akademije\, vključno za najboljši film; Jerevan (posebna omemba žirije); Les Arcs; Zagreb; Talin
URL:https://visitpivka.si/dogodek/samota/
LOCATION:Kino Pivka\, Prečna ulica 1\, Pivka\, Slovenija\, 6257\, Slovenia
CATEGORIES:Kino
ATTACH;FMTTYPE=image/jpeg:https://visitpivka.si/wp-content/uploads/2024/12/Anora-12.12.2024.jpg
ORGANIZER;CN="Kino Pivka":MAILTO:kino.pivka@pivka.si
END:VEVENT
BEGIN:VEVENT
DTSTART;TZID=UTC:20250315T160000
DTEND;TZID=UTC:20250315T173000
DTSTAMP:20260424T204214
CREATED:20250305T071900Z
LAST-MODIFIED:20250305T071900Z
UID:24237-1742054400-1742059800@visitpivka.si
SUMMARY:Divjaki
DESCRIPTION:Claude Barras / Švica\, Francija\, Belgija / 2024 / 87 min / sinhronizirano / 8+ \nV razburljivi animirani avanturi na Borneu se Kéria\, njen mlajši bratranec Selai in ljubki orangutan Oši združijo\, da bi čudoviti tropski gozd zaščitili pred uničenjem. Na svoji srčni misiji odkrijejo\, kako pomembna sta skrb za naravo in medsebojno spoštovanje. Vznemirljiva pot po džungli jih nauči deliti znanje in moči\, pri čemer odkrivajo\, kako dragoceno je prijateljstvo in kako lahko skupaj premagajo še tako velike izzive. \nzgodba\nV bližini tropskega gozda na Borneu enajstletna zdolgočasena Kéria reši mladega orangutana Ošija na plantaži palminega olja\, kjer dela njen oče. Medtem ko deklica skrbi za opičnjaka\, se k njej priseli mlajši bratranec Selai\, član staroselskega plemena Penan\, da bi se izognil družinskemu sporu z gozdarskim podjetjem\, ki želi uničiti njihov dom. Kéria\, Selai in Oši se nato skupaj pogumno borijo proti nevarnosti uničenja bogatega starodavnega tropskega gozda\, dóma staroselcev. Ob tem spoznajo\, kako pomembno je sodelovati\, saj so s skupnimi močmi lahko kos prav vsakemu izzivu. Kéria odkrije svoje korenine v plemenu Penan in se nauči ceniti modrosti staroselcev ter bivanja v sožitju z naravo\, ki jo odločno brani pred nevarnostjo. \nrežija Claude Barras\, scenarij Claude Barras\, Catherine Paillé\, montaža Anne-Laure Guégan\, Claude Barras\, scenografija Jean-Marc Ogier\, glasba Charles de Ville\, Nelly Tungang\, animacija Antony Elworthy\, glasovi Maja Kunšič\, Teja Bitenc\, Gašper Malnar\, Matej Recer\, Damjana Černe\, Vesna Pernarčič\, Branko Jordan\, Primož Pirnat\, Iztok Luzar\, Nina Rakovec\, Vanja Plut\, distribucija Demiurg \nfestivali\, nagrade Cannes 2024\, Annecy 2024\, La Rochelle 2024\, Locarno 2024\, Fantoche 2024\, Schlingel 2024\, Lucas 2024 (nagrada ECFA)\, Reykjavik 2024\, Young Horizons 2024\, nagrada Evropske filmske akademije (nominacija)
URL:https://visitpivka.si/dogodek/divjaki/
LOCATION:Kino Pivka\, Prečna ulica 1\, Pivka\, Slovenija\, 6257\, Slovenia
CATEGORIES:Kino
ATTACH;FMTTYPE=image/jpeg:https://visitpivka.si/wp-content/uploads/2024/12/Jelencek-Niko-3-14.12.2024.jpg
ORGANIZER;CN="Kino Pivka":MAILTO:kino.pivka@pivka.si
END:VEVENT
BEGIN:VEVENT
DTSTART;TZID=UTC:20250315T190000
DTEND;TZID=UTC:20250315T210000
DTSTAMP:20260424T204214
CREATED:20250305T073250Z
LAST-MODIFIED:20250305T073250Z
UID:24241-1742065200-1742072400@visitpivka.si
SUMMARY:Resnična bolečina
DESCRIPTION:Jesse Eisenberg / ZDA / 2024 / 90 min / angleščina \nOdtujena bratranca se pridružita vodenemu izletu po Poljski\, da bi se poklonila spominu na ljubljeno babico. Oskar za najboljšega stranskega igralca in nominacija za najboljši izvirni scenarij. \nrežija Jesse Eisenberg\, scenarij Jesse Eisenberg\, igrata Kieran Culkin\, Jesse Eisenberg\, \nfestivali\, nagrade oskar za najboljšo moško stransko vlogo
URL:https://visitpivka.si/dogodek/resnicna-bolecina/
LOCATION:Kino Pivka\, Prečna ulica 1\, Pivka\, Slovenija\, 6257\, Slovenia
CATEGORIES:Kino
ATTACH;FMTTYPE=image/jpeg:https://visitpivka.si/wp-content/uploads/2024/12/Drazen-14.12.2024.jpg
ORGANIZER;CN="Kino Pivka":MAILTO:kino.pivka@pivka.si
END:VEVENT
BEGIN:VEVENT
DTSTART;TZID=UTC:20250320T170000
DTEND;TZID=UTC:20250320T173000
DTSTAMP:20260424T204214
CREATED:20241203T120536Z
LAST-MODIFIED:20241203T120536Z
UID:22886-1742490000-1742491800@visitpivka.si
SUMMARY:Pošastozavri in jabolko spora
DESCRIPTION:Ceratozaver si želi bili strašen. Alozaver pa s svojimi velikanskimi zobmi še bolj grozljiv. In strašansko grozovit hoče biti tudi komaj izvaljeni Tiranozaver. Ko ti dinozavri zaropotajo in zarohnijo zahtevajo\, da se neha vrteti celo Zemlja. Rastlinojedi dinozavri trepetajo in bežijo pred njimi. Ampak potem\, prestrašeni dinozavri staknejo glave skupaj in s pametjo vso to strašnost z enim zamahom premagajo!Zabavna in prav nič strašna lutkovna predstava Pošastozavri in jabolko spora nam pove\, kako je tudi med tako velikimi\, močnimi in strašnimi bitji\, kot so bili dinozavri zmagala pamet.\nPredstava je primerna za otroke od 3. leta dalje in traja 30 minut.\nIzvajalec: BIČIKLETA\nPredstava je del cikla otroškega abonmaja Piščanec Peter. Na voljo je še nekaj prostih mest\, tako da se nam lahko pridružite tudi gledalci\, ki se za abonma niste odločili. Nakup vstopnic je mogoč 15 minut pred predstavo na recepciji Krpanovega doma.Vljudno vabljeni!
URL:https://visitpivka.si/dogodek/posastozavri-in-jabolko-spora/
LOCATION:Kino Pivka\, Prečna ulica 1\, Pivka\, Slovenija\, 6257\, Slovenia
CATEGORIES:Otroški abonma
ATTACH;FMTTYPE=image/jpeg:https://visitpivka.si/wp-content/uploads/2024/12/Posastozavri-20.3.2025.jpg
ORGANIZER;CN="Zavod za turizem Pivka":MAILTO:info@visitpivka.si
END:VEVENT
BEGIN:VEVENT
DTSTART;TZID=UTC:20250320T190000
DTEND;TZID=UTC:20250320T200000
DTSTAMP:20260424T204214
CREATED:20250305T071153Z
LAST-MODIFIED:20250305T071153Z
UID:24233-1742497200-1742500800@visitpivka.si
SUMMARY:Gram srca
DESCRIPTION:Kratki dokumentarni film / 48′ 33” / observacijski / 2024\, Slovenija / režija: Jan Cvitkovič \nUstvarjalci dokumentarnega filma »Gram srca« so vstopili v svet odvisnosti in na ulicah Ljubljane spremljali odvisnike\, ki so v intervjujih izpovedali lastno doživljanje škodljivih posledic uporabe drog … izguba doma\, razbite in uničene družine\, odvzemi otrok\, prostitucija\, okužbe s HIV\, fizično nasilje\, alkoholizem …
URL:https://visitpivka.si/dogodek/gram-srca/
LOCATION:Kino Pivka\, Prečna ulica 1\, Pivka\, Slovenija\, 6257\, Slovenia
CATEGORIES:Kino
ATTACH;FMTTYPE=image/jpeg:https://visitpivka.si/wp-content/uploads/2024/12/Anora-12.12.2024.jpg
ORGANIZER;CN="Kino Pivka":MAILTO:kino.pivka@pivka.si
END:VEVENT
BEGIN:VEVENT
DTSTART;TZID=UTC:20250322T160000
DTEND;TZID=UTC:20250322T180000
DTSTAMP:20260424T204214
CREATED:20250305T072937Z
LAST-MODIFIED:20250305T072937Z
UID:24239-1742659200-1742666400@visitpivka.si
SUMMARY:Sneguljčica
DESCRIPTION:Družinska igrano-animirana domišljijska pustolovščina / Marc Webb / ZDA / 2025 / 1h 50min / sinhronizirano \nZrcalce\, zrcalce\, na steni\, povej\, zgodbo ki začela vse v deželi je tej … \nSneguljčica\, prva Disneyjeva princesa\, se vrača v prirejeni igrani različici\, ki združuje klasične elemente s svežim in modernim pristopom. Film režira Marc Webb\, scenarij pa sta napisali Greta Gerwig\, režiserka uspešnice Barbie\, in Erin Cressida Wilson. \nNapovednik ponuja vpogled v začarani gozd\, sedem palčkov in znamenito ogledalo\, obljubljajoč vizualno spektakularno priredbo te brezčasne zgodbe. Film je zvest originalni animirani klasiki iz leta 1937\, z dodanimi novimi pesmimi in razširjeno zgodbo. Poleg znanih sedmih palčkov – Veseljaka\, Zaspančka\, Godrnjavčka\, Sramežljivčka\, Učkarja\, Srečkota in Smrčka – bo film predstavil tudi nove like.
URL:https://visitpivka.si/dogodek/sneguljcica/
LOCATION:Kino Pivka\, Prečna ulica 1\, Pivka\, Slovenija\, 6257\, Slovenia
CATEGORIES:Kino
ATTACH;FMTTYPE=image/jpeg:https://visitpivka.si/wp-content/uploads/2024/12/Jelencek-Niko-3-14.12.2024.jpg
ORGANIZER;CN="Kino Pivka":MAILTO:kino.pivka@pivka.si
END:VEVENT
BEGIN:VEVENT
DTSTART;TZID=UTC:20250322T190000
DTEND;TZID=UTC:20250322T210000
DTSTAMP:20260424T204214
CREATED:20250305T073544Z
LAST-MODIFIED:20250305T073544Z
UID:24243-1742670000-1742677200@visitpivka.si
SUMMARY:Mickey 17
DESCRIPTION:Bong Joon Ho / ZDA\, Južna Koreja / 2025 / 139 min / angleščina \nMickey Barnes (Robert Pattinson) se znajde v nenavadnem položaju\, ko delodajalec od njega zahteva kar največjo predanost delu: da bi zaslužil za preživetje\, bo moral znova in znova umreti. Mračno zabavna znanstvenofantastična satira Bong Joon-hoja (Parazit) je bila premierno prikazana na nedavnem Berlinalu. \nigrajo Robert Pattinson\, Naomi Ackie\, Steven Yeun\, Toni Collette\, Mark Ruffalo\, Anamaria Vartolomei
URL:https://visitpivka.si/dogodek/mickey-17/
LOCATION:Kino Pivka\, Prečna ulica 1\, Pivka\, Slovenija\, 6257\, Slovenia
CATEGORIES:Kino
ATTACH;FMTTYPE=image/jpeg:https://visitpivka.si/wp-content/uploads/2024/12/Drazen-14.12.2024.jpg
ORGANIZER;CN="Kino Pivka":MAILTO:kino.pivka@pivka.si
END:VEVENT
BEGIN:VEVENT
DTSTART;TZID=UTC:20250327T190000
DTEND;TZID=UTC:20250327T210000
DTSTAMP:20260424T204214
CREATED:20250305T071456Z
LAST-MODIFIED:20250305T071456Z
UID:24235-1743102000-1743109200@visitpivka.si
SUMMARY:Seme svetega figovca
DESCRIPTION:Mohammad Rasoulof / Iran\, Nemčija\, Francija / 2024 / 168 min / podnapisi\, perzijščina \nV napetem političnem trilerju\, ki so ga morali snemati skrivaj\, družina postane mikrokozmos sodobnega Irana. Mohammad Rasoulof (Zlo ne obstaja) je film ustvarjal v času\, ko so državo zajeli protesti pod geslom Ženske\, življenje\, svoboda. Posebna nagrada žirije v Cannesu in nominacija za oskarja za najboljši mednarodni celovečerec. \nzgodba\nIman ravno napreduje v preiskovalnega sodnika na revolucionarnem sodišču\, ko v državi izbruhnejo protesti zaradi smrti mladenke v policijskem priporu. Doma njegovi hčerki pretreseni spremljata dogajanje na ulicah\, žena pa se obupano trudi ohraniti mir v družini. Ko Iman nekega dne ugotovi\, da je njegova službena pištola izginila\, začne postajati vse bolj paranoičen … \nrežija Mohammad Rasoulof\, scenarij Mohammad Rasoulof\, fotografija Pooyan Aghababaei\, montaža Andrew Bird\, glasba Karzan Mahmood\, produkcija Mohammad Rasoulof\, Amin Sadraei\, Jean-Christophe Simon\, Mani Tilgner\, Rozita Hendijanian\, igrajo Misagh Zare\, Soheila Golestani\, Mahsa Rostami\, Setareh Maleki\, Niousha Akhshi\, Reza Akhlaghi\, Shiva Ordooei\, Amineh Arani\, distribucija Fivia \nfestivali\, nagrade Cannes (posebna nagrada žirije\, nagrada FIPRESCI\, nagrada ekumenske žirije); San Sebastián (nagrada občinstva za najboljši evropski film); Sydney (nagrada občinstva); najboljši mednarodni film po izboru National Board of Review; Chicago (srebrni hugo za najboljši scenarij); LEFFEST (nagrada za najboljši film); nagrada lumière za najboljšo mednarodno koprodukcijo; nominacije za evropsko filmsko nagrado za najboljši film\, režijo in scenarij; nominacija za nagrado BAFTA za najboljši film v neangleškem jeziku; nominacija za zlati globus za najboljši film v neangleškem jeziku; nominacija za oskarja za najboljši mednarodni film; Locarno; Toronto; Rotterdam; Telluride; New York; Busan; Viennale; Liffe
URL:https://visitpivka.si/dogodek/seme-svetega-figovca/
LOCATION:Kino Pivka\, Prečna ulica 1\, Pivka\, Slovenija\, 6257\, Slovenia
CATEGORIES:Kino
ATTACH;FMTTYPE=image/jpeg:https://visitpivka.si/wp-content/uploads/2024/12/Anora-12.12.2024.jpg
ORGANIZER;CN="Kino Pivka":MAILTO:kino.pivka@pivka.si
END:VEVENT
BEGIN:VEVENT
DTSTART;TZID=UTC:20250329T100000
DTEND;TZID=UTC:20250329T120000
DTSTAMP:20260424T204214
CREATED:20250313T140239Z
LAST-MODIFIED:20250317T125017Z
UID:24266-1743242400-1743249600@visitpivka.si
SUMMARY:Srečanje Medvedu prijaznih ambasadorjev in lokalnih ponudnikov
DESCRIPTION:Zavod za turizem Pivka in Biotehniška fakulteta Univerze v Ljubljani vabita vse obstoječe ambasadorje oznake Medvedu prijazno\, pa tudi tiste\, ki si želijo pridobiti to oznako\, da se pridružijo srečanju\, ki bo potekalo v sklopu projekta »UL za trajnostno družbo – ULTRA«. \nSrečanje bo potekalo v soboto\, 29. marca 2025\, ob 10. uri v Centru o velikih zvereh DINA (Krpanov dom Pivka). \nNamen dogodka je spodbujanje mreženja med obstoječimi ambasadorji in novimi ponudniki\, ki bi želeli pridobiti oznako. Na srečanju bomo predstavili oznako Medvedu prijazno\, spletno stran za predstavitev ambasadorjev in njihovih izdelkov/storitev ter pravilnik za pridobitev oznake. Udeleženci bodo prejeli tudi Medvedu prijazne materiale. \nZavod za turizem Pivka si aktivno prizadeva za širjenje prisotnosti oznake na našem območju\, saj je spodbujanje sobivanja z velikimi zvermi ključni cilj Centra o velikih zvereh DINA\, ki ga upravlja Zavod. Kljub imenu je oznaka namenjena vzpodbujanju sobivanja z vsemi tremi velikimi zvermi: medvedom\, volkom in risom. Pomemben del krepitev oznake je tudi prodaja izdelkov s to trajnostno oznako v Centru DINA in Ekomuzeju Pivških presihajočih jezer. \nSrečanje je odlična priložnost za vključitev v omrežje Medvedu prijaznih ponudnikov. Prijave so obvezne in možne preko spletnega obrazca https://forms.gle/rp7CCaY2aKVYq9fFA \n  \n Projekt »UL za trajnostno družbo – ULTRA« sofinancirata Republika Slovenija\, Ministrstvo za visoko šolstvo\, znanost in inovacije ter Evropska unija – NextGenerationEU.
URL:https://visitpivka.si/dogodek/vabilo-na-srecanje-medvedu-prijazno/
LOCATION:Center DINA Pivka\, Prečna ulica 1\, Pivka\, Pivka\, 6257\, Slovenia
CATEGORIES:Medvedu prijazno
ATTACH;FMTTYPE=image/png:https://visitpivka.si/wp-content/uploads/2025/03/Clanki-cover-web-25-6.png
ORGANIZER;CN="Zavod za turizem Pivka":MAILTO:info@visitpivka.si
END:VEVENT
END:VCALENDAR