BEGIN:VCALENDAR
VERSION:2.0
PRODID:-//VisitPivka - ECPv6.15.20//NONSGML v1.0//EN
CALSCALE:GREGORIAN
METHOD:PUBLISH
X-WR-CALNAME:VisitPivka
X-ORIGINAL-URL:https://visitpivka.si
X-WR-CALDESC:Dogodki za VisitPivka
REFRESH-INTERVAL;VALUE=DURATION:PT1H
X-Robots-Tag:noindex
X-PUBLISHED-TTL:PT1H
BEGIN:VTIMEZONE
TZID:UTC
BEGIN:STANDARD
TZOFFSETFROM:+0000
TZOFFSETTO:+0000
TZNAME:UTC
DTSTART:20240101T000000
END:STANDARD
END:VTIMEZONE
BEGIN:VEVENT
DTSTART;TZID=UTC:20250116T170000
DTEND;TZID=UTC:20250116T173000
DTSTAMP:20260425T003431
CREATED:20241203T115757Z
LAST-MODIFIED:20250107T114759Z
UID:22875-1737046800-1737048600@visitpivka.si
SUMMARY:Hišica iz kock
DESCRIPTION:V sobi sta sestri. Starejša vadi violino\, mlajša\, Jelka\, pa jo neprestano moti z željo po skupni igri. In ko Jelka zgradi svojo hišico iz kock\, starejša sestra sprejme njeno igro in skupaj se podata v čudovit pravljični svet\, kjer na stenah hišice živijo mačka\, kokoš in dimnikar. Ko pa sosedov pes\, ki se je v nevihti strgal z verige\, podre hišico\, se Jelka odpravi na dolgo pot v iskanju nekoga\, ki ji bo prišil dimnikarjev gumb na obleko. Saj gumb prinaša srečo in brez sreče se hišice ne da postaviti nazaj.\nPredstava Hišica iz kock je nastala po motivih istoimenske pravljice Ele Peroci.\nPredstava je primerna za otroke od 3. leta dalje in traja 30 minut.\nIzvajalec: Hiša otrok in umetnosti\nPredstava je del cikla otroškega abonmaja Piščanec Peter. Na voljo je še nekaj prostih mest\, tako da se nam lahko pridružite tudi gledalci\, ki se za abonma niste odločili. Nakup vstopnic je mogoč 15 minut pred predstavo na recepciji Krpanovega doma.\nVljudno vabljeni!
URL:https://visitpivka.si/dogodek/hisica-iz-kock/
LOCATION:Kino Pivka\, Prečna ulica 1\, Pivka\, Slovenija\, 6257\, Slovenia
CATEGORIES:Otroški abonma
ATTACH;FMTTYPE=image/jpeg:https://visitpivka.si/wp-content/uploads/2024/12/Hisica-iz-kock-20.2.2025.jpg
ORGANIZER;CN="Zavod za turizem Pivka":MAILTO:info@visitpivka.si
END:VEVENT
BEGIN:VEVENT
DTSTART;TZID=UTC:20250116T190000
DTEND;TZID=UTC:20250116T210000
DTSTAMP:20260425T003431
CREATED:20250115T141004Z
LAST-MODIFIED:20250115T141004Z
UID:23340-1737054000-1737061200@visitpivka.si
SUMMARY:Sosednja soba (drama\, 2024)
DESCRIPTION:Pedro Almodóvar / Španija\, ZDA / 2024 / 107 min / angleščina\nNajnovejši film Pedra Almodóvarja je zgodba o lepoti življenja in neizbežnosti smrti\, polna barv\, svetlobe in humorja. Tankočutna drama s Tildo Swinton in Julianne Moore v glavnih vlogah je osvojila zlatega leva na zadnjem festivalu v Benetkah.\nZgodbaIngrid in Martha sta bili v mladosti tesni prijateljici\, toda življenje ju je ločilo: Ingrid je postala pisateljica\, Martha pa vojna poročevalka. Po letih brez stikov se znova srečata v nenavadnih okoliščinah …\n\nrežija Pedro Almodóvar\, scenarij Pedro Almodóvar po romanu Kaj prestajaš (What Are You Going Through) Sigrid Nunez\, fotografija Eduard Grau\, montaža Teresa Font\, glasba Alberto Iglesias\, zvok Sergio Bürmann\, produkcija Agustín Almodóvar\, Esther García\, igrajo Tilda Swinton\, Julianne Moore\, John Turturro\, Alessandro Nivola\, Juan Diego Botto\, Raúl Arévalo\, Victoria Luengo\, Alex Høgh Andersen\, Esther McGregor\, Alvise Rigo\, Melina Matthews\, distribucija Blitz Film & Video Distribution\nfestivali\, nagrade Benetke (zlati lev za najboljši film); Toronto; San Sebastián; New York; AFI Fest; Busan; London; Liffe
URL:https://visitpivka.si/dogodek/sosednja-soba/
LOCATION:Kino Pivka\, Prečna ulica 1\, Pivka\, Slovenija\, 6257\, Slovenia
CATEGORIES:Kino
ATTACH;FMTTYPE=image/jpeg:https://visitpivka.si/wp-content/uploads/2024/12/Anora-12.12.2024.jpg
ORGANIZER;CN="Kino Pivka":MAILTO:kino.pivka@pivka.si
END:VEVENT
BEGIN:VEVENT
DTSTART;TZID=UTC:20250118T160000
DTEND;TZID=UTC:20250118T180000
DTSTAMP:20260425T003431
CREATED:20250115T145536Z
LAST-MODIFIED:20250115T145536Z
UID:23344-1737216000-1737223200@visitpivka.si
SUMMARY:Ježek Sonic 3
DESCRIPTION:Jeff Fowler / ZDA / 2024 / 108 min / sinhronizirano / 10+\nSonic\, Knuckles in Tails se ponovno združijo proti novemu močnemu nasprotniku po imenu Shadow\, skrivnostnemu zlobnežu s povsem drugačnimi močmi\, s katerimi so se soočili doslej. S svojimi izjemnimi sposobnostmi mora ekipa poiskati malo verjetno zavezništvo v upanju\, da bo ustavila Shadowa in zaščitila planet.
URL:https://visitpivka.si/dogodek/jezek-sonic-3/
LOCATION:Kino Pivka\, Prečna ulica 1\, Pivka\, Slovenija\, 6257\, Slovenia
CATEGORIES:Kino
ATTACH;FMTTYPE=image/jpeg:https://visitpivka.si/wp-content/uploads/2024/12/Jelencek-Niko-3-14.12.2024.jpg
ORGANIZER;CN="Kino Pivka":MAILTO:kino.pivka@pivka.si
END:VEVENT
BEGIN:VEVENT
DTSTART;TZID=UTC:20250118T190000
DTEND;TZID=UTC:20250118T210000
DTSTAMP:20260425T003431
CREATED:20250115T145134Z
LAST-MODIFIED:20250115T145134Z
UID:23342-1737226800-1737234000@visitpivka.si
SUMMARY:Živiva v času (romantični\, 2024)
DESCRIPTION:John Crowley / VB\, Francija / 2024/ 108 minut/ angleščina\nzgodba:Nadebudna kuharica Almut (Florence Pugh)\, katere kariera je v vzponu\, in nedavno ločeni Tobias (Andrew Garfield)\, ugotovita\, da se njuno življenje za vedno spremeni\, ko ju naključno srečanje združi v globoko ganljivi romanci. Skozi utrinke njunega skupnega življenja (zaljubljenost\, gradnja doma\, ustvarjanje družine) se razkrije težka resnica\, ki zamaje njune temelje. Ko se podata na zahtevno pot\, se naučita ceniti prav vsak trenutek! Zgodba prikazuje razvoj njunega odnosa v desetih letih\, vse do trenutka\, ko Almut zboli za rakom.\nIgrajo: Andrew Garfield\, Florence Pugh\, Grace Delaney\, Matt Kennard
URL:https://visitpivka.si/dogodek/ziviva-v-casu/
LOCATION:Kino Pivka\, Prečna ulica 1\, Pivka\, Slovenija\, 6257\, Slovenia
CATEGORIES:Kino
ATTACH;FMTTYPE=image/jpeg:https://visitpivka.si/wp-content/uploads/2024/12/Drazen-14.12.2024.jpg
ORGANIZER;CN="Kino Pivka":MAILTO:kino.pivka@pivka.si
END:VEVENT
BEGIN:VEVENT
DTSTART;TZID=UTC:20250123T190000
DTEND;TZID=UTC:20250123T210000
DTSTAMP:20260425T003431
CREATED:20250115T150027Z
LAST-MODIFIED:20250115T150027Z
UID:23346-1737658800-1737666000@visitpivka.si
SUMMARY:Substanca (grozljivka\, 2024)
DESCRIPTION:Coralie Fargeat / Velika Britanija\, ZDA\, Francija / 2024 / 140 min / angleščina \nEkstravagantna in spektakularno krvava telesna grozljivka z neustrašno Demi Moore v vlogi odcvetele hollywoodske zvezde. Francoska režiserka Carolie Fargeat vrača udarec družbi\, obsedeni z lepoto\, mladostjo in slavo. Nagrada za najboljši scenarij v Cannesu. \nzgodba\nSte kdaj sanjali o boljši različici samih sebe?\nMlajši\, lepši\, bolj popolni?\nEna sama injekcija bo odklenila vaš DNK\nin sprostila novo verzijo vas samih.\nEdino pravilo: čas si bosta morali deliti.\nEn teden za eno telo\, en teden za drugo … \nElisabeth Sparkle je bila včasih slavna hollywoodska igralka\, zdaj pa vodi televizijski fitnes show. Toda ker oddaja potrebuje novo kri\, jo šef na petdeseti rojstni dan odpusti … \nrežija Coralie Fargeat\, scenarij Coralie Fargeat\, fotografija Benjamin Kračun\, montaža Coralie Fargeat\, Jérôme Eltabet\, Valentin Féron\, glasba Raffertie\, produkcija Coralie Fargeat\, Tim Bevan\, Eric Fellner\, igrajo Demi Moore\, Margaret Qualley\, Dennis Quaid\, distribucija Fivia \nfestivali\, nagrade Cannes (najboljši scenarij); Toronto (nagrada občinstva v sekciji Midnight Madness); Karlovi Vari; San Sebastián; Busan; Sitges; Sarajevo; Liffe; zlati globus za najboljšo žensko glavno vlogo v muzikalu ali komediji
URL:https://visitpivka.si/dogodek/substanca/
LOCATION:Kino Pivka\, Prečna ulica 1\, Pivka\, Slovenija\, 6257\, Slovenia
CATEGORIES:Kino
ATTACH;FMTTYPE=image/jpeg:https://visitpivka.si/wp-content/uploads/2024/12/Anora-12.12.2024.jpg
ORGANIZER;CN="Kino Pivka":MAILTO:kino.pivka@pivka.si
END:VEVENT
BEGIN:VEVENT
DTSTART;TZID=UTC:20250125T160000
DTEND;TZID=UTC:20250125T180000
DTSTAMP:20260425T003431
CREATED:20250115T151422Z
LAST-MODIFIED:20250115T151422Z
UID:23350-1737820800-1737828000@visitpivka.si
SUMMARY:Čao Bela (mladinski\, 2025)
DESCRIPTION:Jani Sever / Slovenija / 2025 / 91 min / slovenščina \n\nBela\, odločno\, zapleteno\, nadarjeno in prikupno dekle\, skratka sodobna najstnica\, se ob začetku srednje šole zaleti v kup življenjskih težav. Vseh ni mogoče rešiti čez noč\, ima pa prijatelje. In bend. \n\n\nFilm skozi zgodbo o Beli (Alisa Milićević)\, ki v prvem letniku gimnazije ustanovi svoj band\, govori o sklepanju prijateljstev\, prvi ljubezni\, prvem stiku z alkoholom in drogami\, odsotnimi starši\, socialnimi mediji in iskanju lastne identitete.
URL:https://visitpivka.si/dogodek/cao-bela/
LOCATION:Kino Pivka\, Prečna ulica 1\, Pivka\, Slovenija\, 6257\, Slovenia
CATEGORIES:Kino
ATTACH;FMTTYPE=image/jpeg:https://visitpivka.si/wp-content/uploads/2024/12/Jelencek-Niko-3-14.12.2024.jpg
ORGANIZER;CN="Kino Pivka":MAILTO:kino.pivka@pivka.si
END:VEVENT
BEGIN:VEVENT
DTSTART;TZID=UTC:20250125T190000
DTEND;TZID=UTC:20250125T210000
DTSTAMP:20260425T003431
CREATED:20250115T152014Z
LAST-MODIFIED:20250115T152052Z
UID:23352-1737831600-1737838800@visitpivka.si
SUMMARY:Nosferatu (grozljivka\, 2024)
DESCRIPTION:Robert Eggers / Češka\, ZDA / 2024 / 133 min / angleščina \nNova različica ekspresionistične klasike\, kot si jo je zamislil Robert Eggers (Čarovnica\, Svetilnik). \nzgodba\nNepremičninski agent Thomas Hutter odpotuje v Transilvanijo\, da bi se srečal s skrivnostnim grofom Orlokom\, ki želi kupiti hišo. Toda kmalu po prihodu na grad spozna\, da je njegov prebivalec krvoločno bitje teme … Medtem doma v Nemčiji Hutterjevo nevesto Ellen preganjajo grozljivi prividi … \nrežija Robert Eggers\, scenarij Robert Eggers po navdihu scenarija Henrika Galeena za film F. W. Murnaua in romana Drakula Brama Stokerja\, fotografija Jarin Blaschke\, montaža Louise Ford\, glasba Robin Carolan\, produkcija Jeff Robinov\, John Graham\, Chris Columbus\, Eleanor Columbus\, Robert Eggers\, igrajo Bill Skarsgård\, Lily-Rose Depp\, Nicholas Hoult\, Aaron Taylor-Johnson\, Emma Corrin\, Willem Dafoe\, Ralph Ineson\, Simon McBurney\, distribucija Karantanija cinemas
URL:https://visitpivka.si/dogodek/nosferatu/
LOCATION:Kino Pivka\, Prečna ulica 1\, Pivka\, Slovenija\, 6257\, Slovenia
CATEGORIES:Kino
ATTACH;FMTTYPE=image/jpeg:https://visitpivka.si/wp-content/uploads/2024/12/Drazen-14.12.2024.jpg
ORGANIZER;CN="Kino Pivka":MAILTO:kino.pivka@pivka.si
END:VEVENT
BEGIN:VEVENT
DTSTART;TZID=UTC:20250130T190000
DTEND;TZID=UTC:20250130T210000
DTSTAMP:20260425T003431
CREATED:20250115T150634Z
LAST-MODIFIED:20250115T150634Z
UID:23348-1738263600-1738270800@visitpivka.si
SUMMARY:Vsi odtenki svetlobe (romantični\, 2024)
DESCRIPTION:Payal Kapadia / Francija\, Indija / 2024 / 115 min / malajalščina\, hindi \nIgrani prvenec Payal Kapadia\, dobitnik velike nagrade žirije v Cannesu\, je prvi indijski film v tridesetih letih\, ki se je uvrstil v tekmovalni program festivala. \nzgodba\nV natrpanem in kaotičnem Mumbaju se prepletejo zgodbe treh žensk različnih generacij: Prabha\, ki se ji mož že več kot leto ni oglasil iz Evrope\, nekega dne po pošti prejme nepričakovano darilo; njena mlada sostanovalka Anu išče kotiček\, kjer bi lahko bila intimna s svojim muslimanskim fantom; Prabhini prijateljici Parvati po moževi smrti grozi izselitev iz stanovanja\, v katerem je živela več kot dvajset let … \nrežija Payal Kapadia\, scenarij Payal Kapadia\, fotografija Ranabir Das\, montaža Clément Pinteaux\, glasba Dhritiman Das\, produkcija Thomas Hakim\, Julien Graff\, igrajo Kani Kusruti\, Divya Prabha\, Chhaya Kadam\, Hridhu Haroon\, Azees Nedumangad\, distribucija Fivia \nfestivali\, nagrade Cannes (velika nagrada žirije); Chicago (srebrni hugo – nagrada žirije); National Board of Review (eden petih najboljših mednarodnih filmov); Asia Pacific Screen Awards (velika nagrada žirije); Ficunam (nagrada občinstva); San Sebastián; Karlovi Vari; Toronto; Telluride; London; Mar del Plata; New York; Busan; Viennale; Sarajevo; Mumbaj; Liffe; nominacija za zlati globus za najboljši film v neangleškem jeziku in za najboljšo režijo
URL:https://visitpivka.si/dogodek/vsi-odtenki-svetlobe-romanticni-2024/
LOCATION:Kino Pivka\, Prečna ulica 1\, Pivka\, Slovenija\, 6257\, Slovenia
CATEGORIES:Kino
ATTACH;FMTTYPE=image/jpeg:https://visitpivka.si/wp-content/uploads/2024/12/Anora-12.12.2024.jpg
ORGANIZER;CN="Kino Pivka":MAILTO:kino.pivka@pivka.si
END:VEVENT
END:VCALENDAR