BEGIN:VCALENDAR
VERSION:2.0
PRODID:-//VisitPivka - ECPv6.15.20//NONSGML v1.0//EN
CALSCALE:GREGORIAN
METHOD:PUBLISH
X-ORIGINAL-URL:https://visitpivka.si
X-WR-CALDESC:Dogodki za VisitPivka
REFRESH-INTERVAL;VALUE=DURATION:PT1H
X-Robots-Tag:noindex
X-PUBLISHED-TTL:PT1H
BEGIN:VTIMEZONE
TZID:UTC
BEGIN:STANDARD
TZOFFSETFROM:+0000
TZOFFSETTO:+0000
TZNAME:UTC
DTSTART:20250101T000000
END:STANDARD
END:VTIMEZONE
BEGIN:VEVENT
DTSTART;TZID=UTC:20260121T180000
DTEND;TZID=UTC:20260121T200000
DTSTAMP:20260425T041428
CREATED:20260115T064258Z
LAST-MODIFIED:20260115T064258Z
UID:31255-1769018400-1769025600@visitpivka.si
SUMMARY:Odkrivajmo skupaj: V Kambodžo z Martinom Godino
DESCRIPTION:Potopisno predavanje – V Kambodžo z Martinom Godino\nLepo vabljeni v sredo\, 21. januarja 2026\, ob 18.uri\, v Krpanov dom v Pivki\, kjer boste skozi oči Pivčana\, Martina Godine\, spoznali Kambodžo – majhno državo velikega srca.\nPreko njegovega potepanja po velikih mestih in majhnih vasicah\, veličastnih templjih in toplih domačij\, slapovih v džunglah in božanskih peščenih plažah na rajskih otokih boste spoznali zgodovino te posebne države\, ki so jo zaznamovali veliki Kmerski Imperij in krvava dejanja Rdečih Kmerov; njeno kulturo in običaje\, ki so izklesale prijazne in pristne ljudi\, polnih srčnosti in iskrenosti ter preko njegovih dogodivščin spoznali svobodo\, ki jo v zahodnem svetu drugače pojmujemo.Prijazno vabljeni!
URL:https://visitpivka.si/dogodek/odkrivajmo-skupaj-v-kambodzo-z-martinom-godino/
LOCATION:Krpanov dom Pivka\, Prečna ulica 1\, Pivka\, 6257\, Slovenia
CATEGORIES:Predavanje
ATTACH;FMTTYPE=image/jpeg:https://visitpivka.si/wp-content/uploads/2026/01/612059529_1302556431676334_4425499086676631851_n.jpg
END:VEVENT
END:VCALENDAR