BEGIN:VCALENDAR
VERSION:2.0
PRODID:-//VisitPivka - ECPv6.15.20//NONSGML v1.0//EN
CALSCALE:GREGORIAN
METHOD:PUBLISH
X-ORIGINAL-URL:https://visitpivka.si
X-WR-CALDESC:Dogodki za VisitPivka
REFRESH-INTERVAL;VALUE=DURATION:PT1H
X-Robots-Tag:noindex
X-PUBLISHED-TTL:PT1H
BEGIN:VTIMEZONE
TZID:UTC
BEGIN:STANDARD
TZOFFSETFROM:+0000
TZOFFSETTO:+0000
TZNAME:UTC
DTSTART:20250101T000000
END:STANDARD
END:VTIMEZONE
BEGIN:VEVENT
DTSTART;TZID=UTC:20260216T090000
DTEND;TZID=UTC:20260220T120000
DTSTAMP:20260425T121400
CREATED:20260107T080344Z
LAST-MODIFIED:20260127T130457Z
UID:31130-1771232400-1771588800@visitpivka.si
SUMMARY:Doživite ZIMSKE POČITNICE v Pivki
DESCRIPTION:Zavod za turizem Pivka v sodelovanju s partnerji v času letošnjih februarskih zimskih počitnic pripravlja pester nabor brezplačnih delavnic in vodenih aktivnosti za otroke in družine. Delavnice so namenjene predvsem šolskim otrokom\, predšolski otroci pa se jih lahko udeležijo v spremstvu odrasle osebe. \nAktivnosti bodo potekale vsak dan med 16. in 20. februarjem\, med 9. in 12. uro. Otroci bodo skozi ustvarjanje\, raziskovanje in igro spoznavali kulturno in naravno dediščino Pivke ter njene posebnosti. \nDelavnice so brezplačne\, zaradi omejenega števila mest pa so obvezne predhodne prijave preko te elektronske prijavnice. \nPridržujemo si pravico do spremembe programa. \n  \nPROGRAM: \n Ponedeljek\, 16. februar: ustvarjalna delavnica v Hiši kulture v Pivki (zbor: Krpanov dom Pivka) \nPridi na prav posebno kiparsko delavnico in ustvari skulpturo na karseda hudomušen način. \n\n Torek\, 17. februar: pustna delavnica in peka v DSO SeneCura (zbor: Krpanov dom Pivka)Naredi svojo pustno masko in se nauči izdelovanja flancatov. Kdo jih lahko speče največ? \n\n Sreda\, 18. februar: Ptice pozimi\, delavnica DOPPS (zbor: Ekomuzej Pivških presihajočih jezer) *Skupaj bomo odkrivali svet ptic v zimskem času. \n\n Četrtek\, 19. februar: Mladi varuhi narave\, delavnica Društva LAS Med Snežnikom in Nanosom (zbor: Ekomuzej Pivških presihajočih jezer) *Rangerjev dan v krajinskem parku: spoznavanje narave ter naravne in kulturne dediščine parka skozi igro\, raziskovanje in praktične izzive. \n Petek\, 20. februar: Spoznajmo netopirje in ogled risanke. delavnica KP PPJ (zbor: Krpanov dom Pivka) * \nSkoči v svet netopirjev in spoznaj te skrivnostne nočne živali. Po delavnici sledi ogled risanega filma. \n  \n\nV primeru dodatnih vprašanj smo vam na voljo na info@visitpivka.si in 030/644-799. \n  \n  \n\n* Označene aktivnosti bodo potekale v okviru mednarodnega projekta sodelovanja »Krepitev podjetništva na podeželju in v varovanih območjih«\, katerega partner je tudi Občina Pivka. Projekt je sofinanciran iz evropskih sredstev programa LEADER.
URL:https://visitpivka.si/dogodek/dozivite-zimske-pocitnice-v-pivki/
LOCATION:Krpanov dom Pivka\, Prečna ulica 1\, Pivka\, 6257\, Slovenia
CATEGORIES:Delavnice
ATTACH;FMTTYPE=image/png:https://visitpivka.si/wp-content/uploads/2026/01/FB-event-covers-202x-19.png
ORGANIZER;CN="Zavod za turizem Pivka":MAILTO:info@visitpivka.si
END:VEVENT
END:VCALENDAR