BEGIN:VCALENDAR
VERSION:2.0
PRODID:-//VisitPivka - ECPv6.15.20//NONSGML v1.0//EN
CALSCALE:GREGORIAN
METHOD:PUBLISH
X-ORIGINAL-URL:https://visitpivka.si
X-WR-CALDESC:Dogodki za VisitPivka
REFRESH-INTERVAL;VALUE=DURATION:PT1H
X-Robots-Tag:noindex
X-PUBLISHED-TTL:PT1H
BEGIN:VTIMEZONE
TZID:UTC
BEGIN:STANDARD
TZOFFSETFROM:+0000
TZOFFSETTO:+0000
TZNAME:UTC
DTSTART:20240101T000000
END:STANDARD
END:VTIMEZONE
BEGIN:VEVENT
DTSTART;TZID=UTC:20251209T170000
DTEND;TZID=UTC:20251209T193000
DTSTAMP:20260425T160429
CREATED:20251204T094812Z
LAST-MODIFIED:20251204T094812Z
UID:30683-1765299600-1765308600@visitpivka.si
SUMMARY:Na-ključni in na-smrečni makrame
DESCRIPTION:NA-KLJUČNI IN NA-SMREČNI MAKRAME iz T-shirtov ; delavnica \nDelavnica reciklažnega makrame vozlanja\, vodstvo po aktualni razstavi galerije sodobne umetnosti in predstavitev trajnostne znamke Destilator \nTorek\, 9. december 2025\,\nHiša kulture v Pivki ; Snežniška cesta 2\, Pivka\n17:00 – 19:30 \nSimbolični prispevek: 10 eur\, otroci in upokojenci brezplačno\nObvezne prijave do ponedeljka\, 8.12. (do polnoči) na maja.modrijan@destilator.si / 041228900 (Mmaja) \nDobrodošli mladi in odrasli ter otroci v spremstvu odraslih. \nKustosinja galerije Hiša kulture v Pivki: Mojca Grmek (ogled razstave Leon Zuodar)\nTrajnostna oblikovalka Maja Modrijan / Destilator ; www.destilator.si (mentoriranje delavnice in predstavitev znamke) \nDecember je tu\, a osebna darila in nove okraske za jelko lahko z nekaj iznajdljivosti in kreative še vedno naredimo sami. \nNa delavnici se bomo naučili\, kako iz starih majic naredimo odlično mehko in prilagodljivo prejo za makrame vozlanje\, potem pa bomo osvojili nekaj osnovnih vozlov in tehnik makrameja in si z njimi naredili zapestnice\, obeske za ključe ter obeske za jelko\, smreko ali praznično vejo. \nPrinesi s sabo:\n– stare T-shirt majice (reklamne\, poflekane ali strgane) \nDogodek bo izveden v sodelovanju društev Destilator in Hiša kulture v Pivki ob podpori Občine Pivka.
URL:https://visitpivka.si/dogodek/na-kljucni-in-na-smrecni-makrame/
LOCATION:Hiša kulture v Pivki\, Snežniška cesta 2\, Pivka\, 6257\, Slovenia
CATEGORIES:Delavnice
ATTACH;FMTTYPE=image/jpeg:https://visitpivka.si/wp-content/uploads/2025/12/h1600.jpg
END:VEVENT
END:VCALENDAR