BEGIN:VCALENDAR
VERSION:2.0
PRODID:-//VisitPivka - ECPv6.15.20//NONSGML v1.0//EN
CALSCALE:GREGORIAN
METHOD:PUBLISH
X-ORIGINAL-URL:https://visitpivka.si
X-WR-CALDESC:Dogodki za VisitPivka
REFRESH-INTERVAL;VALUE=DURATION:PT1H
X-Robots-Tag:noindex
X-PUBLISHED-TTL:PT1H
BEGIN:VTIMEZONE
TZID:UTC
BEGIN:STANDARD
TZOFFSETFROM:+0000
TZOFFSETTO:+0000
TZNAME:UTC
DTSTART:20240101T000000
END:STANDARD
END:VTIMEZONE
BEGIN:VEVENT
DTSTART;TZID=UTC:20251018T100000
DTEND;TZID=UTC:20251018T113000
DTSTAMP:20260425T174851
CREATED:20251015T070628Z
LAST-MODIFIED:20251015T070628Z
UID:29531-1760781600-1760787000@visitpivka.si
SUMMARY:Betonsko zelena - ustvarjalna delavnica
DESCRIPTION:Vabimo vas na ustvarjalno delavnico ob razstavi Janje Kosi v galeriji Hiše kulture v Pivki.\n\nBetonsko zelenaotroška ustvarjalna delavnica18. oktober 2025 ob 10. uri\nMentorica: Silvija Šutej\n\nRazstava Blazinjenje umetnice Janje Kosi predstavlja dela iz ciklusa Yutori – to je japonski izraz za umirjanje življenjskega sloga in ustvarjanje na podlagi tega. Umetnica je izraz prenesla na slike in objekte\, predstavljene na razstavi. Izhajala je iz fotografij\, posnetih med vsakdanjimi opravili in opazovanjem okolice. Odnos med arhitekturo in rastlinjem je prevladujoči element\, ki bo inspiracija tudi za našo delavnico.\nZ otroci si bomo najprej skupaj ogledali razstavo\, se o njej pogovorili\, nato pa se lotili ustvarjanja. Iz palčk in papirja bomo ustvarili “arhitekturne” objekte\, na katere bomo umestili najrazličnejše intervencije “rastlinja” (bodisi pravega bodisi ustvarjenega).\nDelavnica traja 1 uro 30 minut. Primerna je za otroke od 6. leta dalje.\nDelavnica je brezplačna\, nanjo se je potrebno prijaviti na e-naslov hkpivka@gmail.com ali telefonsko številko 040 372 702.
URL:https://visitpivka.si/dogodek/betonsko-zelena-ustvarjalna-delavnica/
LOCATION:Hiša kulture v Pivki\, Snežniška cesta 2\, Pivka\, 6257\, Slovenia
CATEGORIES:Delavnice
ATTACH;FMTTYPE=image/jpeg:https://visitpivka.si/wp-content/uploads/2025/10/561420963_1211972064298000_5147601557653113629_n.jpg
END:VEVENT
BEGIN:VEVENT
DTSTART;TZID=UTC:20251021T170000
DTEND;TZID=UTC:20251021T190000
DTSTAMP:20260425T174851
CREATED:20251014T121849Z
LAST-MODIFIED:20251014T121850Z
UID:29527-1761066000-1761073200@visitpivka.si
SUMMARY:5. posvetovalno srečanje o upravljanju velikih zveri
DESCRIPTION:Zavod za turizem Pivka v sodelovanju z Biotehniško fakulteto Univerze v Ljubljani\, Zavodom za gozdove Slovenije in Kmetijsko-gozdarsko zbornico Slovenije organizira redna posvetovalna srečanja z občani glede upravljanja populacij velikih zveri (medveda\, volka in risa) in delovanja centra DINA Pivka.\nVabimo vas na peto srečanje\, ki bo potekalo v torek\, 21. oktobra 2025\, ob 17. uri\, v sejni sobi Centra za velike zveri DINA Pivka.\nSrečanje bo trajalo predvidoma dve uri.\nK sodelovanju vabimo vse\, ki jih tematika zanima\, ne glede na to\, ali so se udeležili preteklih srečanj. Namen dogodka je izmenjava mnenj\, izkušenj in predlogov o sobivanju z velikimi zvermi ter iskanje skupnih rešitev. \nDnevni red:\nPozdrav vabljenih (Robert Smrdelj\, Občina Pivka)\nPovzetek preteklih srečanj (Aleksandra Majić Skrbinšek\, Univerza v Ljubljani)\nPredstavitev Poročila o aktivnostih za preprečevanje škod po velikih zvereh v kmetijstvu v Republiki Sloveniji (2010 – 2024) (Tomaž Berce\, Nika Mohorič\, Zavod za gozdove Slovenije)\nIzvajanje ukrepov za preprečevanje škod po velikih zvereh na območju Pivškega (Majda Godina\, Janja Kodrič\, KGZ NG\, enota Postojna)\nPregled vsebine plakata Vedenje volkov in kako se vesti na območju prisotnosti volka (Aleksandra Majić Skrbinšek\, Univerza v Ljubljani)\nPredstavitev ekskurzije za izmenjavo izkušenj (Naravni deželni park Lessinia) (Irena Kavčič\, Univerza v Ljubljani) \nDodatne vsebine:\nZaradi lažje organizacije dogodka vas prosimo\, da se prijavite prek spletnega obrazca. \nZapisniki preteklih srečanj so dostopni na tej spletni povezavi: \n\n \n\n5. posvetovalno srečanje o upravljanju velikih zveri poteka v okviru projekta LIFE Wild Wolf.\nZa več informacij o dogodku nam pišite na info@dinapivka.si.
URL:https://visitpivka.si/dogodek/5-posvetovalno-srecanje-o-upravljanju-velikih-zveri/
LOCATION:Krpanov dom Pivka\, Prečna ulica 1\, Pivka\, 6257\, Slovenia
CATEGORIES:Delavnice
ATTACH;FMTTYPE=image/png:https://visitpivka.si/wp-content/uploads/2025/10/5.-posvetovalno-header-2.png
END:VEVENT
BEGIN:VEVENT
DTSTART;TZID=UTC:20251022T170000
DTEND;TZID=UTC:20251022T190000
DTSTAMP:20260425T174851
CREATED:20251007T111022Z
LAST-MODIFIED:20251007T111022Z
UID:29309-1761152400-1761159600@visitpivka.si
SUMMARY:Brezplačna delavnica Spoznajmo čmrlje in čebele samotarke
DESCRIPTION:V okviru projekta “Brenčimo s kolesom” vas BEe in foREST\, apiturizem\, Aleš Jenko s.p.\, v sodelovanju s Krajinskim parkom Pivška presihajoča jezera in Društvom Drobnovratnik\, vabijo na brezplačno delavnico: “Spoznajmo čmrlje in čebele samotarke”.\n\nKdaj? V sredo\, 22. oktobra 2025\, ob 17. uriKje? V Ekomuzeju Pivških presihajočih jezer (Slovenska vas 10\, 6257 Pivka).\n\nNa dogodku bomo odkrivali življenje čmrljev in čebel samotark\, spoznali njihov pomen\, grožnje in možnosti\, kako jim lahko pomagamo.\nPraktični del bo namenjen izdelavi gnezdilnic\, ki jih boste lahko uporabili tudi doma.\n\nDelavnico bo izvedla Čmrljica – slovensko društvo za varstvo opraševalcev.\nUdeležba je brezplačna. Število mest je omejeno. Prosimo\, da izpolnite obrazec in si zagotovite svoje mesto. \nObrazec je dostopen tukaj: https://forms.gle/siQvm9ntppYWU2L68
URL:https://visitpivka.si/dogodek/brezplacna-delavnica-spoznajmo-cmrlje-in-cebele-samotarke/
LOCATION:Ekomuzej Pivških presihajočih jezer\, Slovenska vas 10\, Pivka\, 6257\, Slovenia
CATEGORIES:Delavnice
ATTACH;FMTTYPE=image/jpeg:https://visitpivka.si/wp-content/uploads/2025/10/552387425_1493080532495724_2480085416962863547_n.jpg
END:VEVENT
BEGIN:VEVENT
DTSTART;TZID=UTC:20251027T090000
DTEND;TZID=UTC:20251027T120000
DTSTAMP:20260425T174851
CREATED:20251008T081406Z
LAST-MODIFIED:20251008T081406Z
UID:29346-1761555600-1761566400@visitpivka.si
SUMMARY:Jesenske počitniške delavnice
DESCRIPTION:PRIHAJAJO NOVE DOGODIVŠČINEZa šolarje zopet pripravljamo super počitniški program\, ki je v celoti brezplačen – od ponedeljka\, 27.10.\, pa do četrtka\, 30.10.\, se bodo med 9.00 in 12.00 odvijale brezplačne jesenske aktivnostiKer so vse aktivnosti zasnovane z mislijo na medgeneracijski vidik\, vabimo tudi vse starše\, babice\, dedke\, da se nam skupaj z otroki pridružite.\nPrijave so obvezne\, zbiramo jih preko obrazca https://forms.gle/32KRYEZtFvw5K1Kk9\nPridržujemo si pravico do spremembe programa. Za vsa vprašanja smo na voljo na info@visitpivka.si ali +386 (0) 30 644 799.
URL:https://visitpivka.si/dogodek/jesenske-pocitniske-delavnice/
LOCATION:Krpanov dom Pivka\, Prečna ulica 1\, Pivka\, 6257\, Slovenia
CATEGORIES:Delavnice
ATTACH;FMTTYPE=image/png:https://visitpivka.si/wp-content/uploads/2025/10/FB-event-covers-202x-8.png
ORGANIZER;CN="Zavod za turizem Pivka":MAILTO:info@visitpivka.si
END:VEVENT
END:VCALENDAR