BEGIN:VCALENDAR
VERSION:2.0
PRODID:-//VisitPivka - ECPv6.15.20//NONSGML v1.0//EN
CALSCALE:GREGORIAN
METHOD:PUBLISH
X-ORIGINAL-URL:https://visitpivka.si
X-WR-CALDESC:Dogodki za VisitPivka
REFRESH-INTERVAL;VALUE=DURATION:PT1H
X-Robots-Tag:noindex
X-PUBLISHED-TTL:PT1H
BEGIN:VTIMEZONE
TZID:UTC
BEGIN:STANDARD
TZOFFSETFROM:+0000
TZOFFSETTO:+0000
TZNAME:UTC
DTSTART:20250101T000000
END:STANDARD
END:VTIMEZONE
BEGIN:VEVENT
DTSTART;TZID=UTC:20260423T103000
DTEND;TZID=UTC:20260423T233000
DTSTAMP:20260424T214500
CREATED:20260416T080429Z
LAST-MODIFIED:20260416T080429Z
UID:32509-1776940200-1776987000@visitpivka.si
SUMMARY:Vseslovensko petje s srci
DESCRIPTION:S skupnim prepevanjem slovenskih pesmi povezujemo vse generacije\, negujemo slovensko kulturo in jezik\, krepimo narodno pripadnost ter ustvarjamo prijetnejše vzdušje. Skupaj se povežemo z mislijo na ljubezen\, zdravje\, radost\, mir. \nVabljeni tudi harmonikaši in drugi glasbeniki! \nVabljeni v četrtek\, 23. aprila med 10.30 in 11.30 uro pred Krpanov dom. Poje vsak\, ki je pripravljen prispevati svoj glas − tisti z vrhunsko glasbeno izobrazbo ali tisti brez posluha. Vsak lahko prispeva k skupnemu prepevanju s svojim petjem. Pomemben je namen.
URL:https://visitpivka.si/dogodek/vseslovensko-petje-s-srci/
LOCATION:Krpanov dom Pivka\, Prečna ulica 1\, Pivka\, 6257\, Slovenia
CATEGORIES:Kulturni dogodki
ATTACH;FMTTYPE=image/png:https://visitpivka.si/wp-content/uploads/2026/04/Karavana-SK-1080x675-1.png
ORGANIZER;CN="Zavod za turizem Pivka":MAILTO:info@visitpivka.si
END:VEVENT
BEGIN:VEVENT
DTSTART;TZID=UTC:20260423T190000
DTEND;TZID=UTC:20260423T210000
DTSTAMP:20260424T214500
CREATED:20260327T101827Z
LAST-MODIFIED:20260327T101827Z
UID:32426-1776970800-1776978000@visitpivka.si
SUMMARY:Zadnji viking / Den sidste viking
DESCRIPTION:Anders Thomas Jensen / Danska / 2025 / 116 min / danščina\, švedščina \nMads Mikkelsen kot John Lennon v krvavi\, skandinavsko odštekani črni komediji o dveh bratih\, ki se odpravita na pot\, da bi našla davno zakopani plen – in spotoma odkrijeta sama sebe. »Chiquitita\, you and I know …« \nzgodba \nKo Ankerja po petnajstih letih izpustijo iz zapora\, kjer je prestajal kazen zaradi bančnega ropa\, ima pred seboj samo en cilj: končno priti do denarja\, ki ga je zakopal njegov brat Manfred. Težava je le v tem\, da je Manfred medtem razvil disociativno motnjo identitete in se ne spomni ničesar … Tu so še stara hiša sredi gozda\, vikingi\, ABBA\, bobri\, holokavst\, IKEA … in seveda John Lennon.
URL:https://visitpivka.si/dogodek/zadnji-viking-den-sidste-viking/
LOCATION:Kino Pivka\, Prečna ulica 1\, Pivka\, Slovenija\, 6257\, Slovenia
CATEGORIES:Kino
ATTACH;FMTTYPE=image/jpeg:https://visitpivka.si/wp-content/uploads/2026/03/KPIVKA-zadnjiviking.jpg
ORGANIZER;CN="Kino Pivka":MAILTO:kino.pivka@pivka.si
END:VEVENT
END:VCALENDAR