BEGIN:VCALENDAR
VERSION:2.0
PRODID:-//VisitPivka - ECPv6.15.20//NONSGML v1.0//EN
CALSCALE:GREGORIAN
METHOD:PUBLISH
X-ORIGINAL-URL:https://visitpivka.si
X-WR-CALDESC:Dogodki za VisitPivka
REFRESH-INTERVAL;VALUE=DURATION:PT1H
X-Robots-Tag:noindex
X-PUBLISHED-TTL:PT1H
BEGIN:VTIMEZONE
TZID:UTC
BEGIN:STANDARD
TZOFFSETFROM:+0000
TZOFFSETTO:+0000
TZNAME:UTC
DTSTART:20250101T000000
END:STANDARD
END:VTIMEZONE
BEGIN:VEVENT
DTSTART;TZID=UTC:20260417T170000
DTEND;TZID=UTC:20260417T180000
DTSTAMP:20260424T214423
CREATED:20260416T075748Z
LAST-MODIFIED:20260416T075748Z
UID:32505-1776445200-1776448800@visitpivka.si
SUMMARY:Fotografska razstava UTRINKI S SPREHODA
DESCRIPTION:Vabljeni na ogled fotografske razstave UTRINKI S SPREHODA. Avtorji fotografij so člani Fotokluba Sušec iz Ilirske Bistrice: \n\nAlenka Skubar\nIrena Štembergar\nKatja Mihelj\nManica Radivo\nMilanka Udovič\nNeta Vergan\nPolona Vida Čeligoj\nPetra Spetič\nTina Renko\nVesna Mihelj\nAndrej Udovič\nAnže Štajnrajh\nBranko Česnik\nRok Godec\nRudi Tomšič\nStojan Spetič in\nVojko Mihelj.\n\nOdprtje razstave bo v petek\, 17. 4. 2026. ob 17.00 uri v galeriji Krpanovega doma v Pivki. \nVljudno vabljeni!
URL:https://visitpivka.si/dogodek/fotografska-razstava-utrinki-s-sprehoda/
LOCATION:Galerija Krpanov dom Pivka\, Prečna ulica 1\, Pivka\, Slovenia\, 6257\, Slovenia
CATEGORIES:Razstava
ATTACH;FMTTYPE=image/jpeg:https://visitpivka.si/wp-content/uploads/2026/04/Utrinki-s-sprehoda_page-0002-e1776326254494.jpg
END:VEVENT
BEGIN:VEVENT
DTSTART;TZID=UTC:20260417T190000
DTEND;TZID=UTC:20260417T210000
DTSTAMP:20260424T214423
CREATED:20260327T100024Z
LAST-MODIFIED:20260327T100024Z
UID:32417-1776452400-1776459600@visitpivka.si
SUMMARY:Drama / The Drama
DESCRIPTION:Kristoffer Borgli / ZDA / 2026 / 106 min / angleščina \nZgodba \nSrečno zaročen par je postavljen na preizkušnjo\, ko nepričakovan preobrat njun poročni teden postavi na glavo. \nRomantična komedija Drama\, ki jo je napisal in režiral Kristoffer Borgli\, spremlja Charlieja\, britanskega izseljenca in kustosa v muzeju\, ter Emmo\, literarno urednico. Spoznata se v kavarni v Cambridgeu. Med njima hitro preskoči iskrica in po vrtoglavi romanci kmalu zaživita skupaj ter začneta načrtovati poroko. Toda njuno na videz popolno razmerje doživi pretres\, ko med sproščeno igro »Kaj je najhujša stvar\, ki si jo kdaj naredil?« na plan pride nepričakovano priznanje. Razkritje sproži dvome\, nezaupanje in čustveni kaos\, ki njuno zvezo postavi na resno preizkušnjo tik pred poroko. \nFilm z duhovitostjo in kančkom črnega humorja raziskuje\, koliko resnice si v resnici želimo vedeti o ljudeh\, ki so nam najbližje. V svetu pretiranega razkrivanja skrivnosti se Charlie in Emma znajdeta pred dilemo: ali lahko ljubezen preživi popolno iskrenost – ali pa prav resnica razkrije razpoke\, ki jih ni več mogoče skriti. \nSodobna\, duhovita in čustvena zgodbo o zaročenem paru\, katerega življenje se tik pred poroko spremeni v nepredvidljivo zaporedje dogodkov. Film združuje humor\, romantiko in prepoznaven avtorski slog ter izjemno privlačno igralsko zasedbo.
URL:https://visitpivka.si/dogodek/drama-the-drama/
LOCATION:Kino Pivka\, Prečna ulica 1\, Pivka\, Slovenija\, 6257\, Slovenia
CATEGORIES:Kino
ATTACH;FMTTYPE=image/jpeg:https://visitpivka.si/wp-content/uploads/2026/03/KPIVKA-Drama.jpg
ORGANIZER;CN="Kino Pivka":MAILTO:kino.pivka@pivka.si
END:VEVENT
END:VCALENDAR