BEGIN:VCALENDAR
VERSION:2.0
PRODID:-//VisitPivka - ECPv6.15.20//NONSGML v1.0//EN
CALSCALE:GREGORIAN
METHOD:PUBLISH
X-WR-CALNAME:VisitPivka
X-ORIGINAL-URL:https://visitpivka.si
X-WR-CALDESC:Dogodki za VisitPivka
REFRESH-INTERVAL;VALUE=DURATION:PT1H
X-Robots-Tag:noindex
X-PUBLISHED-TTL:PT1H
BEGIN:VTIMEZONE
TZID:UTC
BEGIN:STANDARD
TZOFFSETFROM:+0000
TZOFFSETTO:+0000
TZNAME:UTC
DTSTART:20250101T000000
END:STANDARD
END:VTIMEZONE
BEGIN:VEVENT
DTSTART;TZID=UTC:20260416T190000
DTEND;TZID=UTC:20260416T210000
DTSTAMP:20260424T214344
CREATED:20260327T095451Z
LAST-MODIFIED:20260327T095725Z
UID:32413-1776366000-1776373200@visitpivka.si
SUMMARY:Pesnik / Un poeta
DESCRIPTION:Simón Mesa Soto / Kolumbija\, Švedska\, Nemčija / 2025 / 123 min / španščina \nFilm o nič kaj poetični resničnosti nevrotičnega pesnika spretno krmari med komedijo nelagodja ter ganljivo dramo o izgubljenem (in znova najdenem) upanju. Edinstven film s še bolj edinstvenim glavnim likom. \nzgodba \nÓscarju Restrepu ljubezen do poezije ni prinesla slave. »Večni sanjač«\, kot se opiše sam\, je z leti povsem podlegel klišeju prekletega pesnika – ali kot se izrazi njegov uspešnejši kolega: spremenil se je v pesem\, in to še precej žalostno. Ko spozna Yurlady\, nadarjeno najstnico iz revnega okolja\, in ji začne pomagati pri razvijanju pesniškega potenciala\, v Óscarjevo življenje posije žarek svetlobe. Toda njegovo vztrajanje\, da dekle vpelje v muhasti svet pesnikov\, morda ni najboljša ideja.
URL:https://visitpivka.si/dogodek/pesnik-un-poeta/
LOCATION:Kino Pivka\, Prečna ulica 1\, Pivka\, Slovenija\, 6257\, Slovenia
CATEGORIES:Kino
ATTACH;FMTTYPE=image/jpeg:https://visitpivka.si/wp-content/uploads/2026/03/KPIVKA-ipesnik.jpg
ORGANIZER;CN="Kino Pivka":MAILTO:kino.pivka@pivka.si
END:VEVENT
END:VCALENDAR