BEGIN:VCALENDAR
VERSION:2.0
PRODID:-//VisitPivka - ECPv6.15.20//NONSGML v1.0//EN
CALSCALE:GREGORIAN
METHOD:PUBLISH
X-WR-CALNAME:VisitPivka
X-ORIGINAL-URL:https://visitpivka.si
X-WR-CALDESC:Dogodki za VisitPivka
REFRESH-INTERVAL;VALUE=DURATION:PT1H
X-Robots-Tag:noindex
X-PUBLISHED-TTL:PT1H
BEGIN:VTIMEZONE
TZID:UTC
BEGIN:STANDARD
TZOFFSETFROM:+0000
TZOFFSETTO:+0000
TZNAME:UTC
DTSTART:20250101T000000
END:STANDARD
END:VTIMEZONE
BEGIN:VEVENT
DTSTART;TZID=UTC:20260410T190000
DTEND;TZID=UTC:20260410T210000
DTSTAMP:20260424T214342
CREATED:20260327T094830Z
LAST-MODIFIED:20260327T094830Z
UID:32411-1775847600-1775854800@visitpivka.si
SUMMARY:Ohcet / Svadba
DESCRIPTION:Igor Šeregi / Hrvaška\, Srbija / 2026 / 95 min / podnapisi \nKaj se zgodi\, ko hrvaški podjetnik izve\, da je njegova edinka noseča s Srbom? In kaj\, ko srbski minister izve\, da bo dobil hrvaško snaho? Čista komedija brez kančka tem iz devetdesetih! Glasna zabavna in topla komedija z eno najmočnejših igralskih zasedb v regiji zadnjega časa (Rene Bitorajac\, Dragan Bjelogrlić\, Anđelka Stević Žugić\, Dejan Aćimović\, Srđan Žika Todorović\, Linda Begonja … \nFilm Ohcet (Svadba) režiserja Igorja Šeregija nas bo popeljal na zabavno potovanje skozi balkanske družinske drame in nepričakovane zaplete. Pričakuje se\, da bi to lahko postal najbolj gledan regionalni film zadnjih dveh desetletij. \nKo se v istem kadru znajdejo igralski velikani in naravni komiki\, kot sta Rene Bitorajac in Dragan Bjelogrlić\, je to zagotovilo za pravi filmski hit. A tudi preostanek ekipe ni nič manj zvezdniški! Linda Begonja\, Vesna Trivalić\, Anđelka Stević Žugić\, Roko Sikavica\, Nika Grbelja\, Marko Grabež ter legendarni Seka Sablić\, Snježana Sinovčić-Šiškov\, Srđan Žika Todorović in Dejan Aćimović bodo brez dvoma pritegnili občinstvo vseh generacij! \n»Če velja pregovor\, da se dan pozna po jutru\, moram nekaj reči. Običajno mora nekaj najprej postati uspešnica\, da ga lahko tako imenujemo\, jaz pa tokrat napovedujem hit\, še preden to uradno postane. Če se motim\, si obrijem brke. Mi smo se med snemanjem noro zabavali\, zdaj ste na vrsti vi!« je povedal Rene Bitorajac. \nZgodba \nZgodba spremlja znanega hrvaškega podjetnika Miljenka\, čigar rojstni dan doživi nepričakovan preobrat – medtem ko družina prihaja s torto in tamburaši\, zazvoni telefon: njegova hči kliče iz Londona. Noseča je\, oče njenega otroka pa je sin srbskega ministra. Od tega trenutka naprej se začne popoln kaos – situacija je napeta\, izjemno zabavna in čustveno bogata\, odnos obeh družin pa ves čas niha med toplo družinsko pripovedjo in mednarodnim incidentom.
URL:https://visitpivka.si/dogodek/ponovitev-ohcet-svadba/
LOCATION:Kino Pivka\, Prečna ulica 1\, Pivka\, Slovenija\, 6257\, Slovenia
CATEGORIES:Kino
ATTACH;FMTTYPE=image/jpeg:https://visitpivka.si/wp-content/uploads/2026/02/KPIVKA-1920x1080-ohcet.jpg
ORGANIZER;CN="Kino Pivka":MAILTO:kino.pivka@pivka.si
END:VEVENT
END:VCALENDAR