BEGIN:VCALENDAR
VERSION:2.0
PRODID:-//VisitPivka - ECPv6.15.20//NONSGML v1.0//EN
CALSCALE:GREGORIAN
METHOD:PUBLISH
X-WR-CALNAME:VisitPivka
X-ORIGINAL-URL:https://visitpivka.si
X-WR-CALDESC:Dogodki za VisitPivka
REFRESH-INTERVAL;VALUE=DURATION:PT1H
X-Robots-Tag:noindex
X-PUBLISHED-TTL:PT1H
BEGIN:VTIMEZONE
TZID:UTC
BEGIN:STANDARD
TZOFFSETFROM:+0000
TZOFFSETTO:+0000
TZNAME:UTC
DTSTART:20250101T000000
END:STANDARD
END:VTIMEZONE
BEGIN:VEVENT
DTSTART;TZID=UTC:20260407T130000
DTEND;TZID=UTC:20260407T150000
DTSTAMP:20260424T214252
CREATED:20260407T064835Z
LAST-MODIFIED:20260407T064835Z
UID:32490-1775566800-1775574000@visitpivka.si
SUMMARY:Predavanje Zavezniško bombardiranje Slovenije 1944 - 1945
DESCRIPTION:V sredo\, 8. aprila 2026\, ob 13.00 uri vas vabimo na predavanje zgodovinarja Saša Radovanoviča z naslovom ZAVEZNIŠKO BOMBARDIRANJE SLOVENIJE 1944-1945. \nSašo Radovanovič\, avtor razstave Slovenija pod točo bomb\, ki je bila septembra 2024 odprta v Parku vojaške zgodovine\, bo na podlagi obsežne študije več kot 500.000 arhivskih dokumentov ponovno osvetlil eno od zamolčanih poglavij druge svetovne vojne na naših tleh. Od januarja 1944 so maja 1945 so zavezniška letala izvedla več kot 800 bombnih napadov na cilje v Sloveniji – na več kot 90 krajev je padlo okoli 40.000 bomb\, nekatere pa pod našimi nogami ležijo še danes. \nVljudno vabljeni!
URL:https://visitpivka.si/dogodek/predavanje-zaveznisko-bombardiranje-slovenije-1944-1945/
LOCATION:Park vojaške zgodovine Pivka\, Kolodvorska cesta 51\, Pivka\, 6257\, Slovenia
CATEGORIES:Predavanje
ATTACH;FMTTYPE=image/jpeg:https://visitpivka.si/wp-content/uploads/2026/04/313bbb27-18ed-4af0-a4f0-6008ff3eb4c2.jpg
ORGANIZER;CN="Park voja%C5%A1ke zgodovine Pivka":MAILTO:info@parkvojaskezgodovine.si
END:VEVENT
END:VCALENDAR