BEGIN:VCALENDAR
VERSION:2.0
PRODID:-//VisitPivka - ECPv6.15.20//NONSGML v1.0//EN
CALSCALE:GREGORIAN
METHOD:PUBLISH
X-WR-CALNAME:VisitPivka
X-ORIGINAL-URL:https://visitpivka.si
X-WR-CALDESC:Dogodki za VisitPivka
REFRESH-INTERVAL;VALUE=DURATION:PT1H
X-Robots-Tag:noindex
X-PUBLISHED-TTL:PT1H
BEGIN:VTIMEZONE
TZID:UTC
BEGIN:STANDARD
TZOFFSETFROM:+0000
TZOFFSETTO:+0000
TZNAME:UTC
DTSTART:20250101T000000
END:STANDARD
END:VTIMEZONE
BEGIN:VEVENT
DTSTART;TZID=UTC:20260312T190000
DTEND;TZID=UTC:20260312T210000
DTSTAMP:20260425T010537
CREATED:20260227T093708Z
LAST-MODIFIED:20260303T133651Z
UID:31983-1773342000-1773349200@visitpivka.si
SUMMARY:Junakinja / Heldin
DESCRIPTION:Petra Volpe / Švica\, Nemčija / 2025 / 92 min / nemščina\, turščina\, francoščina \nFilm\, posnet v ritmu napetega trilerja\, spremlja povsem običajno delovno izmeno medicinske sestre v prenatrpani švicarski bolnišnici. Poklon izjemnim ljudem\, ki nas spremljajo v najtežjih trenutkih življenja. \nzgodba \nMedicinska sestra Floria začne nočno izmeno na kirurškem oddelku švicarske bolnišnice. Ena od sodelavk je zbolela\, zato morata s kolegico sami poskrbeti za petindvajset pacientov. Floria stresno delovno rutino obvladuje z neomajno predanostjo in profesionalnostjo\, v oskrbo bolnikov pa vnaša človečnost in toplino. Toda naloge se kopičijo\, nujni primeri se stopnjujejo in noč se kmalu sprevrže v neusmiljeno bitko s časom.
URL:https://visitpivka.si/dogodek/junakinja-heldin/
LOCATION:Kino Pivka\, Prečna ulica 1\, Pivka\, Slovenija\, 6257\, Slovenia
CATEGORIES:Kino
ATTACH;FMTTYPE=image/jpeg:https://visitpivka.si/wp-content/uploads/2026/02/Junakinja.jpg
ORGANIZER;CN="Kino Pivka":MAILTO:kino.pivka@pivka.si
END:VEVENT
END:VCALENDAR