BEGIN:VCALENDAR
VERSION:2.0
PRODID:-//VisitPivka - ECPv6.15.20//NONSGML v1.0//EN
CALSCALE:GREGORIAN
METHOD:PUBLISH
X-WR-CALNAME:VisitPivka
X-ORIGINAL-URL:https://visitpivka.si
X-WR-CALDESC:Dogodki za VisitPivka
REFRESH-INTERVAL;VALUE=DURATION:PT1H
X-Robots-Tag:noindex
X-PUBLISHED-TTL:PT1H
BEGIN:VTIMEZONE
TZID:UTC
BEGIN:STANDARD
TZOFFSETFROM:+0000
TZOFFSETTO:+0000
TZNAME:UTC
DTSTART:20250101T000000
END:STANDARD
END:VTIMEZONE
BEGIN:VEVENT
DTSTART;TZID=UTC:20260221T100000
DTEND;TZID=UTC:20260221T233000
DTSTAMP:20260425T011504
CREATED:20260113T055606Z
LAST-MODIFIED:20260115T101421Z
UID:31229-1771668000-1771716600@visitpivka.si
SUMMARY:Brezplačen voden ogled Centra DINA Pivka
DESCRIPTION:Ob Mednarodnem dnevu turističnih vodnikov\, ki ga vsako leto obeležujemo februarja\, tudi v Pivki vabimo obiskovalce\, da se nam pridružijo na brezplačnih vodenih ogledih\, s katerimi želimo poudariti pomen kakovostnega turističnega vodenja ter predstaviti bogato naravno in kulturno dediščino kraja. \nNa Zavodu za turizem Pivka bomo ta dan obeležili z brezplačnimi vodenji\, namenjenimi domačinom in obiskovalcem od drugod. \nV soboto\, 21. februarja\, bo potekal naslednji program: \n\nob 10. uri brezplačen voden ogled Center DINA\,\nob 14. uri brezplačen voden ogled Ekomuzej Pivških presihajočih jezer.\n\nVodenja bodo obiskovalcem približala zgodbe o velikih zvereh\, kraški naravi ter edinstvenem pojavu presihajočih jezer\, ki pomembno zaznamujejo območje Zelenega krasa in Pivke. \nDogodek poteka v okviru projekta LAS Oznaka Medvedu prijazno\, katerega cilj je spodbujanje trajnostnega razvoja\, odgovornega odnosa do narave ter sobivanja človeka in velikih zveri. Oznaka povezuje ponudnike\, ki v svoje delovanje vključujejo trajnostna načela in lokalne vrednote. \nZavod za turizem Pivka v projektu sodeluje pri upravljanju trajnostne oznake Medvedu prijazno\, hkrati pa sta Center DINA in Ekomuzej Pivških presihajočih jezer vključena v mrežo ponudnikov. Izdelki z oznako Medvedu prijazno so na voljo v trgovinicah obeh centrov\, v okviru projekta pa bodo v mrežo vključeni tudi izobraževalni in doživljajski programi\, ki jih centra izvajata za obiskovalce. \nŠtevilo mest je omejeno\, obvezne prijave preko tega obrazca. \n  \nVabljeni\, da se nam pridružite na brezplačnih vodenih ogledih in Mednarodni dan turističnih vodnikov doživite v Pivki.
URL:https://visitpivka.si/dogodek/brezplacen-voden-ogled-centra-dina-pivka/
LOCATION:Center DINA Pivka\, Prečna ulica 1\, Pivka\, Pivka\, 6257\, Slovenia
CATEGORIES:Medvedu prijazno
ATTACH;FMTTYPE=image/png:https://visitpivka.si/wp-content/uploads/2026/01/2.-2026-Brezplacna-vodenja-ob-Mednarodnem-dnevu-turisticnih-vodnikov.png
ORGANIZER;CN="Zavod za turizem Pivka":MAILTO:info@visitpivka.si
END:VEVENT
BEGIN:VEVENT
DTSTART;TZID=UTC:20260221T140000
DTEND;TZID=UTC:20260221T153000
DTSTAMP:20260425T011504
CREATED:20260113T055832Z
LAST-MODIFIED:20260115T101416Z
UID:31231-1771682400-1771687800@visitpivka.si
SUMMARY:Brezplačni voden ogled Ekomuzeja Pivških presihajočih jezer
DESCRIPTION:Ob Mednarodnem dnevu turističnih vodnikov\, ki ga vsako leto obeležujemo februarja\, tudi v Pivki vabimo obiskovalce\, da se nam pridružijo na brezplačnih vodenih ogledih\, s katerimi želimo poudariti pomen kakovostnega turističnega vodenja ter predstaviti bogato naravno in kulturno dediščino kraja. \nNa Zavodu za turizem Pivka bomo ta dan obeležili z brezplačnimi vodenji\, namenjenimi domačinom in obiskovalcem od drugod. \nV soboto\, 21. februarja\, bo potekal naslednji program: \n\nob 10. uri brezplačen voden ogled Center DINA\,\nob 14. uri brezplačen voden ogled Ekomuzej Pivških presihajočih jezer.\n\nVodenja bodo obiskovalcem približala zgodbe o velikih zvereh\, kraški naravi ter edinstvenem pojavu presihajočih jezer\, ki pomembno zaznamujejo območje Zelenega krasa in Pivke. \nDogodek poteka v okviru projekta LAS Oznaka Medvedu prijazno\, katerega cilj je spodbujanje trajnostnega razvoja\, odgovornega odnosa do narave ter sobivanja človeka in velikih zveri. Oznaka povezuje ponudnike\, ki v svoje delovanje vključujejo trajnostna načela in lokalne vrednote. \nZavod za turizem Pivka v projektu sodeluje pri upravljanju trajnostne oznake Medvedu prijazno\, hkrati pa sta Center DINA in Ekomuzej Pivških presihajočih jezer vključena v mrežo ponudnikov. Izdelki z oznako Medvedu prijazno so na voljo v trgovinicah obeh centrov\, v okviru projekta pa bodo v mrežo vključeni tudi izobraževalni in doživljajski programi\, ki jih centra izvajata za obiskovalce. \nŠtevilo mest je omejeno\, obvezne prijave preko tega obrazca. \n  \nVabljeni\, da se nam pridružite na brezplačnih vodenih ogledih in Mednarodni dan turističnih vodnikov doživite v Pivki.
URL:https://visitpivka.si/dogodek/brezplacni-voden-ogled-ekomuzeja-pivskih-presihajocih-jezer/
LOCATION:Ekomuzej Pivških presihajočih jezer\, Slovenska vas 10\, Pivka\, 6257\, Slovenia
CATEGORIES:Medvedu prijazno
ATTACH;FMTTYPE=image/png:https://visitpivka.si/wp-content/uploads/2026/01/2.-2026-Brezplacna-vodenja-ob-Mednarodnem-dnevu-turisticnih-vodnikov.png
ORGANIZER;CN="Zavod za turizem Pivka":MAILTO:info@visitpivka.si
END:VEVENT
BEGIN:VEVENT
DTSTART;TZID=UTC:20260221T150000
DTEND;TZID=UTC:20260221T220000
DTSTAMP:20260425T011504
CREATED:20260210T105120Z
LAST-MODIFIED:20260210T113521Z
UID:31646-1771686000-1771711200@visitpivka.si
SUMMARY:Nepalski večer
DESCRIPTION:Združenje Sangai organizira Nepalski večer\, kjer bodo skozi hrano\, glasbo\, dokumentarna filma\, razstavo\, predavanjem Vikija Grošlja in osebne zgodbe lokalnemu prebivalstvu predstavili nepalsko kulturo ter nove člane nepalske skupnosti.\nNa dogodku želimo ustvariti prostor za srečanje\, medsebojno razumevanje in odprt medkulturni dialog.\n\nPROGRAM:\n15:00 – Otvoritev dogodka (uvodni govor\, odprtje nepalske kuhinje\, odprtje bara lokalnega ponudnika\, odprtje razstave o Nepalu)\n15:45 – 16:15 – Ogled kratkega dokumentarnega filma (premierna predstavitev dveh delov dokumentarca o vključevanju delovnih migrantov iz tretjih držav v lokalno okolje)\n16:15 – 16:45 – Čas za druženje in pogovor\n16:45 – 17:15 – Umetniški vložek (predstavitev nepalske kulture skozi glasbo)\n17:15 – 18:00 – Čas za druženje in pogovor\n18:00 – 20:00 – Predavanje Viktorja Grošlja\n20:00 – 22:00 – Čas za druženje in pogovor ter zaključek večera\n\nVabljeni na sproščen večer druženja\, povezovanja in skupnih trenutkov.\nPri dogodku nam pomagajo Občina Pivka\, Zavod za turizem Pivka ter Skupina Pivka Delamaris.
URL:https://visitpivka.si/dogodek/nepalski-vecer/
LOCATION:Krpanov dom Pivka\, Prečna ulica 1\, Pivka\, 6257\, Slovenia
CATEGORIES:Okusi Pivke
ATTACH;FMTTYPE=image/jpeg:https://visitpivka.si/wp-content/uploads/2026/02/629142615_122108510973222128_1180175243961349936_n.jpg
END:VEVENT
BEGIN:VEVENT
DTSTART;TZID=UTC:20260221T160000
DTEND;TZID=UTC:20260221T180000
DTSTAMP:20260425T011504
CREATED:20260210T101913Z
LAST-MODIFIED:20260210T101913Z
UID:31637-1771689600-1771696800@visitpivka.si
SUMMARY:ŠKRAT: Nov začetek / Skrzat: Nowy Poczatek
DESCRIPTION:Krzysztof Komander / 2025 / Poljska\, Češka / 99 min \nkratek sinopsis \nEnajstletna HANIA se z očetom preseli v drug kraj. Ker še vedno verjame v škrate\, se vsi v šoli norčujejo iz nje. Zaveznika najde v MICHAŁU\, ki prav tako nima prijateljev\, in resničnem škratu SINDRIJU. Z njuno pomočjo se bo spoprijela z novimi izzivi in spoznala moč prijateljstva.
URL:https://visitpivka.si/dogodek/skrat-nov-zacetek-skrzat-nowy-poczatek/
LOCATION:Kino Pivka\, Prečna ulica 1\, Pivka\, Slovenija\, 6257\, Slovenia
CATEGORIES:Kino
ATTACH;FMTTYPE=image/jpeg:https://visitpivka.si/wp-content/uploads/2026/02/KPIVKA-1920x1080-skrat.jpg
ORGANIZER;CN="Kino Pivka":MAILTO:kino.pivka@pivka.si
END:VEVENT
BEGIN:VEVENT
DTSTART;TZID=UTC:20260221T190000
DTEND;TZID=UTC:20260221T210000
DTSTAMP:20260425T011504
CREATED:20260210T102318Z
LAST-MODIFIED:20260210T102318Z
UID:31639-1771700400-1771707600@visitpivka.si
SUMMARY:Umri\, ljubezen moja/ Die My Love
DESCRIPTION:Lynne Ramsay / Velika Britanija\, Kanada\, ZDA / 2024 / 119 min / angleščina \nPoetičen\, surov portret ženske\, ujete v vrtinec ljubezni in norosti. Film Lynne Ramsay (Pogovoriti se morava o Kevinu) je Jennifer Lawrence poleg kritiške hvale prinesel nominacijo za zlati globus za najboljšo igralko v drami. \nzgodba \nMlad\, zaljubljen par se iz New Yorka preseli v osamljeno hišo na podeželju. Po rojstvu otroka pa se v njej nekaj spremeni ter sproži nemir\, ki jo pripelje na rob norosti …
URL:https://visitpivka.si/dogodek/umri-ljubezen-moja-die-my-love/
LOCATION:Kino Pivka\, Prečna ulica 1\, Pivka\, Slovenija\, 6257\, Slovenia
CATEGORIES:Kino
ATTACH;FMTTYPE=image/jpeg:https://visitpivka.si/wp-content/uploads/2026/02/KPIVKA-1920x1080-umriljubezenmoja.jpg
ORGANIZER;CN="Kino Pivka":MAILTO:kino.pivka@pivka.si
END:VEVENT
END:VCALENDAR