BEGIN:VCALENDAR
VERSION:2.0
PRODID:-//VisitPivka - ECPv6.15.20//NONSGML v1.0//EN
CALSCALE:GREGORIAN
METHOD:PUBLISH
X-ORIGINAL-URL:https://visitpivka.si
X-WR-CALDESC:Dogodki za VisitPivka
REFRESH-INTERVAL;VALUE=DURATION:PT1H
X-Robots-Tag:noindex
X-PUBLISHED-TTL:PT1H
BEGIN:VTIMEZONE
TZID:UTC
BEGIN:STANDARD
TZOFFSETFROM:+0000
TZOFFSETTO:+0000
TZNAME:UTC
DTSTART:20240101T000000
END:STANDARD
END:VTIMEZONE
BEGIN:VEVENT
DTSTART;TZID=UTC:20251203T120000
DTEND;TZID=UTC:20251203T130000
DTSTAMP:20260425T102417
CREATED:20251203T094421Z
LAST-MODIFIED:20251203T094421Z
UID:30622-1764763200-1764766800@visitpivka.si
SUMMARY:MED USPEHI\, PORAZI IN ISKANJEM PRAVICE – Zgodba Gašperja Budkoviča
DESCRIPTION:Razstavna pripoved o usodi bohinjskega trgovca\, podjetnika in domoljuba Gašperja Budkoviča\, rojenega leta 1872 v Drskovčah na Pivki\, vas ne bo pustila ravnodušnih. Od učnih začetkov do izjemnega trgovskega in družbenega delovanja ter žalostnega konca s poudarkom na največjih zgodovinskih dogodkih: gradnji bohinjskega predora ter prvi in drugi svetovni vojni. \nSkozi dokumente\, osebne zapise in predmete iz Budkovičeve trgovine boste lahko začutili duh časa ter zgodbo velikega človeka. Razstava je poklon in opomin k premisleku o svobodi\, pravičnosti in človečnosti. \nOdprtje razstave bo na ”TA VESELI DAN KULTURE”\, v sredo\, 3. decembra ob 12. uri v Parku vojaške zgodovine.
URL:https://visitpivka.si/dogodek/med-uspehi-porazi-in-iskanjem-pravice-zgodba-gasperja-budkovica/
LOCATION:Park vojaške zgodovine Pivka\, Kolodvorska cesta 51\, Pivka\, 6257\, Slovenia
CATEGORIES:Razstava
ATTACH;FMTTYPE=image/jpeg:https://visitpivka.si/wp-content/uploads/2025/12/12024_1764069295_ta-veseli-dan-kulture__extrewritewyjwbmcilcj3zwjwil0.jpg
ORGANIZER;CN="Park voja%C5%A1ke zgodovine Pivka":MAILTO:info@parkvojaskezgodovine.si
END:VEVENT
BEGIN:VEVENT
DTSTART;TZID=UTC:20251203T170000
DTEND;TZID=UTC:20251203T190000
DTSTAMP:20260425T102417
CREATED:20251119T144130Z
LAST-MODIFIED:20251119T144130Z
UID:30399-1764781200-1764788400@visitpivka.si
SUMMARY:Modrinov večer: medved\, volk in ris v Alpah
DESCRIPTION:Krajinski park Pivška presihajoča jezera in Dina Pivka vabita na predavanje z naslovom Medved\, volk in ris v Alpah. \nPredaval bo Rok Černe z Zavoda za gozdove Slovenije. Predstavil bo\, kako države alpskega loka upravljajo z velikimi zvermi ter s kakšnimi izzivi se srečujejo. \nPredavanje bo v sredo\, 3. decembra 2025\, ob 17. uri\, v Ekomuzeju Pivških presihajočih jezer. \nDogodek je brezplačen in poteka v okviru projekta LIFE Varna paša.
URL:https://visitpivka.si/dogodek/modrinov-vecer-medved-volk-in-ris-v-alpah/
LOCATION:Ekomuzej Pivških presihajočih jezer\, Slovenska vas 10\, Pivka\, 6257\, Slovenia
CATEGORIES:Predavanje
ATTACH;FMTTYPE=image/jpeg:https://visitpivka.si/wp-content/uploads/2025/11/Medved-volk-in-ris-v-alpah_Rok-Cerne_3.12.2025.jpg
END:VEVENT
BEGIN:VEVENT
DTSTART;TZID=UTC:20251203T180000
DTEND;TZID=UTC:20251203T190000
DTSTAMP:20260425T102417
CREATED:20251107T090602Z
LAST-MODIFIED:20251107T090602Z
UID:30095-1764784800-1764788400@visitpivka.si
SUMMARY:Gnoj je zlato
DESCRIPTION:Regijska razstava Gnoj je zlato\nOdprtje: sreda\, 3. 12. 2025 ob 18. uri\nRazstavljajo: Andreja Penko Požar\, Maja Alessio\, Barbara Cassermann\, Roza Čadež\, Dajana Čok\, Ana Hanzel\, Nivea Kofol\, Erna Kopše\, Neva Macarol\, Ana Marušić\, Matej Pollick\, Blaženka Rocco\, Vesna Štolfa\, Eva Vasilyeva\, Nuša Vivoda.\nZbrane bo nagovorila regijska selektorica\, likovna kritičarka Polona Škodič. Otvoritev bodo glasbeno popestrile pevke zasedbe Tavžent roža.\n\nRazstava bo na ogled do 10.1.2026.
URL:https://visitpivka.si/dogodek/gnoj-je-zlato/
LOCATION:Galerija Krpanov dom Pivka\, Prečna ulica 1\, Pivka\, Slovenia\, 6257\, Slovenia
CATEGORIES:Razstava
ATTACH;FMTTYPE=image/png:https://visitpivka.si/wp-content/uploads/2025/11/PLACILO-MOZNO-SAMO-Z-GOTOVINO.png
END:VEVENT
BEGIN:VEVENT
DTSTART;TZID=UTC:20251203T190000
DTEND;TZID=UTC:20251203T210000
DTSTAMP:20260425T102417
CREATED:20251120T130312Z
LAST-MODIFIED:20251120T130312Z
UID:30576-1764788400-1764795600@visitpivka.si
SUMMARY:Ne čakaj na maj
DESCRIPTION:Ta veseli dan kulture je v Kino Pivka prinesel tudi slovensko klasiko Ne čakaj na maj. \nFrantišek Čap / 1957 / Jugoslavija (Slovenija) \nZgodba: Nadaljevanje filma Vesna. Dekleta se pripravljajo na zimske počitnice v gorah. Vesna se veseli\, da bo z njimi tudi Samo\, a njen fant se mora udeleži gorskih reševalnih vaj. Ko v gorah Vesna na nebu opazuje letala\, ve\, da je v enem od njih tudi Samo. Samo pristane\, a ob njem je lepa Zora. Vesna\, ljubosumna in trmasta\, ob vrnitvi v mesto ne najde miru. A kmalu se vse razjasni\, Samo in Vesna pa poletita z letalom\, da bi uživala v svobodi neba. \nRomantično komedijo iz leta 1957 si bomo ogledali 3. decembra ob 19. uri. Vljudno vabljeni!
URL:https://visitpivka.si/dogodek/ne-cakaj-na-maj/
LOCATION:Kino Pivka\, Prečna ulica 1\, Pivka\, Slovenija\, 6257\, Slovenia
CATEGORIES:Kino
ATTACH;FMTTYPE=image/png:https://visitpivka.si/wp-content/uploads/2025/11/FB-event-covers-202x-14.png
ORGANIZER;CN="Kino Pivka":MAILTO:kino.pivka@pivka.si
END:VEVENT
END:VCALENDAR