BEGIN:VCALENDAR
VERSION:2.0
PRODID:-//VisitPivka - ECPv6.15.20//NONSGML v1.0//EN
CALSCALE:GREGORIAN
METHOD:PUBLISH
X-ORIGINAL-URL:https://visitpivka.si
X-WR-CALDESC:Dogodki za VisitPivka
REFRESH-INTERVAL;VALUE=DURATION:PT1H
X-Robots-Tag:noindex
X-PUBLISHED-TTL:PT1H
BEGIN:VTIMEZONE
TZID:UTC
BEGIN:STANDARD
TZOFFSETFROM:+0000
TZOFFSETTO:+0000
TZNAME:UTC
DTSTART:20240101T000000
END:STANDARD
END:VTIMEZONE
BEGIN:VEVENT
DTSTART;TZID=UTC:20251129T090000
DTEND;TZID=UTC:20251129T150000
DTSTAMP:20260425T123855
CREATED:20251120T115529Z
LAST-MODIFIED:20251120T115529Z
UID:30541-1764406800-1764428400@visitpivka.si
SUMMARY:Sejem smučarske opreme
DESCRIPTION:Hribi okrog nas so že beli – zima je uradno tukaj! \nSmučarski klub Pivka v sodelovanju z Občino Pivka vabi na SEJEM SMUČARSKE OPREME\nPripravi se na sezono ter si priskrbi vse\, kar potrebuješ za brezskrbne užitke na belih strminah. \n𝐒𝐞 𝐯𝐢𝐝𝐢𝐦𝐨 𝐯 𝐬𝐨𝐛𝐨𝐭𝐨\, 𝟐𝟗.𝟏𝟏.𝟐𝟎𝟐𝟓 
URL:https://visitpivka.si/dogodek/sejem-smucarske-opreme/
LOCATION:Krpanov dom Pivka\, Prečna ulica 1\, Pivka\, 6257\, Slovenia
CATEGORIES:Kulturni dogodki
ATTACH;FMTTYPE=image/jpeg:https://visitpivka.si/wp-content/uploads/2025/11/585555312_1584705745931782_8775311192046180336_n-e1763639576723.jpg
END:VEVENT
BEGIN:VEVENT
DTSTART;TZID=UTC:20251129T190000
DTEND;TZID=UTC:20251129T210000
DTSTAMP:20260425T123855
CREATED:20251120T105110Z
LAST-MODIFIED:20251120T105110Z
UID:30491-1764442800-1764450000@visitpivka.si
SUMMARY:Letni koncert MePZ Pivka
DESCRIPTION:MePZ Pivka vabi na letni koncert\, ki bo potekal v soboto\, 29.11.2025 ob 19. uri v Krpanovem domu v Pivki.Gostje bodo Ženska vokalna skupina Zimzelen iz Nove Gorice. Vstop je prost!
URL:https://visitpivka.si/dogodek/letni-koncert-mepz-pivka/
LOCATION:Krpanov dom Pivka\, Prečna ulica 1\, Pivka\, 6257\, Slovenia
CATEGORIES:Koncert
ATTACH;FMTTYPE=image/jpeg:https://visitpivka.si/wp-content/uploads/2025/11/580472189_1271143318378273_4972838850238042284_n.jpg
END:VEVENT
END:VCALENDAR