BEGIN:VCALENDAR
VERSION:2.0
PRODID:-//VisitPivka - ECPv6.15.20//NONSGML v1.0//EN
CALSCALE:GREGORIAN
METHOD:PUBLISH
X-ORIGINAL-URL:https://visitpivka.si
X-WR-CALDESC:Dogodki za VisitPivka
REFRESH-INTERVAL;VALUE=DURATION:PT1H
X-Robots-Tag:noindex
X-PUBLISHED-TTL:PT1H
BEGIN:VTIMEZONE
TZID:UTC
BEGIN:STANDARD
TZOFFSETFROM:+0000
TZOFFSETTO:+0000
TZNAME:UTC
DTSTART:20240101T000000
END:STANDARD
END:VTIMEZONE
BEGIN:VEVENT
DTSTART;TZID=UTC:20251128T190000
DTEND;TZID=UTC:20251128T210000
DTSTAMP:20260425T141917
CREATED:20251119T141301Z
LAST-MODIFIED:20251119T141301Z
UID:30374-1764356400-1764363600@visitpivka.si
SUMMARY:Gora se ne bo premaknila
DESCRIPTION:Petra Seliškar / Slovenija\, Severna Makedonija\, Francija / 2025 / 91 min / podnapisi\, makedonščina\, albanščina \nDokumentarni film spremlja tri brate\, ki vsako leto več mesecev preživijo v makedonskih gorah\, kjer skrbijo za družinsko čredo. Njihovi spremljevalci so številni ovčarski psi\, s katerimi so tesno povezani. Sčasoma pa se bratje vseeno začnejo spraševati: kdo pravzaprav so? Kakšna prihodnost jih čaka? \nVsako leto trije bratje – Zekir\, Zarif in Zani – preživijo več mesecev v makedonskih gorah\, kjer skrbijo za družinsko čredo. Starejša brata\, Zekir in Zarif\, vodita ovce na višjih pašnikih\, medtem ko mlajši\, Zani\, ostaja v nižje ležeči koči in skrbi za krave. Na nadmorski višini 2400 metrov\, daleč stran od kakršne koli skupnosti ali družbe\, bratje živijo svobodno\, a negotovo življenje\, polno trdega dela\, pa tudi preprostih iger\, druženja in veselja. Poleg precej mlajših bratcev\, ki jih Zekir skuša naučiti pastirskega poklica\, in mlajše sestre\, ki občasno obišče Zanija\, so njihovi edini spremljevalci številni ovčarski psi\, s katerimi so tesno povezani. Sčasoma pa se bratje vseeno začnejo spraševati: kdo pravzaprav so? Jim bo uspelo živeti kot pastirji? Bodo našli dekle\, ki jih bo sprejelo? Kakšna prihodnost jih čaka? Ko napetosti med Zekirom in Zarifom naraščajo\, si Zarif vse bolj želi spremembe v svojem življenju.
URL:https://visitpivka.si/dogodek/gora-se-ne-bo-premaknila/
LOCATION:Kino Pivka\, Prečna ulica 1\, Pivka\, Slovenija\, 6257\, Slovenia
CATEGORIES:Kino
ATTACH;FMTTYPE=image/jpeg:https://visitpivka.si/wp-content/uploads/2024/12/Drazen-14.12.2024.jpg
ORGANIZER;CN="Kino Pivka":MAILTO:kino.pivka@pivka.si
END:VEVENT
END:VCALENDAR