BEGIN:VCALENDAR
VERSION:2.0
PRODID:-//VisitPivka - ECPv6.15.20//NONSGML v1.0//EN
CALSCALE:GREGORIAN
METHOD:PUBLISH
X-WR-CALNAME:VisitPivka
X-ORIGINAL-URL:https://visitpivka.si
X-WR-CALDESC:Dogodki za VisitPivka
REFRESH-INTERVAL;VALUE=DURATION:PT1H
X-Robots-Tag:noindex
X-PUBLISHED-TTL:PT1H
BEGIN:VTIMEZONE
TZID:UTC
BEGIN:STANDARD
TZOFFSETFROM:+0000
TZOFFSETTO:+0000
TZNAME:UTC
DTSTART:20240101T000000
END:STANDARD
END:VTIMEZONE
BEGIN:VEVENT
DTSTART;TZID=UTC:20251122T100000
DTEND;TZID=UTC:20251122T233000
DTSTAMP:20260426T001330
CREATED:20251120T132031Z
LAST-MODIFIED:20251120T132031Z
UID:30587-1763805600-1763854200@visitpivka.si
SUMMARY:Tisk zabava / Print Party
DESCRIPTION:Razstava Faze; rejv umetnika Matica Flajsa predstavlja grafična in slikarska dela\, kjer je poudarek na procesu ustvarjanja. Čeprav je v grafiki končno delo odtis\, je umetnik želel izpostaviti celoten proces nastajanja grafike\, ki se lahko zaključi v katerikoli fazi. Poleg tega je na razstavi prisotna tudi uporaba fluorescentne barve v grafiki\, ki jo umetnik povezuje z rejv zabavo. \nZ otroci si bomo najprej skupaj ogledali razstavo\, se o njej pogovorili\, nato pa se lotili ustvarjanja. Izdelali bomo grafiko v tehniki globokega tiska z motivi\, ki se navezujejo na zabavo. Za izziv si bomo vzeli tudi inkorporacijo roza barve\, ki jo bodo otroci zmešali sami. \nDelavnica traja 1 uro 30 minut. Primerna je za otroke od 6. leta dalje.\nDelavnica je brezplačna\, nanjo se je potrebno prijaviti na e-naslov hkpivka@gmail.com ali telefonsko številko 040 372 702.
URL:https://visitpivka.si/dogodek/tisk-zabava-print-party/
LOCATION:Hiša kulture v Pivki\, Snežniška cesta 2\, Pivka\, 6257\, Slovenia
CATEGORIES:Delavnice
ATTACH;FMTTYPE=image/jpeg:https://visitpivka.si/wp-content/uploads/2025/11/flajs_faze_rejv-e1763644712561.jpg
END:VEVENT
BEGIN:VEVENT
DTSTART;TZID=UTC:20251122T160000
DTEND;TZID=UTC:20251122T180000
DTSTAMP:20260426T001330
CREATED:20251119T140020Z
LAST-MODIFIED:20251119T140020Z
UID:30368-1763827200-1763834400@visitpivka.si
SUMMARY:Ozi: Glas gozda / Ozi: Voice of the Forest
DESCRIPTION:Tim Harper / Združeno kraljestvo / 2023 / 83 min / sinh.\n\nOzi\, drobna in radovedna orangutanka\, bo v svetu naredila korenito spremembo!\n\nV svetu\, ki ga ogroža krčenje gozdov\, se živahna in mlada orangutanka po imenu Ozi poda na epsko pustolovščino\, da bi rešila svoj gozdni dom. Ko njeni družini uničijo dom\, se Ozi poda na drzno odpravo\, da bi jih ponovno združila\, pri tem pa se sooča z nevarnimi izzivi in ​​na poti splete malo nevsakdanja prijateljstva. Na svojem potovanju Ozi odkrije pravo moč svojega glasu in izjemen vpliv besed\, v katere verjame. Z vztrajnostjo in novim smislom Ozi sproži globalno gibanje za zaščito našega sveta. V očarljivi zgodbi o pogumu\, upanju in neomajnem človeškem duhu Ozi navdihuje gledalce\, da se pridružijo boju za trajnostno prihodnost in izkoristijo svoj potencial\, da v svetu naredijo spremembo.
URL:https://visitpivka.si/dogodek/ozi-glas-gozda/
LOCATION:Kino Pivka\, Prečna ulica 1\, Pivka\, Slovenija\, 6257\, Slovenia
CATEGORIES:Kino
ATTACH;FMTTYPE=image/jpeg:https://visitpivka.si/wp-content/uploads/2024/12/Jelencek-Niko-3-14.12.2024.jpg
ORGANIZER;CN="Kino Pivka":MAILTO:kino.pivka@pivka.si
END:VEVENT
BEGIN:VEVENT
DTSTART;TZID=UTC:20251122T180000
DTEND;TZID=UTC:20251122T200000
DTSTAMP:20260426T001330
CREATED:20251120T104700Z
LAST-MODIFIED:20251120T104700Z
UID:30478-1763834400-1763841600@visitpivka.si
SUMMARY:Jesenska klasika v barvah 2025
DESCRIPTION:Rotary klub Postojna prireja tradicionalni novembrski dobrodelni koncert Jesenska klasika v barvah\, s katerim bodo zbirali finančna sredstva za dobrodelne projekte in štipendijski sklad kluba. Koncert bo v soboto\, 22. novembra\, ob 18. uri v Kulturnem domu v Postojni\, posvečen bo klasični glasbi\, poleg že uveljavljenih mladih umetnikov\, pa bo nastopilo še Baletno društvo Postojna in učenci Glasbene šole Postojna. Medijski pokrovitelj dogodka je Radio 94\, po koncertu bo sledilo druženje.
URL:https://visitpivka.si/dogodek/jesenska-klasika-v-barvah-2025/
LOCATION:Kulturni dom Postojna
CATEGORIES:Koncert,Kulturni dogodki
ATTACH;FMTTYPE=image/jpeg:https://visitpivka.si/wp-content/uploads/2025/11/580472189_1271143318378273_4972838850238042284_n.jpg
END:VEVENT
BEGIN:VEVENT
DTSTART;TZID=UTC:20251122T190000
DTEND;TZID=UTC:20251122T210000
DTSTAMP:20260426T001330
CREATED:20251119T140509Z
LAST-MODIFIED:20251119T140509Z
UID:30370-1763838000-1763845200@visitpivka.si
SUMMARY:Ubežnik z višine / Roofman
DESCRIPTION:Derek Cianfrance / ZDA / 2025 / 2 uri 5 min / angleščina\n\nKako daleč bi šli\, da bi se spremenili?\n\nFilm\, ki je posnet po resničnih dogodkih obsojenega roparja in nekdanjega vojaka Jeffreyja Manchesterja\, ko je preko streh vdiral v trgovine in lokale\, je režiral Derek Cianfrance (Otožno valentinovo\, Grehi očetov\, Luč sredi morja)\, kot tudi napisal scenarij skupaj s Kirtom Gunnom.\nKo tat Jeffrey Manchester (upodobi ga Channing Tatum) pobegne iz zapora\, skuša zaživeti na novo\, tako da na skrivaj živi v različnih trgovinah. Ko pa se zaljubi v mati samohranilko Leigh Wainscott (igra jo Kirsten Dunst)\, njegova kriminalna preteklost grozi\, da bo uničila novo življenje\, ki si ga je ustvaril.\n\nV glavnih vlogah igrajo Channing Tatum\, Kirsten Dunst\, Ben Mendelsohn\, Peter Dinklage\, Uzo Aduba\, Juno Temple\, Emory Cohen\, LaKeith Stanfield\, Melonie Diaz\, Molly Price\, Lily Collias\, Tony Revolori\, Jimmy O. Yang in drugi.
URL:https://visitpivka.si/dogodek/ubeznik-z-visine/
LOCATION:Kino Pivka\, Prečna ulica 1\, Pivka\, Slovenija\, 6257\, Slovenia
CATEGORIES:Kino
ATTACH;FMTTYPE=image/jpeg:https://visitpivka.si/wp-content/uploads/2024/12/Drazen-14.12.2024.jpg
ORGANIZER;CN="Kino Pivka":MAILTO:kino.pivka@pivka.si
END:VEVENT
END:VCALENDAR