BEGIN:VCALENDAR
VERSION:2.0
PRODID:-//VisitPivka - ECPv6.15.20//NONSGML v1.0//EN
CALSCALE:GREGORIAN
METHOD:PUBLISH
X-WR-CALNAME:VisitPivka
X-ORIGINAL-URL:https://visitpivka.si
X-WR-CALDESC:Dogodki za VisitPivka
REFRESH-INTERVAL;VALUE=DURATION:PT1H
X-Robots-Tag:noindex
X-PUBLISHED-TTL:PT1H
BEGIN:VTIMEZONE
TZID:UTC
BEGIN:STANDARD
TZOFFSETFROM:+0000
TZOFFSETTO:+0000
TZNAME:UTC
DTSTART:20240101T000000
END:STANDARD
END:VTIMEZONE
BEGIN:VEVENT
DTSTART;TZID=UTC:20251121T190000
DTEND;TZID=UTC:20251121T210000
DTSTAMP:20260426T015728
CREATED:20251119T135751Z
LAST-MODIFIED:20251119T140114Z
UID:30366-1763751600-1763758800@visitpivka.si
SUMMARY:Oporoka / Amanet 2
DESCRIPTION:Mirza Begović/ Bosna in Hercegovina / 2025 / 109 min /\n\nFilm Oporoka je humorna in čustvena zgodba\, postavljena v bosansko vas in industrijsko Zenico v začetku devetdesetih let prejšnjega stoletja\, ki na edinstven način prikazuje pomen oporoke in posledice njene odsotnosti v lokalni kulturi. Skozi življenja običajnih ljudi film prinaša vrsto manjših konfliktov in nesporazumov o lastnini\, tradiciji in medosebnih odnosih\, kjer stari običaji trčijo z realnostjo\, polno človeških slabosti – hazarderstva\, ogovarjanja\, ljubezni in drobnih tatvin.\n\n​Glavni junak Asad se mora po izgubi očetove dediščine znajti v svetu industrijske Zenice\, gostilne in vsakdanjih težav\, pri čemer mu pomaga njegov najboljši prijatelj Dževad\, šarmanten lik\, ki se sooča z lastnimi težavami in vedno išče bližnjico do rešitve.
URL:https://visitpivka.si/dogodek/oporoka/
LOCATION:Kino Pivka\, Prečna ulica 1\, Pivka\, Slovenija\, 6257\, Slovenia
CATEGORIES:Kino
ATTACH;FMTTYPE=image/jpeg:https://visitpivka.si/wp-content/uploads/2024/12/Drazen-14.12.2024.jpg
ORGANIZER;CN="Kino Pivka":MAILTO:kino.pivka@pivka.si
END:VEVENT
END:VCALENDAR