BEGIN:VCALENDAR
VERSION:2.0
PRODID:-//VisitPivka - ECPv6.15.20//NONSGML v1.0//EN
CALSCALE:GREGORIAN
METHOD:PUBLISH
X-ORIGINAL-URL:https://visitpivka.si
X-WR-CALDESC:Dogodki za VisitPivka
REFRESH-INTERVAL;VALUE=DURATION:PT1H
X-Robots-Tag:noindex
X-PUBLISHED-TTL:PT1H
BEGIN:VTIMEZONE
TZID:UTC
BEGIN:STANDARD
TZOFFSETFROM:+0000
TZOFFSETTO:+0000
TZNAME:UTC
DTSTART:20240101T000000
END:STANDARD
END:VTIMEZONE
BEGIN:VEVENT
DTSTART;TZID=UTC:20251120T170000
DTEND;TZID=UTC:20251120T173000
DTSTAMP:20260426T034719
CREATED:20251007T064754Z
LAST-MODIFIED:20251007T064754Z
UID:29207-1763658000-1763659800@visitpivka.si
SUMMARY:Otroška predstava O VRABČKU\, MIŠKI IN PALAČINKI
DESCRIPTION:Dve spretni palačinkarici med peko izgubita palačinko – in s tem nehote odpreta vrata v čarobni lutkovni svet. Tam živi maslena Palačinka\, ki skupaj z vrabčkom in miško v toplem domu skupaj gospodinijo\, nabirajo hrano in kuhajo. A ko zamenjajo vsakdanje naloge\, pride do nesporazumov in težav… Bo njihovo prijateljstvo vzdržalo?Predstava združuje cirkuške spretnosti in klasično ročno lutkovno igro. Z igrivostjo in humorjem spregovori o sodelovanju\, delu in pomembnosti vsakega člana skupnosti. Namenjena je otrokom in družinam\, ki bodo ob njej hkrati uživali\, se nasmejali – in mogoče še sami zaželeli palačink.\n\nPredstava je primerna za otroke od 3. leta dalje in traja 35 minut.Izvajalec: Hiša otrok in umetnosti\, Zavod Bufeto\n\nPredstava je del cikla otroškega abonmaja Piščanec Peter. Na voljo je še nekaj prostih mest\, tako da se nam lahko pridružite tudi gledalci\, ki se za abonma niste odločili . Nakup vstopnic je mogoč 15 minut pred predstavo na recepciji Krpanovega doma.Vljudno vabljeni!\n\n arhiv Hiša otrok in umetnosti\, Zavod Bufeto
URL:https://visitpivka.si/dogodek/otroska-predstava-o-vrabcku-miski-in-palacinki/
LOCATION:Kino Pivka\, Prečna ulica 1\, Pivka\, Slovenija\, 6257\, Slovenia
CATEGORIES:Otroški abonma
ATTACH;FMTTYPE=image/png:https://visitpivka.si/wp-content/uploads/2025/10/20.-11-o-vrabcku-miski-in-palacinki.png
ORGANIZER;CN="Zavod za turizem Pivka":MAILTO:info@visitpivka.si
END:VEVENT
BEGIN:VEVENT
DTSTART;TZID=UTC:20251120T180000
DTEND;TZID=UTC:20251120T200000
DTSTAMP:20260426T034719
CREATED:20251120T105409Z
LAST-MODIFIED:20251120T105409Z
UID:30494-1763661600-1763668800@visitpivka.si
SUMMARY:60. obletnica Knjižnice Pivka
DESCRIPTION:Letos Knjižnica Pivka\, podružnična enota Mestne knjižnica Postojna\, praznuje 60 let svojega delovanja. Ob tej priložnosti vas vljudno vabimo\, da se nam pridružite na slavnostni prireditvi\, ki bo v četrtek\, 20. novembra\, ob 18. uri v knjižnici v Pivki.\n\nNamen prireditve je osvetliti poslanstvo knjižnice – spodbujanje ljubezni do branja in znanja – ter poudariti\, kako pomembne so podružnične knjižnice v manjših krajih. Te s svojim delovanjem bogatijo življenje skupnosti ter ohranjajo bralno kulturo in lokalno identiteto.\n\nOsrednji trenutek praznovanja bo premierni ogled jubilejnega filma o zgodovini in današnjem utripu naše pivške enote. Prisotne bosta nagovorila župan Občine Pivka Robert Smrdelj in direktor knjižnice Uroš Mlinar\, za glasbeni del bo poskrbel duet Simona in Iana Avsca.\n\nVabljeni\, da se nam pridružite na slavnostni prireditvi\, kjer bomo skupaj obeležili obletnico naše podružnične točke srečevanja\, izobraževanja in kulturne povezanosti.
URL:https://visitpivka.si/dogodek/60-obletnica-knjiznice-pivka/
LOCATION:Knjižnica Pivka
CATEGORIES:Kulturni dogodki
ATTACH;FMTTYPE=image/jpeg:https://visitpivka.si/wp-content/uploads/2025/11/581105266_1270727515099413_5420474170057490817_n.jpg
END:VEVENT
BEGIN:VEVENT
DTSTART;TZID=UTC:20251120T190000
DTEND;TZID=UTC:20251120T210000
DTSTAMP:20260426T034719
CREATED:20251119T135349Z
LAST-MODIFIED:20251119T135349Z
UID:30364-1763665200-1763672400@visitpivka.si
SUMMARY:Romanje / Romeria
DESCRIPTION:Carla Simón / Španija\, Nemčija / 2025 / 112 min / španščina\, katalonščina\nKatalonska režiserka Carla Simón (Poletje 1993\, Alcarràs) znova zakoplje v zgodovino svoje družine\, da bi iz spominov – tako resničnih kot izmišljenih – sestavila zgodbo svojih staršev.\nOsemnajstletna Marina odpotuje v Vigo na atlantski obali\, da bi spoznala družino svojega biološkega očeta. Tako on kot njena mama sta umrla\, ko je bila Marina še čisto majhna. Marinin prihod razburka dolgo zakopana čustva in odpre nezaceljene rane iz preteklosti. Skozi srečanja s člani številčne družine dekle počasi sestavlja razdrobljene in pogosto protislovne spomine na mater in očeta.
URL:https://visitpivka.si/dogodek/romanje/
LOCATION:Kino Pivka\, Prečna ulica 1\, Pivka\, Slovenija\, 6257\, Slovenia
CATEGORIES:Kino
ATTACH;FMTTYPE=image/jpeg:https://visitpivka.si/wp-content/uploads/2024/12/Anora-12.12.2024.jpg
ORGANIZER;CN="Kino Pivka":MAILTO:kino.pivka@pivka.si
END:VEVENT
END:VCALENDAR