BEGIN:VCALENDAR
VERSION:2.0
PRODID:-//VisitPivka - ECPv6.15.20//NONSGML v1.0//EN
CALSCALE:GREGORIAN
METHOD:PUBLISH
X-WR-CALNAME:VisitPivka
X-ORIGINAL-URL:https://visitpivka.si
X-WR-CALDESC:Dogodki za VisitPivka
REFRESH-INTERVAL;VALUE=DURATION:PT1H
X-Robots-Tag:noindex
X-PUBLISHED-TTL:PT1H
BEGIN:VTIMEZONE
TZID:UTC
BEGIN:STANDARD
TZOFFSETFROM:+0000
TZOFFSETTO:+0000
TZNAME:UTC
DTSTART:20240101T000000
END:STANDARD
END:VTIMEZONE
BEGIN:VEVENT
DTSTART;TZID=UTC:20250519T080000
DTEND;TZID=UTC:20250524T160000
DTSTAMP:20260424T224852
CREATED:20250429T142217Z
LAST-MODIFIED:20250429T142217Z
UID:24900-1747641600-1748102400@visitpivka.si
SUMMARY:Doživite naravo skozi umetnost v Pivki - Tematski teden 2025
DESCRIPTION:Zavod za turizem Pivka med 19. in 24. majem 2025 ponovno organizira Tematski teden\, ki bo to leto potekal pod naslovom Doživite naravo skozi umetnost. Z aktivnostmi v tem tednu bomo obeležili več pomembnih mednarodnih dni\, povezanih z naravo in njenim varovanjem – med njimi Mednarodni dan čebel\, Svetovni dan biotske pestrosti in Evropski dan parkov.\nMed 19. in 23. majem bodo v dopoldanskem času potekale številna vodenja in delavnice namenjene vrtčevskim in šolskim skupinam.\n⚠️Na voljo je še nekaj prostih mest za šolske skupine\, prijave sprejemamo preko elektronske pošte info@visitpivka.si \nV soboto\, 24. maja\, vas vabimo\, da se udeležite raznolikih aktivnosti za širšo javnost. \n𝑷𝒓𝒐𝒈𝒓𝒂𝒎 𝒛𝒂 𝒔̌𝒊𝒓𝒔̌𝒐 𝒋𝒂𝒗𝒏𝒐𝒔𝒕 (24. 𝒎𝒂𝒋 2025)\n🌲10.00 – 10.30: Otvoritev dogodka in razstave Paula Veenvlieta Ilustracije narave\n📌Avla in galerija v Krpanovem domu \n🎨11.00 – 13.00: Huda RISanka in kreativna delavnica (maske velikih zveri in taumatrop)*\n📌MMC Krpanov dom \n🎨11.00 – 13.00: Od listja do lista: stripovska pustolovščina*\n📌Ploščad pred KD \n🌲11.00 – 12.00: Javno vodenje: Center DINA*\n📌 Center DINA Pivka \n🎨13.00 – 14.30: Pohajkovanje za radovedneže*\n📌 zbor pred Krpanovim domom \n🌲15.00 – 16.00: Javno vodenje: Ekomuzej*\n📌Ekomuzej Pivških presihajočih jezer \n🌲09.00 – 13.00: Ogled razstave v Hiši kulture\n📌 Hiša kulture v Pivki \n🔥Javni vodenji v Centru DINA in Ekomuzeju sta brezplačni\, vstopnino se obračuna po rednem ceniku. V primeru dodatnih vprašanj smo vam z veseljem na voljo na info@visitpivka.si ali na telefonski številki 030 644 799. \n*obvezne prijave preko Google obrazca. \n🔥Pridržujemo si pravico do spremembe programa. Izvedbo tematskega tedna sponzorira Zavarovalnica Triglav d.d.
URL:https://visitpivka.si/dogodek/tematski-teden/
LOCATION:Ploščad Krpanov dom Pivka\, Prečna ulica 1\, Pivka\, Slovenia\, 6257\, Slovenia
CATEGORIES:Tematski teden
ATTACH;FMTTYPE=image/png:https://visitpivka.si/wp-content/uploads/2025/04/Tematski-teden_FB-event_1.png
ORGANIZER;CN="Zavod za turizem Pivka":MAILTO:info@visitpivka.si
END:VEVENT
BEGIN:VEVENT
DTSTART;TZID=UTC:20250522T200000
DTEND;TZID=UTC:20250522T220000
DTSTAMP:20260424T224852
CREATED:20250513T100012Z
LAST-MODIFIED:20250513T100012Z
UID:25037-1747944000-1747951200@visitpivka.si
SUMMARY:April
DESCRIPTION:Dea Kulumbegashvili / Francija\, Gruzija\, Italija / 2024 / 134 min / gruzijščina \nGruzijska režiserka Dea Kulumbegashvili se po kritiško opevanem in večkrat nagrajenem prvencu Začetek vrača s še eno samosvojo\, vizualno prevzemajočo meditacijo o ženskah\, ujetih v začarani krog patriarhata. Posebna nagrada žirije v Benetkah. \nrežija Dea Kulumbegashvili\, scenarij Dea Kulumbegashvili\, fotografija Arseni Khachaturan\, montaža Jacopo Ramella Pajrin\, glasba Matthew Herbert\, zvok Lars Ginzel\, produkcija Luca Guadagnino\, Ilan Amouyal\, David Zerat\, Francesco Melzi D’Eril\, Archil Gelovani\, Gabriele Moratti\, Alexandra Rossi\, igrajo Ia Sukhitashvili\, Kakha Kintsurashvili\, Merab Ninidze\, Roza Kancheishvili\, Ana Nikolava\, David Beradze\, Sandro Kalandadze\, Tosia Doloiani\, Beka Songulashvili\, distribucija Fivia \nfestivali\, nagrade Benetke (posebna nagrada žirije); Liffe (nagrada svetovnega združenja filmskih kritikov in novinarjev FIPRESCI); Asia Pacific Screen Awards (nagrada za najboljši film\, nagrada za najboljši igralski nastop); San Sebastián (nagrada za najboljši film v sekciji Zabaltegi-Tabakalera); Toronto; Busan; New York; Sundance; London
URL:https://visitpivka.si/dogodek/april/
LOCATION:Kino Pivka\, Prečna ulica 1\, Pivka\, Slovenija\, 6257\, Slovenia
CATEGORIES:Kino
ATTACH;FMTTYPE=image/jpeg:https://visitpivka.si/wp-content/uploads/2024/12/Anora-12.12.2024.jpg
ORGANIZER;CN="Kino Pivka":MAILTO:kino.pivka@pivka.si
END:VEVENT
END:VCALENDAR