BEGIN:VCALENDAR
VERSION:2.0
PRODID:-//VisitPivka - ECPv6.15.20//NONSGML v1.0//EN
CALSCALE:GREGORIAN
METHOD:PUBLISH
X-WR-CALNAME:VisitPivka
X-ORIGINAL-URL:https://visitpivka.si
X-WR-CALDESC:Dogodki za VisitPivka
REFRESH-INTERVAL;VALUE=DURATION:PT1H
X-Robots-Tag:noindex
X-PUBLISHED-TTL:PT1H
BEGIN:VTIMEZONE
TZID:UTC
BEGIN:STANDARD
TZOFFSETFROM:+0000
TZOFFSETTO:+0000
TZNAME:UTC
DTSTART:20240101T000000
END:STANDARD
END:VTIMEZONE
BEGIN:VEVENT
DTSTART;TZID=UTC:20250426T190000
DTEND;TZID=UTC:20250426T210000
DTSTAMP:20260424T205815
CREATED:20250402T150723Z
LAST-MODIFIED:20250402T150803Z
UID:24526-1745694000-1745701200@visitpivka.si
SUMMARY:Kino Volta (dokumentarni)
DESCRIPTION:Martin Turk / Slovenija\, Italija / 2024 / 85 min / italijanščina\, slovenščina\, angleščina \nFilm Martina Turka (Ne pozabi dihati) ni zgodovinski dokumentarec o nastanku kinematografa\, pač pa nostalgično in igrivo obujanje duha ljudi\, ki so bili del zgodbe. \nLeta 1909 so se v Trstu\, glavnem pristanišču Avstro-Ogrskega cesarstva\, štirje pogumni podjetniki sestali z mladim učiteljem angleščine\, Jamesom Joyceom. Ta jim je predlagal\, naj vložijo sredstva v odprtje prvega stalnega kinematografa na Irskem: Kina Volta. \nrežija Martin Turk\, scenarij Martin Turk po motivih istoimenskega eseja Draga Jančarja\, fotografija Darko Herič\, montaža Beppe Leonetti\, glasba August Braatz\, zvok Julij Zornik\, scenografija Elisabetta Ferrandino \, kostumografija Polonca Valentinčič\, maska Angelina Rusin\, produkcija Radovan Mišić (Fabula)\, soprodukcija Marta Zaccaron (Incipit Film)\, RTV Slovenija\, igrajo Danijel Malalan\, Nikla Panizon\, Adriano Giraldi\, Franko Korošec\, Andrea Germani\, Francesco Godina\, Daniel Grimstone\, Rachel Roisin Browne\, Paolo Venier\, distribucija Fabula \nfestivali\, nagrade Trst (svetovna premiera); SEEfest; Filmski festival Bloomsday (nagrada žirije za najboljši celovečerec); DOKUDOC Maribor; Festival slovenskega filma (nagrada Art kino mreže Slovenije za najboljši film)
URL:https://visitpivka.si/dogodek/kino-volta/
LOCATION:Kino Pivka\, Prečna ulica 1\, Pivka\, Slovenija\, 6257\, Slovenia
CATEGORIES:Kino
ATTACH;FMTTYPE=image/jpeg:https://visitpivka.si/wp-content/uploads/2024/12/Drazen-14.12.2024.jpg
ORGANIZER;CN="Kino Pivka":MAILTO:kino.pivka@pivka.si
END:VEVENT
END:VCALENDAR