BEGIN:VCALENDAR
VERSION:2.0
PRODID:-//VisitPivka - ECPv6.15.20//NONSGML v1.0//EN
CALSCALE:GREGORIAN
METHOD:PUBLISH
X-ORIGINAL-URL:https://visitpivka.si
X-WR-CALDESC:Dogodki za VisitPivka
REFRESH-INTERVAL;VALUE=DURATION:PT1H
X-Robots-Tag:noindex
X-PUBLISHED-TTL:PT1H
BEGIN:VTIMEZONE
TZID:UTC
BEGIN:STANDARD
TZOFFSETFROM:+0000
TZOFFSETTO:+0000
TZNAME:UTC
DTSTART:20240101T000000
END:STANDARD
END:VTIMEZONE
BEGIN:VEVENT
DTSTART;TZID=UTC:20250410T190000
DTEND;TZID=UTC:20250410T210000
DTSTAMP:20260424T204255
CREATED:20250402T133334Z
LAST-MODIFIED:20250402T141148Z
UID:24491-1744311600-1744318800@visitpivka.si
SUMMARY:Edina zemlja (dokumentarni)
DESCRIPTION:Basel Adra\, Hamdan Ballal\, Yuval Abraham\, Rachel Szor / Palestina\, Norveška / 2024 / 95 min / hebrejščina\, angleščina\, arabščina \nPalestinski aktivist Basel Adra že več let snema\, kako izraelski okupatorji uničujejo vasi v njegovi domači regiji Masafer Yatta. Med bojem za ohranitev svoje skupnosti splete nepričakovano zavezništvo z izraelskim novinarjem Yuvalom Abrahamom … \nrežija Basel Adra\, Hamdan Ballal\, Yuval Abraham\, Rachel Szor\, scenarij Basel Adra\, Hamdan Ballal\, Yuval Abraham\, Rachel Szor\, fotografija Rachel Szor\, montaža Basel Adra\, Hamdan Ballal\, Yuval Abraham\, Rachel Szor\, glasba Julius Pollux Rothlaender\, zvok Bård Harazi Farbu\, produkcija Fabien Greenberg\, Bård Kjøge Rønning\, Basel Adra\, Hamdan Ballal\, Yuval Abraham\, Rachel Szor\, distribucija Demiurg \nfestivali\, nagrade Berlinale (nagrada občinstva v sekciji Panorama\, nagrada za najboljši dokumentarec); evropska filmska nagrada za najboljši dokumentarec; oskar za najboljši celovečerni dokumentarec; IDFA (nagrada občinstva); CPH:DOX (nagrada občinstva); Visions du Réel (nagrada občinstva); najboljši nefikcijski film po izboru ameriškega Nacionalnega združenja filmskih kritikov; Chicago (nagrada za najboljši dokumentarec); nagrada gotham za najboljši dokumentarec; Palm Springs (nagrada za najboljši dokumentarec); Vancouver (nagrada občinstva); Atene (nagrada za najboljši dokumentarec); Sarajevo (nagrada občinstva za najbolje dokumentarec); FDF Ljubljana
URL:https://visitpivka.si/dogodek/edina-zemlja/
LOCATION:Kino Pivka\, Prečna ulica 1\, Pivka\, Slovenija\, 6257\, Slovenia
CATEGORIES:Kino
ATTACH;FMTTYPE=image/jpeg:https://visitpivka.si/wp-content/uploads/2024/12/Anora-12.12.2024.jpg
ORGANIZER;CN="Kino Pivka":MAILTO:kino.pivka@pivka.si
END:VEVENT
END:VCALENDAR