BEGIN:VCALENDAR
VERSION:2.0
PRODID:-//VisitPivka - ECPv6.15.20//NONSGML v1.0//EN
CALSCALE:GREGORIAN
METHOD:PUBLISH
X-ORIGINAL-URL:https://visitpivka.si
X-WR-CALDESC:Dogodki za VisitPivka
REFRESH-INTERVAL;VALUE=DURATION:PT1H
X-Robots-Tag:noindex
X-PUBLISHED-TTL:PT1H
BEGIN:VTIMEZONE
TZID:UTC
BEGIN:STANDARD
TZOFFSETFROM:+0000
TZOFFSETTO:+0000
TZNAME:UTC
DTSTART:20240101T000000
END:STANDARD
END:VTIMEZONE
BEGIN:VEVENT
DTSTART;TZID=UTC:20250405T160000
DTEND;TZID=UTC:20250405T180000
DTSTAMP:20260424T205901
CREATED:20250402T140520Z
LAST-MODIFIED:20250402T140520Z
UID:24495-1743868800-1743876000@visitpivka.si
SUMMARY:Ponisrček (družinski)
DESCRIPTION:Markus Dietrich / Nemčija\, Belgija / 2023 / 93 min / pripovedovanje v slovenščini\, podnapisi\, nemščina / 8+ \nEnajstletna Anni se ob selitvi iz mesta na podeželje težko znajde. Starša imata veliko dela\, paziti mora mlajšega bratca\, nove sošolke pa so prave nadloge. Še sreča\, da je v razredu tudi Lorenz\, ki ima doma konje. Anni ugotovi\, da se z njimi odlično razume\, morda celo bolje kot z ljudmi. Naleti na neukročenega konja Ponisrčka\, s katerim čuti čarobno povezanost. Toda kmalu zatem je njuno prijateljstvo ogroženo\, saj se nekaj neusmiljenih konjskih tatov loti Ponisrčkove črede. Anne v dogodivščini najde sebe\, nove prijatelje in svoje poslanstvo. \nrežija Markus Dietrich\, scenarij Peter Freund\, fotografija Leah Striker\, montaža Andrea Mertens\, glasba Eloi Ragot\, igrajo Nilam Farooq\, Dieter Hallervorden\, Sophie Lutz\, Christoph Letkowski\, Anna Schudt\, Peter Lohmeyer\, Martha Haberlandt\, Franz Krause\, Amelie Trinks\, Felizia Trub\, producenta Michael Eckelt\, Lennart Lenzing\, distribucija Fivia \nfestivali\, nagrade Schlingel\, Kinolino\, KiKiFe CFF
URL:https://visitpivka.si/dogodek/ponisrcek/
LOCATION:Kino Pivka\, Prečna ulica 1\, Pivka\, Slovenija\, 6257\, Slovenia
CATEGORIES:Kino
ATTACH;FMTTYPE=image/jpeg:https://visitpivka.si/wp-content/uploads/2024/12/Jelencek-Niko-3-14.12.2024.jpg
ORGANIZER;CN="Kino Pivka":MAILTO:kino.pivka@pivka.si
END:VEVENT
BEGIN:VEVENT
DTSTART;TZID=UTC:20250405T190000
DTEND;TZID=UTC:20250405T210000
DTSTAMP:20260424T205901
CREATED:20250402T150014Z
LAST-MODIFIED:20250402T150052Z
UID:24521-1743879600-1743886800@visitpivka.si
SUMMARY:Črna torba (triler)
DESCRIPTION:Steven Soderbergh\, Velika Britanija\, 2025\, 93 min\, vohunska drama / triler \nNaj bo zvest svoji ženi ali državi? Samo vohun izsledi vohuna v novem trilerju z oskarjem nagrajenega režiserja Stevena Soderbergha (Seks\, laži in Videotrakovi\, Erin Brockovich\, Preprodajalci) in izjemno igralsko zasedbo (oskarjevca Cate Blanchett in Michael Fassbender\, Pierce Brosnan idr.). \nGeorge Woodhouse (upodobi ga Michael Fassbender) je eliten britanski obveščevalec\, ki ima samo eno šibkost: neomajno predanost svoji ženi. Ko mu dodelijo občutljivo\, a nujno nalogo izbrskati izdajalca svoje agencije\, ki naj bi s spletnim virusom uničil njen obstoj\, prejme seznam petih osumljencev. Štirje so prijatelji in sodelavci iz agencije. Peta je njegova ljubljena žena Kathryn St. Jean (Cate Blanchett)\, ena izmed najbolj predanih in zaupanja vrednih agentk. \nSled skrivnosti in laži\, po kateri se poda George\, ga pripelje do tarče in vse bolj se zdi\, da je kriva Kathryn. Ko je postavljen pred neizogiben sklep\, se mora odločiti – naj bo zvest svojemu zakonu ali državi? \nFilm elegantno krmari med napetostjo in romantiko\, med zakoncema ostaja veliko neizrečenega. Ima primesi filma Gospod in gospa Smith iz leta 2005 ter odlične akcijske prizore\, podobne tistim iz Bondovih filmov\, obenem pa ne manjka pritajenosti in spletk\, ki smo jih vajeni iz trilogije filmov o Jasonu Bournu in Roninu z Robertom De Nirom in Jeanom Renom iz 90. let.
URL:https://visitpivka.si/dogodek/crna-torba/
LOCATION:Kino Pivka\, Prečna ulica 1\, Pivka\, Slovenija\, 6257\, Slovenia
CATEGORIES:Kino
ATTACH;FMTTYPE=image/jpeg:https://visitpivka.si/wp-content/uploads/2024/12/Drazen-14.12.2024.jpg
ORGANIZER;CN="Kino Pivka":MAILTO:kino.pivka@pivka.si
END:VEVENT
END:VCALENDAR