BEGIN:VCALENDAR
VERSION:2.0
PRODID:-//VisitPivka - ECPv6.15.20//NONSGML v1.0//EN
CALSCALE:GREGORIAN
METHOD:PUBLISH
X-WR-CALNAME:VisitPivka
X-ORIGINAL-URL:https://visitpivka.si
X-WR-CALDESC:Dogodki za VisitPivka
REFRESH-INTERVAL;VALUE=DURATION:PT1H
X-Robots-Tag:noindex
X-PUBLISHED-TTL:PT1H
BEGIN:VTIMEZONE
TZID:UTC
BEGIN:STANDARD
TZOFFSETFROM:+0000
TZOFFSETTO:+0000
TZNAME:UTC
DTSTART:20240101T000000
END:STANDARD
END:VTIMEZONE
BEGIN:VEVENT
DTSTART;TZID=UTC:20250403T190000
DTEND;TZID=UTC:20250403T210000
DTSTAMP:20260424T204215
CREATED:20250402T132427Z
LAST-MODIFIED:20250402T132427Z
UID:24489-1743706800-1743714000@visitpivka.si
SUMMARY:Queer (romantična drama)
DESCRIPTION:Luca Guadagnino / Italija\, ZDA / 2024 / 135 min / španščina\, angleščina \nCiudad de México\, petdeseta leta. William Lee živi samotno življenje sredi majhne skupnosti ameriških izseljencev. Postopa po ulicah\, obiskuje gejevske bare in uživa vse prepovedane substance\, ki mu pridejo pod roke. Ko nekega dne na ulici opazi mladega\, enigmatičnega Eugena Allertona\, se vanj na mah zaljubi. Skupaj se podata na odisejado\, ki ju v iskanju skrivnostne droge popelje vse do ekvadorske džungle … \nrežija Luca Guadagnino\, scenarij Justin Kuritzkes po istoimenskem romanu Williama S. Burroughsa\, fotografija Sayombhu Mukdeeprom \, montaža Marco Costa\, glasba Trent Reznor\, Atticus Ross\, produkcija Lorenzo Mieli\, Luca Guadagnino\, igrajo Daniel Craig\, Drew Starkey\, Jason Schwartzman\, Lesley Manville\, Henrique Zaga\, Drew Droege\, Andra Ursuta\, Ariel Schulman\, Andrés Duprat\, Omar Apollo\, David Lowery\, Lisandro Alonso\, Michaël Borremans\, Michael Kent\, Colin Bates\, Ronia Ava\, distribucija Fivia \nfestivali\, nagrade Benetke; eden desetih najboljših filmov leta po izboru National Board of Review in nagrada za najboljšega igralca; nominacija za zlati globus za najboljšega igralca v drami; nominacija za evropsko filmsko nagrado za najboljšega igralca; Toronto; London; New York
URL:https://visitpivka.si/dogodek/queer/
LOCATION:Kino Pivka\, Prečna ulica 1\, Pivka\, Slovenija\, 6257\, Slovenia
CATEGORIES:Kino
ATTACH;FMTTYPE=image/jpeg:https://visitpivka.si/wp-content/uploads/2024/12/Anora-12.12.2024.jpg
ORGANIZER;CN="Kino Pivka":MAILTO:kino.pivka@pivka.si
END:VEVENT
END:VCALENDAR