BEGIN:VCALENDAR
VERSION:2.0
PRODID:-//VisitPivka - ECPv6.15.20//NONSGML v1.0//EN
CALSCALE:GREGORIAN
METHOD:PUBLISH
X-ORIGINAL-URL:https://visitpivka.si
X-WR-CALDESC:Dogodki za VisitPivka
REFRESH-INTERVAL;VALUE=DURATION:PT1H
X-Robots-Tag:noindex
X-PUBLISHED-TTL:PT1H
BEGIN:VTIMEZONE
TZID:UTC
BEGIN:STANDARD
TZOFFSETFROM:+0000
TZOFFSETTO:+0000
TZNAME:UTC
DTSTART:20240101T000000
END:STANDARD
END:VTIMEZONE
BEGIN:VEVENT
DTSTART;TZID=UTC:20250327T190000
DTEND;TZID=UTC:20250327T210000
DTSTAMP:20260424T223004
CREATED:20250305T071456Z
LAST-MODIFIED:20250305T071456Z
UID:24235-1743102000-1743109200@visitpivka.si
SUMMARY:Seme svetega figovca
DESCRIPTION:Mohammad Rasoulof / Iran\, Nemčija\, Francija / 2024 / 168 min / podnapisi\, perzijščina \nV napetem političnem trilerju\, ki so ga morali snemati skrivaj\, družina postane mikrokozmos sodobnega Irana. Mohammad Rasoulof (Zlo ne obstaja) je film ustvarjal v času\, ko so državo zajeli protesti pod geslom Ženske\, življenje\, svoboda. Posebna nagrada žirije v Cannesu in nominacija za oskarja za najboljši mednarodni celovečerec. \nzgodba\nIman ravno napreduje v preiskovalnega sodnika na revolucionarnem sodišču\, ko v državi izbruhnejo protesti zaradi smrti mladenke v policijskem priporu. Doma njegovi hčerki pretreseni spremljata dogajanje na ulicah\, žena pa se obupano trudi ohraniti mir v družini. Ko Iman nekega dne ugotovi\, da je njegova službena pištola izginila\, začne postajati vse bolj paranoičen … \nrežija Mohammad Rasoulof\, scenarij Mohammad Rasoulof\, fotografija Pooyan Aghababaei\, montaža Andrew Bird\, glasba Karzan Mahmood\, produkcija Mohammad Rasoulof\, Amin Sadraei\, Jean-Christophe Simon\, Mani Tilgner\, Rozita Hendijanian\, igrajo Misagh Zare\, Soheila Golestani\, Mahsa Rostami\, Setareh Maleki\, Niousha Akhshi\, Reza Akhlaghi\, Shiva Ordooei\, Amineh Arani\, distribucija Fivia \nfestivali\, nagrade Cannes (posebna nagrada žirije\, nagrada FIPRESCI\, nagrada ekumenske žirije); San Sebastián (nagrada občinstva za najboljši evropski film); Sydney (nagrada občinstva); najboljši mednarodni film po izboru National Board of Review; Chicago (srebrni hugo za najboljši scenarij); LEFFEST (nagrada za najboljši film); nagrada lumière za najboljšo mednarodno koprodukcijo; nominacije za evropsko filmsko nagrado za najboljši film\, režijo in scenarij; nominacija za nagrado BAFTA za najboljši film v neangleškem jeziku; nominacija za zlati globus za najboljši film v neangleškem jeziku; nominacija za oskarja za najboljši mednarodni film; Locarno; Toronto; Rotterdam; Telluride; New York; Busan; Viennale; Liffe
URL:https://visitpivka.si/dogodek/seme-svetega-figovca/
LOCATION:Kino Pivka\, Prečna ulica 1\, Pivka\, Slovenija\, 6257\, Slovenia
CATEGORIES:Kino
ATTACH;FMTTYPE=image/jpeg:https://visitpivka.si/wp-content/uploads/2024/12/Anora-12.12.2024.jpg
ORGANIZER;CN="Kino Pivka":MAILTO:kino.pivka@pivka.si
END:VEVENT
END:VCALENDAR