BEGIN:VCALENDAR
VERSION:2.0
PRODID:-//VisitPivka - ECPv6.15.20//NONSGML v1.0//EN
CALSCALE:GREGORIAN
METHOD:PUBLISH
X-WR-CALNAME:VisitPivka
X-ORIGINAL-URL:https://visitpivka.si
X-WR-CALDESC:Dogodki za VisitPivka
REFRESH-INTERVAL;VALUE=DURATION:PT1H
X-Robots-Tag:noindex
X-PUBLISHED-TTL:PT1H
BEGIN:VTIMEZONE
TZID:UTC
BEGIN:STANDARD
TZOFFSETFROM:+0000
TZOFFSETTO:+0000
TZNAME:UTC
DTSTART:20240101T000000
END:STANDARD
END:VTIMEZONE
BEGIN:VEVENT
DTSTART;TZID=UTC:20250313T190000
DTEND;TZID=UTC:20250313T210000
DTSTAMP:20260424T222843
CREATED:20250305T070607Z
LAST-MODIFIED:20250305T070607Z
UID:24231-1741892400-1741899600@visitpivka.si
SUMMARY:Samota
DESCRIPTION:Ninna Pálmadóttir / Islandija\, Slovaška\, Francija / 2023 / 75 min / islandščina \nPrvenec islandske režiserke je topla\, a nikoli sentimentalna zgodba o utehi\, ki jo lahko prinese nepričakovano prijateljstvo. \nzgodba \nStari Gunnar živi mirno in preprosto življenje na samotni kmetiji na islandskem podeželju. Nekega dne pa ga obišče možakar s kravato\, ki ga obvesti\, da bo moral zaradi gradnje jezu zapustiti svoj dom. Gunnar stoično sprejme odškodnino\, proda svoje konje in se preseli v mesto. Tam spozna desetletnega Arija\, ki po soseski raznaša časopise. \nrežija Ninna Pálmadóttir\, scenarij Rúnar Rúnarsson\, fotografija Dušan Husár\, montaža Ivor Šonje\, glasba Pétur Þór Benediktsson\, zvok Tihomir Vrbanec\, produkcija Lilja Ósk Snorradóttir\, Hlín Jóhannesdóttir\, Elli Cassata\, Rúnar Rúnarsson\, igrajo Þhröstur Leó Gunnarsson\, Hermann Samúelsson\, Anna Gunndís Guðmundsdóttir\, Hjörtur Jóhann Jónsson\, Jóel Sæmundsson\, distribucija Demiurg \nfestivali\, nagrade Toronto; Peking (nagrada za najboljšega igralca in posebna omemba žirije v sekciji Forward Future); štiri nominacije za nagrado edda Islandske filmske in televizijske akademije\, vključno za najboljši film; Jerevan (posebna omemba žirije); Les Arcs; Zagreb; Talin
URL:https://visitpivka.si/dogodek/samota/
LOCATION:Kino Pivka\, Prečna ulica 1\, Pivka\, Slovenija\, 6257\, Slovenia
CATEGORIES:Kino
ATTACH;FMTTYPE=image/jpeg:https://visitpivka.si/wp-content/uploads/2024/12/Anora-12.12.2024.jpg
ORGANIZER;CN="Kino Pivka":MAILTO:kino.pivka@pivka.si
END:VEVENT
END:VCALENDAR