BEGIN:VCALENDAR
VERSION:2.0
PRODID:-//VisitPivka - ECPv6.15.20//NONSGML v1.0//EN
CALSCALE:GREGORIAN
METHOD:PUBLISH
X-ORIGINAL-URL:https://visitpivka.si
X-WR-CALDESC:Dogodki za VisitPivka
REFRESH-INTERVAL;VALUE=DURATION:PT1H
X-Robots-Tag:noindex
X-PUBLISHED-TTL:PT1H
BEGIN:VTIMEZONE
TZID:UTC
BEGIN:STANDARD
TZOFFSETFROM:+0000
TZOFFSETTO:+0000
TZNAME:UTC
DTSTART:20240101T000000
END:STANDARD
END:VTIMEZONE
BEGIN:VEVENT
DTSTART;TZID=UTC:20250227T190000
DTEND;TZID=UTC:20250227T210000
DTSTAMP:20260424T223044
CREATED:20250131T112146Z
LAST-MODIFIED:20250131T112146Z
UID:23400-1740682800-1740690000@visitpivka.si
SUMMARY:Emilia Perez
DESCRIPTION:Jacques Audiard / Francija / 2024 / 132 min / španščina \nNarkotriler\, drama o spolni tranziciji\, muzikal\, telenovela\, komedija: film Jacquesa Audiarda (Rja in kost\, Dheepan) se tako kot njegova naslovna junakinja izmika oznakam in nenehno spodnaša naša pričakovanja. Eden najbolj nagrajevanih filmov sezone in resen kandidat za oskarje. \nrežija Jacques Audiard\, scenarij Jacques Audiard\, svobodno prirejen po romanu Écoute Borisa Razona\, fotografija Paul Guilhaume\, montaža Juliette Welfling\, glasba Clément Ducol\, Camille\, koreografija Damien Jalet\, scenografija Emmanuelle Duplay\, produkcija Pascal Caucheteux\, Jacques Audiard\, Valérie Schermann\, Anthony Vaccarello\, igrajo Zoe Saldaña\, Karla Sofía Gascón\, Selena Gomez\, Adriana Paz\, Édgar Ramírez\, Mark Ivanir\, Eduardo Aladro\, Emiliano Edmundo Hasan Jalil\, distribucija Fivia \nfestivali\, nagrade Cannes (nagrada žirije\, skupinska nagrada za najboljšo igralko); evropska filmska nagrada za najboljši film\, režiserja\, scenarista\, igralko in montažo; zlati globus za najboljši muzikal ali komedijo\, film v neangleškem jeziku\, stransko igralko in izvirno pesem; eden desetih najboljših filmov leta 2024 po izboru Ameriškega filmskega inštituta; francoski kandidat za oskarja; Telluride; Toronto; San Sebastián; Busan; London; Viennale; Liffe
URL:https://visitpivka.si/dogodek/emilia-perez/
LOCATION:Kino Pivka\, Prečna ulica 1\, Pivka\, Slovenija\, 6257\, Slovenia
CATEGORIES:Kino
ATTACH;FMTTYPE=image/jpeg:https://visitpivka.si/wp-content/uploads/2024/12/Drazen-14.12.2024.jpg
ORGANIZER;CN="Kino Pivka":MAILTO:kino.pivka@pivka.si
END:VEVENT
END:VCALENDAR